BEGIN:VCALENDAR
VERSION:2.0
PRODID:-//MERA - ECPv6.15.11//NONSGML v1.0//EN
CALSCALE:GREGORIAN
METHOD:PUBLISH
X-ORIGINAL-URL:https://meraschoolhouse.org
X-WR-CALDESC:Events for MERA
REFRESH-INTERVAL;VALUE=DURATION:PT1H
X-Robots-Tag:noindex
X-PUBLISHED-TTL:PT1H
BEGIN:VTIMEZONE
TZID:America/Toronto
BEGIN:DAYLIGHT
TZOFFSETFROM:-0500
TZOFFSETTO:-0400
TZNAME:EDT
DTSTART:20250309T070000
END:DAYLIGHT
BEGIN:STANDARD
TZOFFSETFROM:-0400
TZOFFSETTO:-0500
TZNAME:EST
DTSTART:20251102T060000
END:STANDARD
BEGIN:DAYLIGHT
TZOFFSETFROM:-0500
TZOFFSETTO:-0400
TZNAME:EDT
DTSTART:20260308T070000
END:DAYLIGHT
BEGIN:STANDARD
TZOFFSETFROM:-0400
TZOFFSETTO:-0500
TZNAME:EST
DTSTART:20261101T060000
END:STANDARD
BEGIN:DAYLIGHT
TZOFFSETFROM:-0500
TZOFFSETTO:-0400
TZNAME:EDT
DTSTART:20270314T070000
END:DAYLIGHT
BEGIN:STANDARD
TZOFFSETFROM:-0400
TZOFFSETTO:-0500
TZNAME:EST
DTSTART:20271107T060000
END:STANDARD
END:VTIMEZONE
BEGIN:VEVENT
DTSTART;TZID=America/Toronto:20260316T090000
DTEND;TZID=America/Toronto:20260320T150000
DTSTAMP:20260420T062148
CREATED:20260227T013103Z
LAST-MODIFIED:20260227T013104Z
UID:10002127-1773651600-1774018800@meraschoolhouse.org
SUMMARY:MERA's March Break Art Camp!
DESCRIPTION:MERA’s March Break Art Camp Returns! \nMERA is offering a March Break Art Camp for children ages 5 to 12. The camp will take place March 16th to 20th\, 9am to 3pm and offers a dynamic environment where young artists are encouraged to explore their unique voices through a variety of mediums and techniques. Over the course of the camp\, each child will have the opportunity to experiment with different materials such as watercolors\, acrylic\, collage\, sculpture\, and mixed media\, allowing them to discover which tools best express their personal creativity. Our focus is on fostering individual expression and building confidence in their artistic abilities. Children will learn not only the fundamentals of art but also how to communicate their thoughts\, feelings\, and ideas visually. With guidance and support\, they will develop their skills in a fun\, collaborative atmosphere\, embracing the joy of self-expression through art.  \nThis year camp will be run by Heather Vriends\, mother of 4\, Jill of all trades\, artist\, cook\, and experienced child care provider. She will be supported by her daughter Finnlee Vriends\, and daughter-in-law MJ MacLeod. Both experienced and capable young artists. We’re so very excited to see what creations our young friends come up with this year! \nThe camp fees are $240 per child for MERA members or $300 per child for non- members.   Please note: grandchildren of MERA members are entitled to members’ rate. Bursaries are available. Please inquire. To register\, please contact meraschoolhouse@gmail.com
URL:https://meraschoolhouse.org/event/meras-march-break-art-camp-2-2/
CATEGORIES:Art camp
ATTACH;FMTTYPE=image/jpeg:https://meraschoolhouse.org/wp-content/uploads/2026/02/unnamed-14-scaled.jpg
END:VEVENT
BEGIN:VEVENT
DTSTART;TZID=America/Toronto:20260318T130000
DTEND;TZID=America/Toronto:20260318T150000
DTSTAMP:20260420T062148
CREATED:20240624T183411Z
LAST-MODIFIED:20250907T203006Z
UID:10000996-1773838800-1773846000@meraschoolhouse.org
SUMMARY:Pottery Studio
DESCRIPTION:Meetings Space: Pottery Studio (basement) \nContact Person: Heather Vriends
URL:https://meraschoolhouse.org/event/pottery-studio-101/2026-03-18/
LOCATION:MERA Schoolhouse\,  McDonald’s Corners
CATEGORIES:Pottery
END:VEVENT
BEGIN:VEVENT
DTSTART;TZID=America/Toronto:20260318T130000
DTEND;TZID=America/Toronto:20260318T160000
DTSTAMP:20260420T062148
CREATED:20240624T183412Z
LAST-MODIFIED:20250907T203212Z
UID:10001117-1773838800-1773849600@meraschoolhouse.org
SUMMARY:MERA's Needle Pushers
DESCRIPTION:  \nMeeting Space: MERA Room \nContact Person: Bonnie McQuatt \nWe welcome anyone who might have new techniques or designs to share or perhaps just has a desire to try something new. \nMost of the fun of quilting is being with the people we quilt with. Newcomers learn by doing. If you would like to try quilting with us we will share our supplies with you until you figure out if quilting is your thing or not. The requirements for quilting are minimal. Those who have a portable sewing machine\, rotary cutter and mat will bring that equipment when we are starting a quilt and we work together cutting out the pattern and assembling the quilt. Once the hand quilting begins each person needs their own thimble\, scissors and quilting needles. \n 
URL:https://meraschoolhouse.org/event/meras-needle-pushers-50/2026-03-18/
CATEGORIES:Quilting
END:VEVENT
END:VCALENDAR