BEGIN:VCALENDAR
VERSION:2.0
PRODID:-//MERA - ECPv6.15.11//NONSGML v1.0//EN
CALSCALE:GREGORIAN
METHOD:PUBLISH
X-WR-CALNAME:MERA
X-ORIGINAL-URL:https://meraschoolhouse.org
X-WR-CALDESC:Events for MERA
REFRESH-INTERVAL;VALUE=DURATION:PT1H
X-Robots-Tag:noindex
X-PUBLISHED-TTL:PT1H
BEGIN:VTIMEZONE
TZID:America/Toronto
BEGIN:DAYLIGHT
TZOFFSETFROM:-0500
TZOFFSETTO:-0400
TZNAME:EDT
DTSTART:20250309T070000
END:DAYLIGHT
BEGIN:STANDARD
TZOFFSETFROM:-0400
TZOFFSETTO:-0500
TZNAME:EST
DTSTART:20251102T060000
END:STANDARD
BEGIN:DAYLIGHT
TZOFFSETFROM:-0500
TZOFFSETTO:-0400
TZNAME:EDT
DTSTART:20260308T070000
END:DAYLIGHT
BEGIN:STANDARD
TZOFFSETFROM:-0400
TZOFFSETTO:-0500
TZNAME:EST
DTSTART:20261101T060000
END:STANDARD
BEGIN:DAYLIGHT
TZOFFSETFROM:-0500
TZOFFSETTO:-0400
TZNAME:EDT
DTSTART:20270314T070000
END:DAYLIGHT
BEGIN:STANDARD
TZOFFSETFROM:-0400
TZOFFSETTO:-0500
TZNAME:EST
DTSTART:20271107T060000
END:STANDARD
END:VTIMEZONE
BEGIN:VEVENT
DTSTART;TZID=America/Toronto:20260703T100000
DTEND;TZID=America/Toronto:20260703T120000
DTSTAMP:20260420T104958
CREATED:20240624T183412Z
LAST-MODIFIED:20250930T223943Z
UID:10001904-1783072800-1783080000@meraschoolhouse.org
SUMMARY:Art Circle
DESCRIPTION:Join us and  learn from and be inspired by what others in the group are working on. There is plenty of time to work on your own piece and also trade ideas and techniques with others in a casual way.
URL:https://meraschoolhouse.org/event/art-circle-51/2026-07-03/
LOCATION:MERA Schoolhouse\,  McDonald’s Corners
CATEGORIES:Art,Art circle
END:VEVENT
END:VCALENDAR