BEGIN:VCALENDAR
VERSION:2.0
PRODID:-//MERA - ECPv6.15.11//NONSGML v1.0//EN
CALSCALE:GREGORIAN
METHOD:PUBLISH
X-WR-CALNAME:MERA
X-ORIGINAL-URL:https://meraschoolhouse.org
X-WR-CALDESC:Events for MERA
REFRESH-INTERVAL;VALUE=DURATION:PT1H
X-Robots-Tag:noindex
X-PUBLISHED-TTL:PT1H
BEGIN:VTIMEZONE
TZID:America/Toronto
BEGIN:DAYLIGHT
TZOFFSETFROM:-0500
TZOFFSETTO:-0400
TZNAME:EDT
DTSTART:20230312T070000
END:DAYLIGHT
BEGIN:STANDARD
TZOFFSETFROM:-0400
TZOFFSETTO:-0500
TZNAME:EST
DTSTART:20231105T060000
END:STANDARD
BEGIN:DAYLIGHT
TZOFFSETFROM:-0500
TZOFFSETTO:-0400
TZNAME:EDT
DTSTART:20240310T070000
END:DAYLIGHT
BEGIN:STANDARD
TZOFFSETFROM:-0400
TZOFFSETTO:-0500
TZNAME:EST
DTSTART:20241103T060000
END:STANDARD
BEGIN:DAYLIGHT
TZOFFSETFROM:-0500
TZOFFSETTO:-0400
TZNAME:EDT
DTSTART:20250309T070000
END:DAYLIGHT
BEGIN:STANDARD
TZOFFSETFROM:-0400
TZOFFSETTO:-0500
TZNAME:EST
DTSTART:20251102T060000
END:STANDARD
BEGIN:DAYLIGHT
TZOFFSETFROM:-0500
TZOFFSETTO:-0400
TZNAME:EDT
DTSTART:20260308T070000
END:DAYLIGHT
BEGIN:STANDARD
TZOFFSETFROM:-0400
TZOFFSETTO:-0500
TZNAME:EST
DTSTART:20261101T060000
END:STANDARD
BEGIN:DAYLIGHT
TZOFFSETFROM:-0500
TZOFFSETTO:-0400
TZNAME:EDT
DTSTART:20270314T070000
END:DAYLIGHT
BEGIN:STANDARD
TZOFFSETFROM:-0400
TZOFFSETTO:-0500
TZNAME:EST
DTSTART:20271107T060000
END:STANDARD
END:VTIMEZONE
BEGIN:VEVENT
DTSTART;TZID=America/Toronto:20260307T090000
DTEND;TZID=America/Toronto:20260307T170000
DTSTAMP:20260419T081726
CREATED:20260127T153026Z
LAST-MODIFIED:20260127T153048Z
UID:10002107-1772874000-1772902800@meraschoolhouse.org
SUMMARY:Private Rental
DESCRIPTION:March 7\, 2026 9am-5pm\nLocation: Dean Hall\nContact: Ankaret Dean and Melissa Cornacchia
URL:https://meraschoolhouse.org/event/private-rental-4/
CATEGORIES:Administration
END:VEVENT
BEGIN:VEVENT
DTSTART;TZID=America/Toronto:20240806T130000
DTEND;TZID=America/Toronto:20240806T170000
DTSTAMP:20260419T081726
CREATED:20240624T000617Z
LAST-MODIFIED:20250221T163642Z
UID:10000005-1722949200-1722963600@meraschoolhouse.org
SUMMARY:Board meeting
DESCRIPTION:Meeting of the MERA board members
URL:https://meraschoolhouse.org/event/board-meeting/
LOCATION:MERA Schoolhouse\,  McDonald’s Corners
CATEGORIES:Administration
END:VEVENT
BEGIN:VEVENT
DTSTART;TZID=America/Toronto:20240723T050000
DTEND;TZID=America/Toronto:20240723T070000
DTSTAMP:20260419T081726
CREATED:20240624T183342Z
LAST-MODIFIED:20240624T185242Z
UID:10000053-1721710800-1721718000@meraschoolhouse.org
SUMMARY:Closed for Cleaning
DESCRIPTION:
URL:https://meraschoolhouse.org/event/closed-for-cleaning-5/
CATEGORIES:Administration
END:VEVENT
END:VCALENDAR