BEGIN:VCALENDAR
VERSION:2.0
PRODID:-//MERA - ECPv6.15.11//NONSGML v1.0//EN
CALSCALE:GREGORIAN
METHOD:PUBLISH
X-WR-CALNAME:MERA
X-ORIGINAL-URL:https://meraschoolhouse.org
X-WR-CALDESC:Events for MERA
REFRESH-INTERVAL;VALUE=DURATION:PT1H
X-Robots-Tag:noindex
X-PUBLISHED-TTL:PT1H
BEGIN:VTIMEZONE
TZID:America/Toronto
BEGIN:DAYLIGHT
TZOFFSETFROM:-0500
TZOFFSETTO:-0400
TZNAME:EDT
DTSTART:20230312T070000
END:DAYLIGHT
BEGIN:STANDARD
TZOFFSETFROM:-0400
TZOFFSETTO:-0500
TZNAME:EST
DTSTART:20231105T060000
END:STANDARD
BEGIN:DAYLIGHT
TZOFFSETFROM:-0500
TZOFFSETTO:-0400
TZNAME:EDT
DTSTART:20240310T070000
END:DAYLIGHT
BEGIN:STANDARD
TZOFFSETFROM:-0400
TZOFFSETTO:-0500
TZNAME:EST
DTSTART:20241103T060000
END:STANDARD
BEGIN:DAYLIGHT
TZOFFSETFROM:-0500
TZOFFSETTO:-0400
TZNAME:EDT
DTSTART:20250309T070000
END:DAYLIGHT
BEGIN:STANDARD
TZOFFSETFROM:-0400
TZOFFSETTO:-0500
TZNAME:EST
DTSTART:20251102T060000
END:STANDARD
END:VTIMEZONE
BEGIN:VEVENT
DTSTART;TZID=America/Toronto:20241118T100000
DTEND;TZID=America/Toronto:20241118T140000
DTSTAMP:20260419T181929
CREATED:20240624T183351Z
LAST-MODIFIED:20240624T185639Z
UID:10000231-1731924000-1731938400@meraschoolhouse.org
SUMMARY:Homeschool Group
DESCRIPTION:Contact Person: Heather Vriends
URL:https://meraschoolhouse.org/event/homeschool-group-20/
CATEGORIES:Homeschool
END:VEVENT
BEGIN:VEVENT
DTSTART;TZID=America/Toronto:20241111T100000
DTEND;TZID=America/Toronto:20241111T140000
DTSTAMP:20260419T181929
CREATED:20240624T183350Z
LAST-MODIFIED:20240624T185639Z
UID:10000221-1731319200-1731333600@meraschoolhouse.org
SUMMARY:Homeschool Group
DESCRIPTION:Contact Person: Heather Vriends
URL:https://meraschoolhouse.org/event/homeschool-group-19/
CATEGORIES:Homeschool
END:VEVENT
BEGIN:VEVENT
DTSTART;TZID=America/Toronto:20241104T100000
DTEND;TZID=America/Toronto:20241104T140000
DTSTAMP:20260419T181929
CREATED:20240624T183349Z
LAST-MODIFIED:20240624T185639Z
UID:10000210-1730714400-1730728800@meraschoolhouse.org
SUMMARY:Homeschool Group
DESCRIPTION:Contact Person: Heather Vriends
URL:https://meraschoolhouse.org/event/homeschool-group-18/
CATEGORIES:Homeschool
END:VEVENT
BEGIN:VEVENT
DTSTART;TZID=America/Toronto:20241028T100000
DTEND;TZID=America/Toronto:20241028T140000
DTSTAMP:20260419T181929
CREATED:20240624T183349Z
LAST-MODIFIED:20240624T185639Z
UID:10000200-1730109600-1730124000@meraschoolhouse.org
SUMMARY:Homeschool Group
DESCRIPTION:Contact Person: Heather Vriends
URL:https://meraschoolhouse.org/event/homeschool-group-17/
CATEGORIES:Homeschool
END:VEVENT
BEGIN:VEVENT
DTSTART;TZID=America/Toronto:20241021T100000
DTEND;TZID=America/Toronto:20241021T140000
DTSTAMP:20260419T181929
CREATED:20240624T183348Z
LAST-MODIFIED:20240624T185639Z
UID:10000189-1729504800-1729519200@meraschoolhouse.org
SUMMARY:Homeschool Group
DESCRIPTION:Contact Person: Heather Vriends
URL:https://meraschoolhouse.org/event/homeschool-group-16/
CATEGORIES:Homeschool
END:VEVENT
BEGIN:VEVENT
DTSTART;TZID=America/Toronto:20241014T100000
DTEND;TZID=America/Toronto:20241014T140000
DTSTAMP:20260419T181929
CREATED:20240624T183348Z
LAST-MODIFIED:20240624T185639Z
UID:10000178-1728900000-1728914400@meraschoolhouse.org
SUMMARY:Homeschool Group
DESCRIPTION:Contact Person: Heather Vriends
URL:https://meraschoolhouse.org/event/homeschool-group-15/
CATEGORIES:Homeschool
END:VEVENT
BEGIN:VEVENT
DTSTART;TZID=America/Toronto:20241007T100000
DTEND;TZID=America/Toronto:20241007T140000
DTSTAMP:20260419T181929
CREATED:20240624T183347Z
LAST-MODIFIED:20240624T185639Z
UID:10000168-1728295200-1728309600@meraschoolhouse.org
SUMMARY:Homeschool Group
DESCRIPTION:Contact Person: Heather Vriends
URL:https://meraschoolhouse.org/event/homeschool-group-14/
CATEGORIES:Homeschool
END:VEVENT
BEGIN:VEVENT
DTSTART;TZID=America/Toronto:20240930T100000
DTEND;TZID=America/Toronto:20240930T140000
DTSTAMP:20260419T181929
CREATED:20240624T183346Z
LAST-MODIFIED:20240624T185639Z
UID:10000157-1727690400-1727704800@meraschoolhouse.org
SUMMARY:Homeschool Group
DESCRIPTION:Contact Person: Heather Vriends
URL:https://meraschoolhouse.org/event/homeschool-group-13/
CATEGORIES:Homeschool
END:VEVENT
BEGIN:VEVENT
DTSTART;TZID=America/Toronto:20240923T100000
DTEND;TZID=America/Toronto:20240923T140000
DTSTAMP:20260419T181929
CREATED:20240624T183346Z
LAST-MODIFIED:20240624T185639Z
UID:10000147-1727085600-1727100000@meraschoolhouse.org
SUMMARY:Homeschool Group
DESCRIPTION:Contact Person: Heather Vriends
URL:https://meraschoolhouse.org/event/homeschool-group-12/
CATEGORIES:Homeschool
END:VEVENT
BEGIN:VEVENT
DTSTART;TZID=America/Toronto:20240916T100000
DTEND;TZID=America/Toronto:20240916T140000
DTSTAMP:20260419T181929
CREATED:20240624T183345Z
LAST-MODIFIED:20240624T185639Z
UID:10000135-1726480800-1726495200@meraschoolhouse.org
SUMMARY:Homeschool Group
DESCRIPTION:Contact Person: Heather Vriends
URL:https://meraschoolhouse.org/event/homeschool-group-11/
CATEGORIES:Homeschool
END:VEVENT
BEGIN:VEVENT
DTSTART;TZID=America/Toronto:20240909T100000
DTEND;TZID=America/Toronto:20240909T140000
DTSTAMP:20260419T181929
CREATED:20240624T183345Z
LAST-MODIFIED:20240624T185639Z
UID:10000125-1725876000-1725890400@meraschoolhouse.org
SUMMARY:Homeschool Group
DESCRIPTION:Contact Person: Heather Vriends
URL:https://meraschoolhouse.org/event/homeschool-group-10/
CATEGORIES:Homeschool
END:VEVENT
BEGIN:VEVENT
DTSTART;TZID=America/Toronto:20240902T100000
DTEND;TZID=America/Toronto:20240902T140000
DTSTAMP:20260419T181929
CREATED:20240624T183344Z
LAST-MODIFIED:20240624T185639Z
UID:10000113-1725271200-1725285600@meraschoolhouse.org
SUMMARY:Homeschool Group
DESCRIPTION:Contact Person: Heather Vriends
URL:https://meraschoolhouse.org/event/homeschool-group-9/
CATEGORIES:Homeschool
END:VEVENT
BEGIN:VEVENT
DTSTART;TZID=America/Toronto:20240826T100000
DTEND;TZID=America/Toronto:20240826T140000
DTSTAMP:20260419T181929
CREATED:20240624T183344Z
LAST-MODIFIED:20240624T185639Z
UID:10000102-1724666400-1724680800@meraschoolhouse.org
SUMMARY:Homeschool Group
DESCRIPTION:Contact Person: Heather Vriends
URL:https://meraschoolhouse.org/event/homeschool-group-8/
CATEGORIES:Homeschool
END:VEVENT
BEGIN:VEVENT
DTSTART;TZID=America/Toronto:20240819T100000
DTEND;TZID=America/Toronto:20240819T140000
DTSTAMP:20260419T181929
CREATED:20240624T183343Z
LAST-MODIFIED:20240730T025834Z
UID:10000090-1724061600-1724076000@meraschoolhouse.org
SUMMARY:Homeschool Group
DESCRIPTION:Contact Person: Heather Vriends
URL:https://meraschoolhouse.org/event/homeschool-group-7/
CATEGORIES:Homeschool
ATTACH;FMTTYPE=image/jpeg:https://meraschoolhouse.org/wp-content/uploads/2021/01/circleclassroomonelementaryschoolplaygroundjpg.jpg
END:VEVENT
BEGIN:VEVENT
DTSTART;TZID=America/Toronto:20240805T100000
DTEND;TZID=America/Toronto:20240805T140000
DTSTAMP:20260419T181929
CREATED:20240624T183342Z
LAST-MODIFIED:20240624T185639Z
UID:10000071-1722852000-1722866400@meraschoolhouse.org
SUMMARY:Homeschool Group
DESCRIPTION:Contact Person: Heather Vriends
URL:https://meraschoolhouse.org/event/homeschool-group-6/
CATEGORIES:Homeschool
END:VEVENT
BEGIN:VEVENT
DTSTART;TZID=America/Toronto:20240729T100000
DTEND;TZID=America/Toronto:20240729T140000
DTSTAMP:20260419T181929
CREATED:20240624T183342Z
LAST-MODIFIED:20240624T185639Z
UID:10000061-1722247200-1722261600@meraschoolhouse.org
SUMMARY:Homeschool Group
DESCRIPTION:Contact Person: Heather Vriends
URL:https://meraschoolhouse.org/event/homeschool-group-5/
CATEGORIES:Homeschool
END:VEVENT
BEGIN:VEVENT
DTSTART;TZID=America/Toronto:20240722T100000
DTEND;TZID=America/Toronto:20240722T140000
DTSTAMP:20260419T181929
CREATED:20240624T183342Z
LAST-MODIFIED:20240624T185639Z
UID:10000051-1721642400-1721656800@meraschoolhouse.org
SUMMARY:Homeschool Group
DESCRIPTION:Contact Person: Heather Vriends
URL:https://meraschoolhouse.org/event/homeschool-group-4/
CATEGORIES:Homeschool
END:VEVENT
BEGIN:VEVENT
DTSTART;TZID=America/Toronto:20240715T100000
DTEND;TZID=America/Toronto:20240715T140000
DTSTAMP:20260419T181929
CREATED:20240624T183341Z
LAST-MODIFIED:20240624T185639Z
UID:10000039-1721037600-1721052000@meraschoolhouse.org
SUMMARY:Homeschool Group
DESCRIPTION:Contact Person: Heather Vriends
URL:https://meraschoolhouse.org/event/homeschool-group-3/
CATEGORIES:Homeschool
END:VEVENT
BEGIN:VEVENT
DTSTART;TZID=America/Toronto:20240701T100000
DTEND;TZID=America/Toronto:20240701T140000
DTSTAMP:20260419T181929
CREATED:20240624T183340Z
LAST-MODIFIED:20240624T185639Z
UID:10000017-1719828000-1719842400@meraschoolhouse.org
SUMMARY:Homeschool Group
DESCRIPTION:Contact Person: Heather Vriends
URL:https://meraschoolhouse.org/event/homeschool-group-2/
CATEGORIES:Art,Homeschool,Weaving
END:VEVENT
BEGIN:VEVENT
DTSTART;TZID=America/Toronto:20240624T100000
DTEND;TZID=America/Toronto:20240624T140000
DTSTAMP:20260419T181929
CREATED:20240624T183339Z
LAST-MODIFIED:20240624T185639Z
UID:10000006-1719223200-1719237600@meraschoolhouse.org
SUMMARY:Homeschool Group
DESCRIPTION:Contact Person: Heather Vriends
URL:https://meraschoolhouse.org/event/homeschool-group/
CATEGORIES:Homeschool
END:VEVENT
END:VCALENDAR