BEGIN:VCALENDAR
VERSION:2.0
PRODID:-//MERA - ECPv6.15.11//NONSGML v1.0//EN
CALSCALE:GREGORIAN
METHOD:PUBLISH
X-WR-CALNAME:MERA
X-ORIGINAL-URL:https://meraschoolhouse.org
X-WR-CALDESC:Events for MERA
REFRESH-INTERVAL;VALUE=DURATION:PT1H
X-Robots-Tag:noindex
X-PUBLISHED-TTL:PT1H
BEGIN:VTIMEZONE
TZID:America/Toronto
BEGIN:DAYLIGHT
TZOFFSETFROM:-0500
TZOFFSETTO:-0400
TZNAME:EDT
DTSTART:20250309T070000
END:DAYLIGHT
BEGIN:STANDARD
TZOFFSETFROM:-0400
TZOFFSETTO:-0500
TZNAME:EST
DTSTART:20251102T060000
END:STANDARD
BEGIN:DAYLIGHT
TZOFFSETFROM:-0500
TZOFFSETTO:-0400
TZNAME:EDT
DTSTART:20260308T070000
END:DAYLIGHT
BEGIN:STANDARD
TZOFFSETFROM:-0400
TZOFFSETTO:-0500
TZNAME:EST
DTSTART:20261101T060000
END:STANDARD
BEGIN:DAYLIGHT
TZOFFSETFROM:-0500
TZOFFSETTO:-0400
TZNAME:EDT
DTSTART:20270314T070000
END:DAYLIGHT
BEGIN:STANDARD
TZOFFSETFROM:-0400
TZOFFSETTO:-0500
TZNAME:EST
DTSTART:20271107T060000
END:STANDARD
END:VTIMEZONE
BEGIN:VEVENT
DTSTART;TZID=America/Toronto:20260524T140000
DTEND;TZID=America/Toronto:20260524T160000
DTSTAMP:20260421T211633
CREATED:20251127T135929Z
LAST-MODIFIED:20260108T234153Z
UID:10002102-1779631200-1779638400@meraschoolhouse.org
SUMMARY:Music at MERA: The Donné Roberts Band
DESCRIPTION:Born in Madagascar\, raised and educated in Moscow\, Donné Roberts was already a musician fluent in Malagasy\, Russian\, French and English by the time he arrived in Canada in 1999. His performances and recordings with the Juno winning African Guitar Summit from 2004 to 2007 gained him wider exposure and appreciation. As part of the Okavango African Orchestra\, Donné was again awarded a Juno Award for World Music Album of the Year in 2017. All the while\, Donné has been a busy musician\, touring with his own band\, and releasing multiple albums including Juno nominated “OYA!” in 2022. His growing success caught the attention of CBC Radio\, who commissioned him to compose the theme music for their popular morning Sunday morning show Fresh Air. \nDonné is an active collaborator with notables such as the Sultans of String\, Amanda Martinez and Toronto-based Japanese singer-songwriter Kiiola\, with whom he performs in the aptly named duo Baobab Cherry. Although much of Donné’s own music is written and sung in his first language\, Malagasy\, his versatility and natural ability to synthesize from his wide experience allow him to create music that is always dynamic\, accessible and fun. Prepare yourself for a lively afternoon with Donné and his band consisting of guitar\, keyboard\, bass\, percussion and multiple vocals. \nMuch like Madagascar music is infused with African\, Austronesian\, Arabic and European influences\, Donné Roberts’ music is a delicious mélange of international sonic flavours. Eric Alper\, March 4th\, 2022 – Cashbox Magazine Canada \nAbove everything else\, Roberts aims for his musical concoctions to be a source of hope and joy. Darryl Sterdan\, March 2\, 2022 – Tinnitist \nCLICK HERE for more information and video about Donné Roberts \nTickets are available at TicketsPlease.ca \nThanks to the generous support of the Ontario Arts Council we are able to offer a $20 discount to those 30 years and under\, and if they wish\, an additional $20 discount for their “guest” of any age. \nRegular – 31 years & older: $35 plus fees\nDiscount Single – 30 years & under: $15 plus fees\nDiscount Pair – 30 years & under with guest of any age (2 tickets): $30 plus fees \nFunding support provided by the Ontario Arts Council and the Government of Ontario
URL:https://meraschoolhouse.org/event/music-at-mera-the-donne-roberts-band/
LOCATION:MERA Schoolhouse\,  McDonald’s Corners
CATEGORIES:Folk music,Music
ATTACH;FMTTYPE=image/jpeg:https://meraschoolhouse.org/wp-content/uploads/2025/12/DonneRoberts-1.jpg
END:VEVENT
END:VCALENDAR