BEGIN:VCALENDAR
VERSION:2.0
PRODID:-//MERA - ECPv6.15.11//NONSGML v1.0//EN
CALSCALE:GREGORIAN
METHOD:PUBLISH
X-WR-CALNAME:MERA
X-ORIGINAL-URL:https://meraschoolhouse.org
X-WR-CALDESC:Events for MERA
REFRESH-INTERVAL;VALUE=DURATION:PT1H
X-Robots-Tag:noindex
X-PUBLISHED-TTL:PT1H
BEGIN:VTIMEZONE
TZID:America/Toronto
BEGIN:DAYLIGHT
TZOFFSETFROM:-0500
TZOFFSETTO:-0400
TZNAME:EDT
DTSTART:20250309T070000
END:DAYLIGHT
BEGIN:STANDARD
TZOFFSETFROM:-0400
TZOFFSETTO:-0500
TZNAME:EST
DTSTART:20251102T060000
END:STANDARD
BEGIN:DAYLIGHT
TZOFFSETFROM:-0500
TZOFFSETTO:-0400
TZNAME:EDT
DTSTART:20260308T070000
END:DAYLIGHT
BEGIN:STANDARD
TZOFFSETFROM:-0400
TZOFFSETTO:-0500
TZNAME:EST
DTSTART:20261101T060000
END:STANDARD
BEGIN:DAYLIGHT
TZOFFSETFROM:-0500
TZOFFSETTO:-0400
TZNAME:EDT
DTSTART:20270314T070000
END:DAYLIGHT
BEGIN:STANDARD
TZOFFSETFROM:-0400
TZOFFSETTO:-0500
TZNAME:EST
DTSTART:20271107T060000
END:STANDARD
END:VTIMEZONE
BEGIN:VEVENT
DTSTART;TZID=America/Toronto:20260612T130000
DTEND;TZID=America/Toronto:20260612T141500
DTSTAMP:20260420T093356
CREATED:20251016T140402Z
LAST-MODIFIED:20251016T140402Z
UID:10001969-1781269200-1781273700@meraschoolhouse.org
SUMMARY:Recorder Consort
DESCRIPTION:The MERA Recorder Consort is an ongoing\, flexible group of players. We meet regularly\, playing intermediate level music in 2-5 parts\, soprano\, alto\, tenor and bass. We play for our own enjoyment\, and we sometimes play for a MERA event such as the Wassail. \nIf you already read music and play the recorder\, we would love you to join this group of enthusiastic amateur players\, with teacher Helen Mogford providing guidance and music. We have a 75 minute class most Fridays.
URL:https://meraschoolhouse.org/event/recorder-consort-51/2026-06-12/
LOCATION:MERA Schoolhouse\,  McDonald’s Corners
CATEGORIES:Recorder
END:VEVENT
END:VCALENDAR