BEGIN:VCALENDAR
VERSION:2.0
PRODID:-//MERA - ECPv6.15.11//NONSGML v1.0//EN
CALSCALE:GREGORIAN
METHOD:PUBLISH
X-WR-CALNAME:MERA
X-ORIGINAL-URL:https://meraschoolhouse.org
X-WR-CALDESC:Events for MERA
REFRESH-INTERVAL;VALUE=DURATION:PT1H
X-Robots-Tag:noindex
X-PUBLISHED-TTL:PT1H
BEGIN:VTIMEZONE
TZID:America/Toronto
BEGIN:DAYLIGHT
TZOFFSETFROM:-0500
TZOFFSETTO:-0400
TZNAME:EDT
DTSTART:20240310T070000
END:DAYLIGHT
BEGIN:STANDARD
TZOFFSETFROM:-0400
TZOFFSETTO:-0500
TZNAME:EST
DTSTART:20241103T060000
END:STANDARD
BEGIN:DAYLIGHT
TZOFFSETFROM:-0500
TZOFFSETTO:-0400
TZNAME:EDT
DTSTART:20250309T070000
END:DAYLIGHT
BEGIN:STANDARD
TZOFFSETFROM:-0400
TZOFFSETTO:-0500
TZNAME:EST
DTSTART:20251102T060000
END:STANDARD
BEGIN:DAYLIGHT
TZOFFSETFROM:-0500
TZOFFSETTO:-0400
TZNAME:EDT
DTSTART:20260308T070000
END:DAYLIGHT
BEGIN:STANDARD
TZOFFSETFROM:-0400
TZOFFSETTO:-0500
TZNAME:EST
DTSTART:20261101T060000
END:STANDARD
END:VTIMEZONE
BEGIN:VEVENT
DTSTART;TZID=America/Toronto:20250515T120000
DTEND;TZID=America/Toronto:20250515T160000
DTSTAMP:20260419T175004
CREATED:20240624T183409Z
LAST-MODIFIED:20250310T200953Z
UID:10000499-1747310400-1747324800@meraschoolhouse.org
SUMMARY:Heritage Weavers
DESCRIPTION:Meeting Place: Dean Hall \nContact Person: Lise Loader
URL:https://meraschoolhouse.org/event/heritage-weavers-90/
CATEGORIES:Weaving
END:VEVENT
BEGIN:VEVENT
DTSTART;TZID=America/Toronto:20250514T130000
DTEND;TZID=America/Toronto:20250514T160000
DTSTAMP:20260419T175004
CREATED:20240624T183409Z
LAST-MODIFIED:20240828T183314Z
UID:10000498-1747227600-1747238400@meraschoolhouse.org
SUMMARY:MERA's Needle Pushers
DESCRIPTION:Meeting Space: MERA Room \nContact Person: Bonnie McQuatt \nWe welcome anyone who might have new techniques or designs to shareor perhaps just has a desire to try something new. \n \nMostof the fun of quilting is being with the people we quilt with. Newcomers learnby doing. If you would like to try quilting with us we will share our supplieswith you until you figure out if quilting is your thing or not. Therequirements for quilting are minimal. Those who have a portable sewingmachine\, rotary cutter and mat will bring that equipment when we are starting aquilt and we work together cutting out the pattern and assembling the quilt.Once the hand quilting begins each person needs their own thimble\, scissors andquilting needles.
URL:https://meraschoolhouse.org/event/meras-needle-pushers-45/
CATEGORIES:Quilting
END:VEVENT
BEGIN:VEVENT
DTSTART;TZID=America/Toronto:20250514T130000
DTEND;TZID=America/Toronto:20250514T150000
DTSTAMP:20260419T175004
CREATED:20240624T183409Z
LAST-MODIFIED:20250310T201639Z
UID:10000497-1747227600-1747234800@meraschoolhouse.org
SUMMARY:Pottery Studio
DESCRIPTION:Meetings Space: Pottery Studio (basement) \nContact Person: Heather Vriends
URL:https://meraschoolhouse.org/event/pottery-studio-95/
CATEGORIES:Pottery
END:VEVENT
BEGIN:VEVENT
DTSTART;TZID=America/Toronto:20250513T130000
DTEND;TZID=America/Toronto:20250513T150000
DTSTAMP:20260419T175004
CREATED:20240624T183409Z
LAST-MODIFIED:20250310T201639Z
UID:10000496-1747141200-1747148400@meraschoolhouse.org
SUMMARY:Pottery Studio
DESCRIPTION:Meeting Space: Pottery Studio (basement) \nContact Person: Jan Griffiths \nWe are a joyfulgroup of potters who share space\, tools and experience in the basement of theMERA schoolhouse. We are organized as a co-operative\, sharing responsibilityfor making our studio a fun\, open\, supportive and safe place to enjoy creatingworks in clay both on and away from the wheel. Each studio member is encouragedto participate in both individual and collective projects\, to contribute tostudio maintenance tasks\, and to teach and learn from the other potters. MERApotters also organize learning and teaching opportunities in the form ofin-house workshops and sessions led by professional potters and contribute tothe Annual MERA Christmas Fair.
URL:https://meraschoolhouse.org/event/pottery-studio-94/
CATEGORIES:Pottery
END:VEVENT
BEGIN:VEVENT
DTSTART;TZID=America/Toronto:20250513T050000
DTEND;TZID=America/Toronto:20250513T070000
DTSTAMP:20260419T175004
CREATED:20240624T183409Z
LAST-MODIFIED:20240624T183409Z
UID:10000495-1747112400-1747119600@meraschoolhouse.org
SUMMARY:Closed for Cleaning
DESCRIPTION:
URL:https://meraschoolhouse.org/event/closed-for-cleaning-47/
END:VEVENT
BEGIN:VEVENT
DTSTART;TZID=America/Toronto:20250512T130000
DTEND;TZID=America/Toronto:20250512T160000
DTSTAMP:20260419T175004
CREATED:20240624T183409Z
LAST-MODIFIED:20250310T200953Z
UID:10000494-1747054800-1747065600@meraschoolhouse.org
SUMMARY:Heritage Weavers
DESCRIPTION:Meeting Place: Dean Hall \nContact Person: Lise Loader \n \nThis collective has expanded significantly from a core group over the last few years\, to the point where space and equipment have become limiting factors. There are now 7 looms of various sizes and styles at MERA. Several of these looms are set up with extra-long warps which become cooperative projects that various members work on when they can.\nThe weavers gather to plan and work on projects and are available to share ideas\, advice and enthusiasm with each other and newer weavers. It’s an apprentice-like learn-as-you-go environment suited to those who have taken an introduction to weaving weekend workshop at a guild. MERA has on occasion had enough interest to hold such a workshop\, but there is none planned this fall. \nAs with all groups at the schoolhouse\, you must have a MERA membership to become a regular member of the MERA Heritage Weavers. \nView Gallery & History \nCheck out the 2018 MERA Weavers Exhibition: Still Weaving After 20 Years
URL:https://meraschoolhouse.org/event/heritage-weavers-89/
CATEGORIES:Weaving
END:VEVENT
BEGIN:VEVENT
DTSTART;TZID=America/Toronto:20250512T100000
DTEND;TZID=America/Toronto:20250512T140000
DTSTAMP:20260419T175004
CREATED:20240624T183409Z
LAST-MODIFIED:20240624T183409Z
UID:10000493-1747044000-1747058400@meraschoolhouse.org
SUMMARY:Homeschool Group
DESCRIPTION:Contact Person: Heather Vriends
URL:https://meraschoolhouse.org/event/homeschool-group-45/
END:VEVENT
BEGIN:VEVENT
DTSTART;TZID=America/Toronto:20250509T130000
DTEND;TZID=America/Toronto:20250509T143000
DTSTAMP:20260419T175004
CREATED:20240624T183408Z
LAST-MODIFIED:20240827T181259Z
UID:10000492-1746795600-1746801000@meraschoolhouse.org
SUMMARY:Recorder Consort
DESCRIPTION:
URL:https://meraschoolhouse.org/event/recorder-consort-44/
CATEGORIES:Recorder
END:VEVENT
BEGIN:VEVENT
DTSTART;TZID=America/Toronto:20250509T100000
DTEND;TZID=America/Toronto:20250509T120000
DTSTAMP:20260419T175004
CREATED:20240624T183408Z
LAST-MODIFIED:20240824T053748Z
UID:10000491-1746784800-1746792000@meraschoolhouse.org
SUMMARY:Art Circle
DESCRIPTION:
URL:https://meraschoolhouse.org/event/art-circle-45/
CATEGORIES:Art,Art circle
END:VEVENT
BEGIN:VEVENT
DTSTART;TZID=America/Toronto:20250508T150000
DTEND;TZID=America/Toronto:20250508T170000
DTSTAMP:20260419T175004
CREATED:20240624T183408Z
LAST-MODIFIED:20250310T201639Z
UID:10000490-1746716400-1746723600@meraschoolhouse.org
SUMMARY:Pottery Studio - Homeschoolers
DESCRIPTION:Meeting Space: Pottery Studio (basement) \nContact Person: Heather Vriends
URL:https://meraschoolhouse.org/event/pottery-studio-homeschoolers-45/
CATEGORIES:Pottery
END:VEVENT
BEGIN:VEVENT
DTSTART;TZID=America/Toronto:20250508T120000
DTEND;TZID=America/Toronto:20250508T160000
DTSTAMP:20260419T175004
CREATED:20240624T183408Z
LAST-MODIFIED:20250310T200953Z
UID:10000489-1746705600-1746720000@meraschoolhouse.org
SUMMARY:Heritage Weavers
DESCRIPTION:Meeting Place: Dean Hall \nContact Person: Lise Loader
URL:https://meraschoolhouse.org/event/heritage-weavers-88/
CATEGORIES:Weaving
END:VEVENT
BEGIN:VEVENT
DTSTART;TZID=America/Toronto:20250507T130000
DTEND;TZID=America/Toronto:20250507T160000
DTSTAMP:20260419T175004
CREATED:20240624T183408Z
LAST-MODIFIED:20240828T183314Z
UID:10000488-1746622800-1746633600@meraschoolhouse.org
SUMMARY:MERA's Needle Pushers
DESCRIPTION:Meeting Space: MERA Room \nContact Person: Bonnie McQuatt \nWe welcome anyone who might have new techniques or designs to shareor perhaps just has a desire to try something new. \n \nMostof the fun of quilting is being with the people we quilt with. Newcomers learnby doing. If you would like to try quilting with us we will share our supplieswith you until you figure out if quilting is your thing or not. Therequirements for quilting are minimal. Those who have a portable sewingmachine\, rotary cutter and mat will bring that equipment when we are starting aquilt and we work together cutting out the pattern and assembling the quilt.Once the hand quilting begins each person needs their own thimble\, scissors andquilting needles.
URL:https://meraschoolhouse.org/event/meras-needle-pushers-44/
CATEGORIES:Quilting
END:VEVENT
BEGIN:VEVENT
DTSTART;TZID=America/Toronto:20250507T130000
DTEND;TZID=America/Toronto:20250507T150000
DTSTAMP:20260419T175004
CREATED:20240624T183408Z
LAST-MODIFIED:20250310T201721Z
UID:10000487-1746622800-1746630000@meraschoolhouse.org
SUMMARY:Pottery Studio
DESCRIPTION:Meetings Space: Pottery Studio (basement) \nContact Person: Heather Vriends
URL:https://meraschoolhouse.org/event/pottery-studio-93/
CATEGORIES:Pottery
END:VEVENT
BEGIN:VEVENT
DTSTART;TZID=America/Toronto:20250506T190000
DTEND;TZID=America/Toronto:20250506T200000
DTSTAMP:20260419T175004
CREATED:20240624T183408Z
LAST-MODIFIED:20250221T163642Z
UID:10000486-1746558000-1746561600@meraschoolhouse.org
SUMMARY:Board Meeting
DESCRIPTION:
URL:https://meraschoolhouse.org/event/board-meeting-12/
END:VEVENT
BEGIN:VEVENT
DTSTART;TZID=America/Toronto:20250506T130000
DTEND;TZID=America/Toronto:20250506T150000
DTSTAMP:20260419T175004
CREATED:20240624T183408Z
LAST-MODIFIED:20250310T201721Z
UID:10000485-1746536400-1746543600@meraschoolhouse.org
SUMMARY:Pottery Studio
DESCRIPTION:Meeting Space: Pottery Studio (basement) \nContact Person: Jan Griffiths \nWe are a joyfulgroup of potters who share space\, tools and experience in the basement of theMERA schoolhouse. We are organized as a co-operative\, sharing responsibilityfor making our studio a fun\, open\, supportive and safe place to enjoy creatingworks in clay both on and away from the wheel. Each studio member is encouragedto participate in both individual and collective projects\, to contribute tostudio maintenance tasks\, and to teach and learn from the other potters. MERApotters also organize learning and teaching opportunities in the form ofin-house workshops and sessions led by professional potters and contribute tothe Annual MERA Christmas Fair.
URL:https://meraschoolhouse.org/event/pottery-studio-92/
CATEGORIES:Pottery
END:VEVENT
BEGIN:VEVENT
DTSTART;TZID=America/Toronto:20250506T050000
DTEND;TZID=America/Toronto:20250506T070000
DTSTAMP:20260419T175004
CREATED:20240624T183408Z
LAST-MODIFIED:20240624T183408Z
UID:10000484-1746507600-1746514800@meraschoolhouse.org
SUMMARY:Closed for Cleaning
DESCRIPTION:
URL:https://meraschoolhouse.org/event/closed-for-cleaning-46/
END:VEVENT
BEGIN:VEVENT
DTSTART;TZID=America/Toronto:20250505T130000
DTEND;TZID=America/Toronto:20250505T160000
DTSTAMP:20260419T175004
CREATED:20240624T183408Z
LAST-MODIFIED:20250310T200953Z
UID:10000483-1746450000-1746460800@meraschoolhouse.org
SUMMARY:Heritage Weavers
DESCRIPTION:Meeting Place: Dean Hall \nContact Person: Lise Loader \nThis collective has expanded significantly from a core group over the last few years. \nThe weavers gather to plan and work on projects and are available to share ideas\, advice and enthusiasm with each other and newer weavers. It’s an apprentice-like learn-as-you-go environment suited to those who have taken an introduction to weaving weekend workshop at a guild. \nWe have 7 looms of various sizes and styles at MERA. Some of these looms are set up with extra-long warps which become cooperative projects that various members work on when they can. \nAs with all groups at the Schoolhouse\, you must have a MERA membership to become a regular member of the MERA Heritage Weavers.
URL:https://meraschoolhouse.org/event/heritage-weavers-87/
CATEGORIES:Weaving
END:VEVENT
BEGIN:VEVENT
DTSTART;TZID=America/Toronto:20250505T100000
DTEND;TZID=America/Toronto:20250505T140000
DTSTAMP:20260419T175004
CREATED:20240624T183408Z
LAST-MODIFIED:20240624T183408Z
UID:10000482-1746439200-1746453600@meraschoolhouse.org
SUMMARY:Homeschool Group
DESCRIPTION:Contact Person: Heather Vriends
URL:https://meraschoolhouse.org/event/homeschool-group-44/
END:VEVENT
BEGIN:VEVENT
DTSTART;TZID=America/Toronto:20250504T140000
DTEND;TZID=America/Toronto:20250504T160000
DTSTAMP:20260419T175004
CREATED:20250221T221111Z
LAST-MODIFIED:20250221T221609Z
UID:10000637-1746367200-1746374400@meraschoolhouse.org
SUMMARY:Music at MERA: The Fugitives
DESCRIPTION:The Fugitives are an acoustic folk-roots group based in Vancouver established in 2007 by songwriters Adrian Glynn and Brendan McLeod. In their present configuration they are joined by banjo player Chris Suen and violinist Carly Frey. Over their first five albums\, they have amassed a JUNO nomination\, numerous CFMA and WCMA nominations\, (most recently 2025 CFMA nominations for English Songwriters and Ensemble) and toured extensively through Canada\, Europe\, and the UK.\nTop-notch musicianship\, strong four part harmonies\, tight arrangements and mature thoughtful lyrics give the Fugitives an energy and dynamic range that has rightfully earned them critical acclaim and a reputation for unforgettable live performances. Highly recommended. Click the link below to see for yourself.\nTickets are $30 plus fees available at TICKETS PLEASE.
URL:https://meraschoolhouse.org/event/music-at-mera-the-fugitives/
LOCATION:MERA Schoolhouse\,  McDonald’s Corners
END:VEVENT
BEGIN:VEVENT
DTSTART;TZID=America/Toronto:20250503T140000
DTEND;TZID=America/Toronto:20250503T160000
DTSTAMP:20260419T175004
CREATED:20250609T212153Z
LAST-MODIFIED:20250610T180330Z
UID:10000642-1746280800-1746288000@meraschoolhouse.org
SUMMARY:Meet the Artist: Suzette MacSkimming
DESCRIPTION:Soul Search: abstract expressions by Suzette MacSkimming \nYou are invited to join Suzette at the MERA Schoolhouse in McDonald’s Corners (974 Dalhousie Concession 9A) on Saturday May 3rd\, 2pm to 4pm to meet the artist\, view her works and purchase that “must have” piece.  \nSoul Search: abstract expressions is an exhibition of new and recent acrylic paintings by Suzette MacSkimming. These works are the latest culmination of a lifelong artistic career\, during which Suzette has explored the endless possibilities of abstract expressionist painting. Working in a tradition that began as an artistic resistance movement\, a desire for new beginnings\, Suzette has evolved her own style of abstraction exploding with vibrant colour and dynamic movement. Her paintings turn the viewer’s imagination loose to run free in a space where inner and outer worlds collide. \nA fine-arts graduate of the University of California at Berkeley\, Suzette studied with many leading west-coast abstract expressionists. After a year travelling in Europe\, she moved to Canada\, studying with Robert Markle and Dennis Burton in Toronto\, and Richard Gorman and Leonard Gherbrandt in Ottawa. \nSuzette’s work has been widely exhibited by galleries\, including Ottawa’s Atrium Gallery at Centrepointe\, Agnes Etherington Art Centre in Kingston\, and successive galleries in Perth\, where she moved in 2002. She has worked in residence at the Contemporary Artists’ Center in North Adams\, Massachusetts\, where she created and exhibited a series of large monoprints. In 2007 fifteen prints from that series were purchased by the Sprott School of Business at Carleton University\, Ottawa\, where they are on permanent display. \nSuzette will also be offering a workshop on Friday May 23rd\, 10:30am to 4pm. $60 for MERA members and $75 for non members. Space is limited. Please register by emailing MERA admin meraschoolhouse@gmail.com
URL:https://meraschoolhouse.org/event/meet-the-artist/
LOCATION:MERA Schoolhouse\,  McDonald’s Corners
CATEGORIES:Art exhibits
ATTACH;FMTTYPE=image/png:https://meraschoolhouse.org/wp-content/uploads/2025/06/Suzette-MacSkimming-0525.png
END:VEVENT
BEGIN:VEVENT
DTSTART;TZID=America/Toronto:20250502T130000
DTEND;TZID=America/Toronto:20250502T143000
DTSTAMP:20260419T175004
CREATED:20240624T183408Z
LAST-MODIFIED:20240827T181259Z
UID:10000481-1746190800-1746196200@meraschoolhouse.org
SUMMARY:Recorder Consort
DESCRIPTION:
URL:https://meraschoolhouse.org/event/recorder-consort-43/
CATEGORIES:Recorder
END:VEVENT
BEGIN:VEVENT
DTSTART;TZID=America/Toronto:20250502T100000
DTEND;TZID=America/Toronto:20250502T120000
DTSTAMP:20260419T175004
CREATED:20240624T183408Z
LAST-MODIFIED:20240824T053748Z
UID:10000480-1746180000-1746187200@meraschoolhouse.org
SUMMARY:Art Circle
DESCRIPTION:
URL:https://meraschoolhouse.org/event/art-circle-44/
CATEGORIES:Art,Art circle
END:VEVENT
BEGIN:VEVENT
DTSTART;TZID=America/Toronto:20250501T150000
DTEND;TZID=America/Toronto:20250501T170000
DTSTAMP:20260419T175004
CREATED:20240624T183407Z
LAST-MODIFIED:20250310T201721Z
UID:10000479-1746111600-1746118800@meraschoolhouse.org
SUMMARY:Pottery Studio - Homeschoolers
DESCRIPTION:Meeting Space: Pottery Studio (basement) \nContact Person: Heather Vriends
URL:https://meraschoolhouse.org/event/pottery-studio-homeschoolers-44/
CATEGORIES:Pottery
END:VEVENT
BEGIN:VEVENT
DTSTART;TZID=America/Toronto:20250501T143000
DTEND;TZID=America/Toronto:20250501T163000
DTSTAMP:20260419T175004
CREATED:20250610T143953Z
LAST-MODIFIED:20250610T144509Z
UID:10000644-1746109800-1746117000@meraschoolhouse.org
SUMMARY:Art Exhibit Installation
DESCRIPTION:Installation of monthly art Exhibit in Dean Hall
URL:https://meraschoolhouse.org/event/art-exhibit-installation-2/
CATEGORIES:Art exhibits
END:VEVENT
BEGIN:VEVENT
DTSTART;TZID=America/Toronto:20250501T120000
DTEND;TZID=America/Toronto:20250501T160000
DTSTAMP:20260419T175004
CREATED:20240624T183407Z
LAST-MODIFIED:20250310T200953Z
UID:10000478-1746100800-1746115200@meraschoolhouse.org
SUMMARY:Heritage Weavers
DESCRIPTION:Meeting Place: Dean Hall \nContact Person: Lise Loader \nThis collective has expanded significantly from a core group over the last few years. \nThe weavers gather to plan and work on projects and are available to share ideas\, advice and enthusiasm with each other and newer weavers. It’s an apprentice-like learn-as-you-go environment suited to those who have taken an introduction to weaving weekend workshop at a guild. \nWe have 7 looms of various sizes and styles at MERA. Some of these looms are set up with extra-long warps which become cooperative projects that various members work on when they can. \nAs with all groups at the Schoolhouse\, you must have a MERA membership to become a regular member of the MERA Heritage Weavers.
URL:https://meraschoolhouse.org/event/heritage-weavers-86/
CATEGORIES:Weaving
END:VEVENT
BEGIN:VEVENT
DTSTART;TZID=America/Toronto:20250430T130000
DTEND;TZID=America/Toronto:20250430T160000
DTSTAMP:20260419T175004
CREATED:20240624T183407Z
LAST-MODIFIED:20240828T183314Z
UID:10000477-1746018000-1746028800@meraschoolhouse.org
SUMMARY:MERA's Needle Pushers
DESCRIPTION:Meeting Space: MERA Room \nContact Person: Bonnie McQuatt \nWe welcome anyone who might have new techniques or designs to shareor perhaps just has a desire to try something new. \n \nMostof the fun of quilting is being with the people we quilt with. Newcomers learnby doing. If you would like to try quilting with us we will share our supplieswith you until you figure out if quilting is your thing or not. Therequirements for quilting are minimal. Those who have a portable sewingmachine\, rotary cutter and mat will bring that equipment when we are starting aquilt and we work together cutting out the pattern and assembling the quilt.Once the hand quilting begins each person needs their own thimble\, scissors andquilting needles.
URL:https://meraschoolhouse.org/event/meras-needle-pushers-43/
CATEGORIES:Quilting
END:VEVENT
BEGIN:VEVENT
DTSTART;TZID=America/Toronto:20250430T130000
DTEND;TZID=America/Toronto:20250430T150000
DTSTAMP:20260419T175004
CREATED:20240624T183407Z
LAST-MODIFIED:20250310T201721Z
UID:10000476-1746018000-1746025200@meraschoolhouse.org
SUMMARY:Pottery Studio
DESCRIPTION:Meetings Space: Pottery Studio (basement) \nContact Person: Heather Vriends
URL:https://meraschoolhouse.org/event/pottery-studio-91/
CATEGORIES:Pottery
END:VEVENT
BEGIN:VEVENT
DTSTART;TZID=America/Toronto:20250429T130000
DTEND;TZID=America/Toronto:20250429T150000
DTSTAMP:20260419T175004
CREATED:20240624T183407Z
LAST-MODIFIED:20250310T201721Z
UID:10000475-1745931600-1745938800@meraschoolhouse.org
SUMMARY:Pottery Studio
DESCRIPTION:Meeting Space: Pottery Studio (basement) \nContact Person: Jan Griffiths \nWe are a joyfulgroup of potters who share space\, tools and experience in the basement of theMERA schoolhouse. We are organized as a co-operative\, sharing responsibilityfor making our studio a fun\, open\, supportive and safe place to enjoy creatingworks in clay both on and away from the wheel. Each studio member is encouragedto participate in both individual and collective projects\, to contribute tostudio maintenance tasks\, and to teach and learn from the other potters. MERApotters also organize learning and teaching opportunities in the form ofin-house workshops and sessions led by professional potters and contribute tothe Annual MERA Christmas Fair.
URL:https://meraschoolhouse.org/event/pottery-studio-90/
CATEGORIES:Pottery
END:VEVENT
BEGIN:VEVENT
DTSTART;TZID=America/Toronto:20250429T050000
DTEND;TZID=America/Toronto:20250429T070000
DTSTAMP:20260419T175004
CREATED:20240624T183407Z
LAST-MODIFIED:20240624T183407Z
UID:10000474-1745902800-1745910000@meraschoolhouse.org
SUMMARY:Closed for Cleaning
DESCRIPTION:
URL:https://meraschoolhouse.org/event/closed-for-cleaning-45/
END:VEVENT
BEGIN:VEVENT
DTSTART;TZID=America/Toronto:20250428T130000
DTEND;TZID=America/Toronto:20250428T160000
DTSTAMP:20260419T175004
CREATED:20240624T183407Z
LAST-MODIFIED:20250310T200953Z
UID:10000473-1745845200-1745856000@meraschoolhouse.org
SUMMARY:Heritage Weavers
DESCRIPTION:Meeting Place: Dean Hall \nContact Person: Lise Loader \nThis collective has expanded significantly from a core group over the last few years. \nThe weavers gather to plan and work on projects and are available to share ideas\, advice and enthusiasm with each other and newer weavers. It’s an apprentice-like learn-as-you-go environment suited to those who have taken an introduction to weaving weekend workshop at a guild. \nWe have 7 looms of various sizes and styles at MERA. Some of these looms are set up with extra-long warps which become cooperative projects that various members work on when they can. \nAs with all groups at the Schoolhouse\, you must have a MERA membership to become a regular member of the MERA Heritage Weavers.
URL:https://meraschoolhouse.org/event/heritage-weavers-85/
CATEGORIES:Weaving
END:VEVENT
END:VCALENDAR