BEGIN:VCALENDAR
VERSION:2.0
PRODID:-//MERA - ECPv6.15.11//NONSGML v1.0//EN
CALSCALE:GREGORIAN
METHOD:PUBLISH
X-WR-CALNAME:MERA
X-ORIGINAL-URL:https://meraschoolhouse.org
X-WR-CALDESC:Events for MERA
REFRESH-INTERVAL;VALUE=DURATION:PT1H
X-Robots-Tag:noindex
X-PUBLISHED-TTL:PT1H
BEGIN:VTIMEZONE
TZID:America/Toronto
BEGIN:DAYLIGHT
TZOFFSETFROM:-0500
TZOFFSETTO:-0400
TZNAME:EDT
DTSTART:20240310T070000
END:DAYLIGHT
BEGIN:STANDARD
TZOFFSETFROM:-0400
TZOFFSETTO:-0500
TZNAME:EST
DTSTART:20241103T060000
END:STANDARD
BEGIN:DAYLIGHT
TZOFFSETFROM:-0500
TZOFFSETTO:-0400
TZNAME:EDT
DTSTART:20250309T070000
END:DAYLIGHT
BEGIN:STANDARD
TZOFFSETFROM:-0400
TZOFFSETTO:-0500
TZNAME:EST
DTSTART:20251102T060000
END:STANDARD
BEGIN:DAYLIGHT
TZOFFSETFROM:-0500
TZOFFSETTO:-0400
TZNAME:EDT
DTSTART:20260308T070000
END:DAYLIGHT
BEGIN:STANDARD
TZOFFSETFROM:-0400
TZOFFSETTO:-0500
TZNAME:EST
DTSTART:20261101T060000
END:STANDARD
END:VTIMEZONE
BEGIN:VEVENT
DTSTART;TZID=America/Toronto:20250501T120000
DTEND;TZID=America/Toronto:20250501T160000
DTSTAMP:20260419T210611
CREATED:20240624T183407Z
LAST-MODIFIED:20250310T200953Z
UID:10000478-1746100800-1746115200@meraschoolhouse.org
SUMMARY:Heritage Weavers
DESCRIPTION:Meeting Place: Dean Hall \nContact Person: Lise Loader \nThis collective has expanded significantly from a core group over the last few years. \nThe weavers gather to plan and work on projects and are available to share ideas\, advice and enthusiasm with each other and newer weavers. It’s an apprentice-like learn-as-you-go environment suited to those who have taken an introduction to weaving weekend workshop at a guild. \nWe have 7 looms of various sizes and styles at MERA. Some of these looms are set up with extra-long warps which become cooperative projects that various members work on when they can. \nAs with all groups at the Schoolhouse\, you must have a MERA membership to become a regular member of the MERA Heritage Weavers.
URL:https://meraschoolhouse.org/event/heritage-weavers-86/
CATEGORIES:Weaving
END:VEVENT
BEGIN:VEVENT
DTSTART;TZID=America/Toronto:20250430T130000
DTEND;TZID=America/Toronto:20250430T160000
DTSTAMP:20260419T210611
CREATED:20240624T183407Z
LAST-MODIFIED:20240828T183314Z
UID:10000477-1746018000-1746028800@meraschoolhouse.org
SUMMARY:MERA's Needle Pushers
DESCRIPTION:Meeting Space: MERA Room \nContact Person: Bonnie McQuatt \nWe welcome anyone who might have new techniques or designs to shareor perhaps just has a desire to try something new. \n \nMostof the fun of quilting is being with the people we quilt with. Newcomers learnby doing. If you would like to try quilting with us we will share our supplieswith you until you figure out if quilting is your thing or not. Therequirements for quilting are minimal. Those who have a portable sewingmachine\, rotary cutter and mat will bring that equipment when we are starting aquilt and we work together cutting out the pattern and assembling the quilt.Once the hand quilting begins each person needs their own thimble\, scissors andquilting needles.
URL:https://meraschoolhouse.org/event/meras-needle-pushers-43/
CATEGORIES:Quilting
END:VEVENT
BEGIN:VEVENT
DTSTART;TZID=America/Toronto:20250430T130000
DTEND;TZID=America/Toronto:20250430T150000
DTSTAMP:20260419T210611
CREATED:20240624T183407Z
LAST-MODIFIED:20250310T201721Z
UID:10000476-1746018000-1746025200@meraschoolhouse.org
SUMMARY:Pottery Studio
DESCRIPTION:Meetings Space: Pottery Studio (basement) \nContact Person: Heather Vriends
URL:https://meraschoolhouse.org/event/pottery-studio-91/
CATEGORIES:Pottery
END:VEVENT
BEGIN:VEVENT
DTSTART;TZID=America/Toronto:20250429T130000
DTEND;TZID=America/Toronto:20250429T150000
DTSTAMP:20260419T210611
CREATED:20240624T183407Z
LAST-MODIFIED:20250310T201721Z
UID:10000475-1745931600-1745938800@meraschoolhouse.org
SUMMARY:Pottery Studio
DESCRIPTION:Meeting Space: Pottery Studio (basement) \nContact Person: Jan Griffiths \nWe are a joyfulgroup of potters who share space\, tools and experience in the basement of theMERA schoolhouse. We are organized as a co-operative\, sharing responsibilityfor making our studio a fun\, open\, supportive and safe place to enjoy creatingworks in clay both on and away from the wheel. Each studio member is encouragedto participate in both individual and collective projects\, to contribute tostudio maintenance tasks\, and to teach and learn from the other potters. MERApotters also organize learning and teaching opportunities in the form ofin-house workshops and sessions led by professional potters and contribute tothe Annual MERA Christmas Fair.
URL:https://meraschoolhouse.org/event/pottery-studio-90/
CATEGORIES:Pottery
END:VEVENT
BEGIN:VEVENT
DTSTART;TZID=America/Toronto:20250429T050000
DTEND;TZID=America/Toronto:20250429T070000
DTSTAMP:20260419T210611
CREATED:20240624T183407Z
LAST-MODIFIED:20240624T183407Z
UID:10000474-1745902800-1745910000@meraschoolhouse.org
SUMMARY:Closed for Cleaning
DESCRIPTION:
URL:https://meraschoolhouse.org/event/closed-for-cleaning-45/
END:VEVENT
BEGIN:VEVENT
DTSTART;TZID=America/Toronto:20250428T130000
DTEND;TZID=America/Toronto:20250428T160000
DTSTAMP:20260419T210611
CREATED:20240624T183407Z
LAST-MODIFIED:20250310T200953Z
UID:10000473-1745845200-1745856000@meraschoolhouse.org
SUMMARY:Heritage Weavers
DESCRIPTION:Meeting Place: Dean Hall \nContact Person: Lise Loader \nThis collective has expanded significantly from a core group over the last few years. \nThe weavers gather to plan and work on projects and are available to share ideas\, advice and enthusiasm with each other and newer weavers. It’s an apprentice-like learn-as-you-go environment suited to those who have taken an introduction to weaving weekend workshop at a guild. \nWe have 7 looms of various sizes and styles at MERA. Some of these looms are set up with extra-long warps which become cooperative projects that various members work on when they can. \nAs with all groups at the Schoolhouse\, you must have a MERA membership to become a regular member of the MERA Heritage Weavers.
URL:https://meraschoolhouse.org/event/heritage-weavers-85/
CATEGORIES:Weaving
END:VEVENT
BEGIN:VEVENT
DTSTART;TZID=America/Toronto:20250428T100000
DTEND;TZID=America/Toronto:20250428T140000
DTSTAMP:20260419T210611
CREATED:20240624T183407Z
LAST-MODIFIED:20240624T183407Z
UID:10000472-1745834400-1745848800@meraschoolhouse.org
SUMMARY:Homeschool Group
DESCRIPTION:Contact Person: Heather Vriends
URL:https://meraschoolhouse.org/event/homeschool-group-43/
END:VEVENT
BEGIN:VEVENT
DTSTART;TZID=America/Toronto:20250425T130000
DTEND;TZID=America/Toronto:20250425T143000
DTSTAMP:20260419T210611
CREATED:20240624T183407Z
LAST-MODIFIED:20240827T181259Z
UID:10000471-1745586000-1745591400@meraschoolhouse.org
SUMMARY:Recorder Consort
DESCRIPTION:
URL:https://meraschoolhouse.org/event/recorder-consort-42/
CATEGORIES:Recorder
END:VEVENT
BEGIN:VEVENT
DTSTART;TZID=America/Toronto:20250425T100000
DTEND;TZID=America/Toronto:20250425T120000
DTSTAMP:20260419T210611
CREATED:20240624T183407Z
LAST-MODIFIED:20240824T053748Z
UID:10000470-1745575200-1745582400@meraschoolhouse.org
SUMMARY:Art Circle
DESCRIPTION:
URL:https://meraschoolhouse.org/event/art-circle-43/
CATEGORIES:Art,Art circle
END:VEVENT
BEGIN:VEVENT
DTSTART;TZID=America/Toronto:20250424T150000
DTEND;TZID=America/Toronto:20250424T170000
DTSTAMP:20260419T210611
CREATED:20240624T183407Z
LAST-MODIFIED:20250310T201721Z
UID:10000469-1745506800-1745514000@meraschoolhouse.org
SUMMARY:Pottery Studio - Homeschoolers
DESCRIPTION:Meeting Space: Pottery Studio (basement) \nContact Person: Heather Vriends
URL:https://meraschoolhouse.org/event/pottery-studio-homeschoolers-43/
CATEGORIES:Pottery
END:VEVENT
BEGIN:VEVENT
DTSTART;TZID=America/Toronto:20250424T120000
DTEND;TZID=America/Toronto:20250424T160000
DTSTAMP:20260419T210611
CREATED:20240624T183407Z
LAST-MODIFIED:20250310T200953Z
UID:10000468-1745496000-1745510400@meraschoolhouse.org
SUMMARY:Heritage Weavers
DESCRIPTION:Meeting Place: Dean Hall \nContact Person: Lise Loader \nThis collective has expanded significantly from a core group over the last few years. \nThe weavers gather to plan and work on projects and are available to share ideas\, advice and enthusiasm with each other and newer weavers. It’s an apprentice-like learn-as-you-go environment suited to those who have taken an introduction to weaving weekend workshop at a guild. \nWe have 7 looms of various sizes and styles at MERA. Some of these looms are set up with extra-long warps which become cooperative projects that various members work on when they can. \nAs with all groups at the Schoolhouse\, you must have a MERA membership to become a regular member of the MERA Heritage Weavers.
URL:https://meraschoolhouse.org/event/heritage-weavers-84/
CATEGORIES:Weaving
END:VEVENT
BEGIN:VEVENT
DTSTART;TZID=America/Toronto:20250423T130000
DTEND;TZID=America/Toronto:20250423T160000
DTSTAMP:20260419T210611
CREATED:20240624T183407Z
LAST-MODIFIED:20240828T183314Z
UID:10000467-1745413200-1745424000@meraschoolhouse.org
SUMMARY:MERA's Needle Pushers
DESCRIPTION:Meeting Space: MERA Room \nContact Person: Bonnie McQuatt \nWe welcome anyone who might have new techniques or designs to shareor perhaps just has a desire to try something new. \n \nMostof the fun of quilting is being with the people we quilt with. Newcomers learnby doing. If you would like to try quilting with us we will share our supplieswith you until you figure out if quilting is your thing or not. Therequirements for quilting are minimal. Those who have a portable sewingmachine\, rotary cutter and mat will bring that equipment when we are starting aquilt and we work together cutting out the pattern and assembling the quilt.Once the hand quilting begins each person needs their own thimble\, scissors andquilting needles.
URL:https://meraschoolhouse.org/event/meras-needle-pushers-42/
CATEGORIES:Quilting
END:VEVENT
BEGIN:VEVENT
DTSTART;TZID=America/Toronto:20250423T130000
DTEND;TZID=America/Toronto:20250423T150000
DTSTAMP:20260419T210611
CREATED:20240624T183406Z
LAST-MODIFIED:20250310T201721Z
UID:10000466-1745413200-1745420400@meraschoolhouse.org
SUMMARY:Pottery Studio
DESCRIPTION:Meetings Space: Pottery Studio (basement) \nContact Person: Heather Vriends
URL:https://meraschoolhouse.org/event/pottery-studio-89/
CATEGORIES:Pottery
END:VEVENT
BEGIN:VEVENT
DTSTART;TZID=America/Toronto:20250422T130000
DTEND;TZID=America/Toronto:20250422T150000
DTSTAMP:20260419T210611
CREATED:20240624T183406Z
LAST-MODIFIED:20250310T201721Z
UID:10000465-1745326800-1745334000@meraschoolhouse.org
SUMMARY:Pottery Studio
DESCRIPTION:Meeting Space: Pottery Studio (basement) \nContact Person: Jan Griffiths \nWe are a joyfulgroup of potters who share space\, tools and experience in the basement of theMERA schoolhouse. We are organized as a co-operative\, sharing responsibilityfor making our studio a fun\, open\, supportive and safe place to enjoy creatingworks in clay both on and away from the wheel. Each studio member is encouragedto participate in both individual and collective projects\, to contribute tostudio maintenance tasks\, and to teach and learn from the other potters. MERApotters also organize learning and teaching opportunities in the form ofin-house workshops and sessions led by professional potters and contribute tothe Annual MERA Christmas Fair.
URL:https://meraschoolhouse.org/event/pottery-studio-88/
CATEGORIES:Pottery
END:VEVENT
BEGIN:VEVENT
DTSTART;TZID=America/Toronto:20250422T050000
DTEND;TZID=America/Toronto:20250422T070000
DTSTAMP:20260419T210611
CREATED:20240624T183406Z
LAST-MODIFIED:20240624T183406Z
UID:10000464-1745298000-1745305200@meraschoolhouse.org
SUMMARY:Closed for Cleaning
DESCRIPTION:
URL:https://meraschoolhouse.org/event/closed-for-cleaning-44/
END:VEVENT
BEGIN:VEVENT
DTSTART;TZID=America/Toronto:20250421T130000
DTEND;TZID=America/Toronto:20250421T160000
DTSTAMP:20260419T210611
CREATED:20240624T183406Z
LAST-MODIFIED:20250310T200953Z
UID:10000463-1745240400-1745251200@meraschoolhouse.org
SUMMARY:Heritage Weavers
DESCRIPTION:Meeting Place: Dean Hall \nContact Person: Lise Loader \nThis collective has expanded significantly from a core group over the last few years. \nThe weavers gather to plan and work on projects and are available to share ideas\, advice and enthusiasm with each other and newer weavers. It’s an apprentice-like learn-as-you-go environment suited to those who have taken an introduction to weaving weekend workshop at a guild. \nWe have 7 looms of various sizes and styles at MERA. Some of these looms are set up with extra-long warps which become cooperative projects that various members work on when they can. \nAs with all groups at the Schoolhouse\, you must have a MERA membership to become a regular member of the MERA Heritage Weavers.
URL:https://meraschoolhouse.org/event/heritage-weavers-83/
CATEGORIES:Weaving
END:VEVENT
BEGIN:VEVENT
DTSTART;TZID=America/Toronto:20250421T100000
DTEND;TZID=America/Toronto:20250421T140000
DTSTAMP:20260419T210611
CREATED:20240624T183406Z
LAST-MODIFIED:20240624T183406Z
UID:10000462-1745229600-1745244000@meraschoolhouse.org
SUMMARY:Homeschool Group
DESCRIPTION:Contact Person: Heather Vriends
URL:https://meraschoolhouse.org/event/homeschool-group-42/
END:VEVENT
BEGIN:VEVENT
DTSTART;TZID=America/Toronto:20250418T130000
DTEND;TZID=America/Toronto:20250418T143000
DTSTAMP:20260419T210611
CREATED:20240624T183406Z
LAST-MODIFIED:20240827T181259Z
UID:10000461-1744981200-1744986600@meraschoolhouse.org
SUMMARY:Recorder Consort
DESCRIPTION:
URL:https://meraschoolhouse.org/event/recorder-consort-41/
CATEGORIES:Recorder
END:VEVENT
BEGIN:VEVENT
DTSTART;TZID=America/Toronto:20250418T100000
DTEND;TZID=America/Toronto:20250418T120000
DTSTAMP:20260419T210611
CREATED:20240624T183406Z
LAST-MODIFIED:20240824T053748Z
UID:10000460-1744970400-1744977600@meraschoolhouse.org
SUMMARY:Art Circle
DESCRIPTION:
URL:https://meraschoolhouse.org/event/art-circle-42/
CATEGORIES:Art,Art circle
END:VEVENT
BEGIN:VEVENT
DTSTART;TZID=America/Toronto:20250417T150000
DTEND;TZID=America/Toronto:20250417T170000
DTSTAMP:20260419T210611
CREATED:20240624T183406Z
LAST-MODIFIED:20250310T201721Z
UID:10000459-1744902000-1744909200@meraschoolhouse.org
SUMMARY:Pottery Studio - Homeschoolers
DESCRIPTION:Meeting Space: Pottery Studio (basement) \nContact Person: Heather Vriends
URL:https://meraschoolhouse.org/event/pottery-studio-homeschoolers-42/
CATEGORIES:Pottery
END:VEVENT
BEGIN:VEVENT
DTSTART;TZID=America/Toronto:20250417T120000
DTEND;TZID=America/Toronto:20250417T160000
DTSTAMP:20260419T210611
CREATED:20240624T183406Z
LAST-MODIFIED:20250310T200953Z
UID:10000458-1744891200-1744905600@meraschoolhouse.org
SUMMARY:Heritage Weavers
DESCRIPTION:Meeting Place: Dean Hall \nContact Person: Lise Loader \nThis collective has expanded significantly from a core group over the last few years. \nThe weavers gather to plan and work on projects and are available to share ideas\, advice and enthusiasm with each other and newer weavers. It’s an apprentice-like learn-as-you-go environment suited to those who have taken an introduction to weaving weekend workshop at a guild. \nWe have 7 looms of various sizes and styles at MERA. Some of these looms are set up with extra-long warps which become cooperative projects that various members work on when they can. \nAs with all groups at the Schoolhouse\, you must have a MERA membership to become a regular member of the MERA Heritage Weavers.
URL:https://meraschoolhouse.org/event/heritage-weavers-82/
CATEGORIES:Weaving
END:VEVENT
BEGIN:VEVENT
DTSTART;TZID=America/Toronto:20250416T130000
DTEND;TZID=America/Toronto:20250416T160000
DTSTAMP:20260419T210611
CREATED:20240624T183406Z
LAST-MODIFIED:20240828T183314Z
UID:10000457-1744808400-1744819200@meraschoolhouse.org
SUMMARY:MERA's Needle Pushers
DESCRIPTION:Meeting Space: MERA Room \nContact Person: Bonnie McQuatt \nWe welcome anyone who might have new techniques or designs to shareor perhaps just has a desire to try something new. \n \nMostof the fun of quilting is being with the people we quilt with. Newcomers learnby doing. If you would like to try quilting with us we will share our supplieswith you until you figure out if quilting is your thing or not. Therequirements for quilting are minimal. Those who have a portable sewingmachine\, rotary cutter and mat will bring that equipment when we are starting aquilt and we work together cutting out the pattern and assembling the quilt.Once the hand quilting begins each person needs their own thimble\, scissors andquilting needles.
URL:https://meraschoolhouse.org/event/meras-needle-pushers-41/
CATEGORIES:Quilting
END:VEVENT
BEGIN:VEVENT
DTSTART;TZID=America/Toronto:20250416T130000
DTEND;TZID=America/Toronto:20250416T150000
DTSTAMP:20260419T210611
CREATED:20240624T183406Z
LAST-MODIFIED:20250310T201721Z
UID:10000456-1744808400-1744815600@meraschoolhouse.org
SUMMARY:Pottery Studio
DESCRIPTION:Meetings Space: Pottery Studio (basement) \nContact Person: Heather Vriends
URL:https://meraschoolhouse.org/event/pottery-studio-87/
CATEGORIES:Pottery
END:VEVENT
BEGIN:VEVENT
DTSTART;TZID=America/Toronto:20250415T190000
DTEND;TZID=America/Toronto:20250415T210000
DTSTAMP:20260419T210611
CREATED:20240624T183406Z
LAST-MODIFIED:20240822T023924Z
UID:10000455-1744743600-1744750800@meraschoolhouse.org
SUMMARY:Book Club
DESCRIPTION:Meetings are usually held the 3rd Tuesday of each month from 7pm to 9pm. We are a friendly\, respectful\, no rules book club. Each month one person will facilitate a discussion about the book chosen for that month. Discussions are always informative and lively. New members are welcome. If you see a book that peaks your interest and would like to join us for an evening’s discussion we also welcome drop-ins. You can join us by contacting Jean Dunning at 613-259-2636 or email here.    \nJan 17\, 2023: The Lincoln Highway – Amor Towles \nA story of love\, loss and friendship.
URL:https://meraschoolhouse.org/event/book-club-10/
CATEGORIES:Bookclub
END:VEVENT
BEGIN:VEVENT
DTSTART;TZID=America/Toronto:20250415T130000
DTEND;TZID=America/Toronto:20250415T150000
DTSTAMP:20260419T210611
CREATED:20240624T183406Z
LAST-MODIFIED:20250310T201721Z
UID:10000454-1744722000-1744729200@meraschoolhouse.org
SUMMARY:Pottery Studio
DESCRIPTION:Meeting Space: Pottery Studio (basement) \nContact Person: Jan Griffiths \nWe are a joyfulgroup of potters who share space\, tools and experience in the basement of theMERA schoolhouse. We are organized as a co-operative\, sharing responsibilityfor making our studio a fun\, open\, supportive and safe place to enjoy creatingworks in clay both on and away from the wheel. Each studio member is encouragedto participate in both individual and collective projects\, to contribute tostudio maintenance tasks\, and to teach and learn from the other potters. MERApotters also organize learning and teaching opportunities in the form ofin-house workshops and sessions led by professional potters and contribute tothe Annual MERA Christmas Fair.
URL:https://meraschoolhouse.org/event/pottery-studio-86/
CATEGORIES:Pottery
END:VEVENT
BEGIN:VEVENT
DTSTART;TZID=America/Toronto:20250415T050000
DTEND;TZID=America/Toronto:20250415T070000
DTSTAMP:20260419T210611
CREATED:20240624T183405Z
LAST-MODIFIED:20240624T183405Z
UID:10000453-1744693200-1744700400@meraschoolhouse.org
SUMMARY:Closed for Cleaning
DESCRIPTION:
URL:https://meraschoolhouse.org/event/closed-for-cleaning-43/
END:VEVENT
BEGIN:VEVENT
DTSTART;TZID=America/Toronto:20250414T130000
DTEND;TZID=America/Toronto:20250414T160000
DTSTAMP:20260419T210611
CREATED:20240624T183405Z
LAST-MODIFIED:20250310T201022Z
UID:10000452-1744635600-1744646400@meraschoolhouse.org
SUMMARY:Heritage Weavers
DESCRIPTION:Meeting Place: Dean Hall \nContact Person: Lise Loader \nThis collective has expanded significantly from a core group over the last few years. \nThe weavers gather to plan and work on projects and are available to share ideas\, advice and enthusiasm with each other and newer weavers. It’s an apprentice-like learn-as-you-go environment suited to those who have taken an introduction to weaving weekend workshop at a guild. \nWe have 7 looms of various sizes and styles at MERA. Some of these looms are set up with extra-long warps which become cooperative projects that various members work on when they can. \nAs with all groups at the Schoolhouse\, you must have a MERA membership to become a regular member of the MERA Heritage Weavers.
URL:https://meraschoolhouse.org/event/heritage-weavers-81/
CATEGORIES:Weaving
END:VEVENT
BEGIN:VEVENT
DTSTART;TZID=America/Toronto:20250414T100000
DTEND;TZID=America/Toronto:20250414T140000
DTSTAMP:20260419T210611
CREATED:20240624T183405Z
LAST-MODIFIED:20240624T183405Z
UID:10000451-1744624800-1744639200@meraschoolhouse.org
SUMMARY:Homeschool Group
DESCRIPTION:Contact Person: Heather Vriends
URL:https://meraschoolhouse.org/event/homeschool-group-41/
END:VEVENT
BEGIN:VEVENT
DTSTART;TZID=America/Toronto:20250413T140000
DTEND;TZID=America/Toronto:20250413T160000
DTSTAMP:20260419T210611
CREATED:20250221T172147Z
LAST-MODIFIED:20250221T172304Z
UID:10000634-1744552800-1744560000@meraschoolhouse.org
SUMMARY:Music at MERA: Lynn Miles with Keith Glass - SOLD OUT
DESCRIPTION:Lynn Miles is unquestionably one of this country’s premiere singer/songwriters with 16 albums spanning from 1991 to the present and a massive catalogue of quality original work which has so far garnered six Canadian Folk Music Awards\, a 2003 Juno Award and Juno nominations in 2006 and 2011.\nIt is likely that many of you are already well acquainted with the beauty and subtle power of Lynn Miles’ music. But if not\, Paul McGee of LonesomeHighway.com has helpfully commented as succinctly and accurately as anyone: “Lynn Miles has developed a vocal tone that is both pure and strong\, with plenty of nuance and personality……Her vulnerable and honest song-writing style highlights a haunting\, tender melancholy across her beautiful melodies.”\nA while back John Pareles of the New York Times wrote “Lynn Miles makes being forlorn sound like a state of grace”. You see that quote often now in reference to Lynn’s music because it is true.\nBetter still\, Lynn’s own reflections on her music and career:\n\nBorder lines and satellites\nWilderness and neon nights\nThe heartbreak\, the bittersweet\nThe loneliness\, the empty streets\nNorthern lights and closed gas stations\nAll night conversations\nHomesickness\, airport bookstores\nSuit cases and rusty stage doors\nThis is my life\, this is my choice\nThese are my words\, this is my voice\nThis is my world\,\nThis is my road\n\nfrom Lynn’s 2013 album Downpour\n\nTickets are $35 plus fees available soon at www.ticketsplease.ca\nThis promises to be a very special afternoon of music with Lynn on piano and guitar accompanied by the legendary Keith Glass in our intimate 60 seat hall. We recommend getting your tickets early to avoid disappointment.\nDoors open at 1:30\, Music at 2:00As usual the MERA Cafe will be serving fair trade coffee\, tea and delicious baked goods.
URL:https://meraschoolhouse.org/event/music-at-mera-lynn-miles-with-keith-glass-sold-out/
ATTACH;FMTTYPE=image/jpeg:https://meraschoolhouse.org/wp-content/uploads/2025/02/Lynn-Miles-2025.jpg
END:VEVENT
BEGIN:VEVENT
DTSTART;TZID=America/Toronto:20250411T130000
DTEND;TZID=America/Toronto:20250411T143000
DTSTAMP:20260419T210611
CREATED:20240624T183405Z
LAST-MODIFIED:20240827T181542Z
UID:10000450-1744376400-1744381800@meraschoolhouse.org
SUMMARY:Recorder Consort
DESCRIPTION:
URL:https://meraschoolhouse.org/event/recorder-consort-40/
CATEGORIES:Recorder
END:VEVENT
END:VCALENDAR