BEGIN:VCALENDAR
VERSION:2.0
PRODID:-//MERA - ECPv6.15.11//NONSGML v1.0//EN
CALSCALE:GREGORIAN
METHOD:PUBLISH
X-ORIGINAL-URL:https://meraschoolhouse.org
X-WR-CALDESC:Events for MERA
REFRESH-INTERVAL;VALUE=DURATION:PT1H
X-Robots-Tag:noindex
X-PUBLISHED-TTL:PT1H
BEGIN:VTIMEZONE
TZID:America/Toronto
BEGIN:DAYLIGHT
TZOFFSETFROM:-0500
TZOFFSETTO:-0400
TZNAME:EDT
DTSTART:20250309T070000
END:DAYLIGHT
BEGIN:STANDARD
TZOFFSETFROM:-0400
TZOFFSETTO:-0500
TZNAME:EST
DTSTART:20251102T060000
END:STANDARD
BEGIN:DAYLIGHT
TZOFFSETFROM:-0500
TZOFFSETTO:-0400
TZNAME:EDT
DTSTART:20260308T070000
END:DAYLIGHT
BEGIN:STANDARD
TZOFFSETFROM:-0400
TZOFFSETTO:-0500
TZNAME:EST
DTSTART:20261101T060000
END:STANDARD
BEGIN:DAYLIGHT
TZOFFSETFROM:-0500
TZOFFSETTO:-0400
TZNAME:EDT
DTSTART:20270314T070000
END:DAYLIGHT
BEGIN:STANDARD
TZOFFSETFROM:-0400
TZOFFSETTO:-0500
TZNAME:EST
DTSTART:20271107T060000
END:STANDARD
END:VTIMEZONE
BEGIN:VEVENT
DTSTART;TZID=America/Toronto:20261126T090000
DTEND;TZID=America/Toronto:20261126T140000
DTSTAMP:20260419T225727
CREATED:20240624T183412Z
LAST-MODIFIED:20250907T203629Z
UID:10001275-1795683600-1795701600@meraschoolhouse.org
SUMMARY:Heritage Weavers
DESCRIPTION:Meeting Place: Dean Hall \nContact Person: Lise Loader \nThis collective has expanded significantly from a core group over the last few years. \nThe weavers gather to plan and work on projects and are available to share ideas\, advice and enthusiasm with each other and newer weavers. It’s an apprentice-like learn-as-you-go environment suited to those who have taken an introduction to weaving weekend workshop at a guild. \nWe have 7 looms of various sizes and styles at MERA. Some of these looms are set up with extra-long warps which become cooperative projects that various members work on when they can. \nAs with all groups at the Schoolhouse\, you must have a MERA membership to become a regular member of the MERA Heritage Weavers.
URL:https://meraschoolhouse.org/event/heritage-weavers-101/2026-11-26/
CATEGORIES:Weaving
END:VEVENT
BEGIN:VEVENT
DTSTART;TZID=America/Toronto:20261127T100000
DTEND;TZID=America/Toronto:20261127T120000
DTSTAMP:20260419T225727
CREATED:20240624T183412Z
LAST-MODIFIED:20250930T223943Z
UID:10001925-1795773600-1795780800@meraschoolhouse.org
SUMMARY:Art Circle
DESCRIPTION:Join us and  learn from and be inspired by what others in the group are working on. There is plenty of time to work on your own piece and also trade ideas and techniques with others in a casual way.
URL:https://meraschoolhouse.org/event/art-circle-51/2026-11-27/
LOCATION:MERA Schoolhouse\,  McDonald’s Corners
CATEGORIES:Art,Art circle
END:VEVENT
BEGIN:VEVENT
DTSTART;TZID=America/Toronto:20261201T050000
DTEND;TZID=America/Toronto:20261201T070000
DTSTAMP:20260419T225727
CREATED:20240624T183413Z
LAST-MODIFIED:20250907T194533Z
UID:10000728-1796101200-1796108400@meraschoolhouse.org
SUMMARY:Closed for Cleaning
DESCRIPTION:
URL:https://meraschoolhouse.org/event/closed-for-cleaning-53/2026-12-01/
END:VEVENT
BEGIN:VEVENT
DTSTART;TZID=America/Toronto:20261201T130000
DTEND;TZID=America/Toronto:20261201T150000
DTSTAMP:20260419T225727
CREATED:20240624T183413Z
LAST-MODIFIED:20251007T183337Z
UID:10000859-1796130000-1796137200@meraschoolhouse.org
SUMMARY:Pottery Studio
DESCRIPTION:Meeting Space: Pottery Studio (basement) \nContact Person: Lyndal Neelin \nWe are a joyful group of potters who share space\, tools and experience in the basement of the MERA schoolhouse. We are organized as a co-operative\, sharing responsibility for making our studio a fun\, open\, supportive and safe place to enjoy creating works in clay both on and away from the wheel.\nEach studio member is encouraged to participate in both individual and collective projects\, to contribute to studio maintenance tasks\, and to teach and learn from the other potters. MERA potters also organize learning and teaching opportunities in the form of in-house workshops and sessions led by professional potters and contribute to the Annual MERA Christmas Fair.
URL:https://meraschoolhouse.org/event/pottery-studio-106/2026-12-01/
LOCATION:MERA Schoolhouse\,  McDonald’s Corners
CATEGORIES:Pottery
END:VEVENT
BEGIN:VEVENT
DTSTART;TZID=America/Toronto:20261201T180000
DTEND;TZID=America/Toronto:20261201T200000
DTSTAMP:20260419T225727
CREATED:20240624T183411Z
LAST-MODIFIED:20250907T201144Z
UID:10000933-1796148000-1796155200@meraschoolhouse.org
SUMMARY:Board Meeting
DESCRIPTION:
URL:https://meraschoolhouse.org/event/board-meeting-13/2026-12-01/
END:VEVENT
BEGIN:VEVENT
DTSTART;TZID=America/Toronto:20261202T130000
DTEND;TZID=America/Toronto:20261202T150000
DTSTAMP:20260419T225727
CREATED:20240624T183411Z
LAST-MODIFIED:20250907T203006Z
UID:10001033-1796216400-1796223600@meraschoolhouse.org
SUMMARY:Pottery Studio
DESCRIPTION:Meetings Space: Pottery Studio (basement) \nContact Person: Heather Vriends
URL:https://meraschoolhouse.org/event/pottery-studio-101/2026-12-02/
LOCATION:MERA Schoolhouse\,  McDonald’s Corners
CATEGORIES:Pottery
END:VEVENT
BEGIN:VEVENT
DTSTART;TZID=America/Toronto:20261202T130000
DTEND;TZID=America/Toronto:20261202T160000
DTSTAMP:20260419T225727
CREATED:20240624T183412Z
LAST-MODIFIED:20250907T203212Z
UID:10001154-1796216400-1796227200@meraschoolhouse.org
SUMMARY:MERA's Needle Pushers
DESCRIPTION:  \nMeeting Space: MERA Room \nContact Person: Bonnie McQuatt \nWe welcome anyone who might have new techniques or designs to share or perhaps just has a desire to try something new. \nMost of the fun of quilting is being with the people we quilt with. Newcomers learn by doing. If you would like to try quilting with us we will share our supplies with you until you figure out if quilting is your thing or not. The requirements for quilting are minimal. Those who have a portable sewing machine\, rotary cutter and mat will bring that equipment when we are starting a quilt and we work together cutting out the pattern and assembling the quilt. Once the hand quilting begins each person needs their own thimble\, scissors and quilting needles. \n 
URL:https://meraschoolhouse.org/event/meras-needle-pushers-50/2026-12-02/
CATEGORIES:Quilting
END:VEVENT
BEGIN:VEVENT
DTSTART;TZID=America/Toronto:20261203T090000
DTEND;TZID=America/Toronto:20261203T140000
DTSTAMP:20260419T225727
CREATED:20240624T183412Z
LAST-MODIFIED:20250907T203629Z
UID:10001276-1796288400-1796306400@meraschoolhouse.org
SUMMARY:Heritage Weavers
DESCRIPTION:Meeting Place: Dean Hall \nContact Person: Lise Loader \nThis collective has expanded significantly from a core group over the last few years. \nThe weavers gather to plan and work on projects and are available to share ideas\, advice and enthusiasm with each other and newer weavers. It’s an apprentice-like learn-as-you-go environment suited to those who have taken an introduction to weaving weekend workshop at a guild. \nWe have 7 looms of various sizes and styles at MERA. Some of these looms are set up with extra-long warps which become cooperative projects that various members work on when they can. \nAs with all groups at the Schoolhouse\, you must have a MERA membership to become a regular member of the MERA Heritage Weavers.
URL:https://meraschoolhouse.org/event/heritage-weavers-101/2026-12-03/
CATEGORIES:Weaving
END:VEVENT
BEGIN:VEVENT
DTSTART;TZID=America/Toronto:20261204T100000
DTEND;TZID=America/Toronto:20261204T120000
DTSTAMP:20260419T225727
CREATED:20240624T183412Z
LAST-MODIFIED:20250930T223943Z
UID:10001926-1796378400-1796385600@meraschoolhouse.org
SUMMARY:Art Circle
DESCRIPTION:Join us and  learn from and be inspired by what others in the group are working on. There is plenty of time to work on your own piece and also trade ideas and techniques with others in a casual way.
URL:https://meraschoolhouse.org/event/art-circle-51/2026-12-04/
LOCATION:MERA Schoolhouse\,  McDonald’s Corners
CATEGORIES:Art,Art circle
END:VEVENT
BEGIN:VEVENT
DTSTART;TZID=America/Toronto:20261208T050000
DTEND;TZID=America/Toronto:20261208T070000
DTSTAMP:20260419T225727
CREATED:20240624T183413Z
LAST-MODIFIED:20250907T194533Z
UID:10000729-1796706000-1796713200@meraschoolhouse.org
SUMMARY:Closed for Cleaning
DESCRIPTION:
URL:https://meraschoolhouse.org/event/closed-for-cleaning-53/2026-12-08/
END:VEVENT
BEGIN:VEVENT
DTSTART;TZID=America/Toronto:20261208T130000
DTEND;TZID=America/Toronto:20261208T150000
DTSTAMP:20260419T225727
CREATED:20240624T183413Z
LAST-MODIFIED:20251007T183337Z
UID:10000860-1796734800-1796742000@meraschoolhouse.org
SUMMARY:Pottery Studio
DESCRIPTION:Meeting Space: Pottery Studio (basement) \nContact Person: Lyndal Neelin \nWe are a joyful group of potters who share space\, tools and experience in the basement of the MERA schoolhouse. We are organized as a co-operative\, sharing responsibility for making our studio a fun\, open\, supportive and safe place to enjoy creating works in clay both on and away from the wheel.\nEach studio member is encouraged to participate in both individual and collective projects\, to contribute to studio maintenance tasks\, and to teach and learn from the other potters. MERA potters also organize learning and teaching opportunities in the form of in-house workshops and sessions led by professional potters and contribute to the Annual MERA Christmas Fair.
URL:https://meraschoolhouse.org/event/pottery-studio-106/2026-12-08/
LOCATION:MERA Schoolhouse\,  McDonald’s Corners
CATEGORIES:Pottery
END:VEVENT
BEGIN:VEVENT
DTSTART;TZID=America/Toronto:20261209T130000
DTEND;TZID=America/Toronto:20261209T150000
DTSTAMP:20260419T225727
CREATED:20240624T183411Z
LAST-MODIFIED:20250907T203006Z
UID:10001034-1796821200-1796828400@meraschoolhouse.org
SUMMARY:Pottery Studio
DESCRIPTION:Meetings Space: Pottery Studio (basement) \nContact Person: Heather Vriends
URL:https://meraschoolhouse.org/event/pottery-studio-101/2026-12-09/
LOCATION:MERA Schoolhouse\,  McDonald’s Corners
CATEGORIES:Pottery
END:VEVENT
BEGIN:VEVENT
DTSTART;TZID=America/Toronto:20261209T130000
DTEND;TZID=America/Toronto:20261209T160000
DTSTAMP:20260419T225727
CREATED:20240624T183412Z
LAST-MODIFIED:20250907T203212Z
UID:10001155-1796821200-1796832000@meraschoolhouse.org
SUMMARY:MERA's Needle Pushers
DESCRIPTION:  \nMeeting Space: MERA Room \nContact Person: Bonnie McQuatt \nWe welcome anyone who might have new techniques or designs to share or perhaps just has a desire to try something new. \nMost of the fun of quilting is being with the people we quilt with. Newcomers learn by doing. If you would like to try quilting with us we will share our supplies with you until you figure out if quilting is your thing or not. The requirements for quilting are minimal. Those who have a portable sewing machine\, rotary cutter and mat will bring that equipment when we are starting a quilt and we work together cutting out the pattern and assembling the quilt. Once the hand quilting begins each person needs their own thimble\, scissors and quilting needles. \n 
URL:https://meraschoolhouse.org/event/meras-needle-pushers-50/2026-12-09/
CATEGORIES:Quilting
END:VEVENT
BEGIN:VEVENT
DTSTART;TZID=America/Toronto:20261210T090000
DTEND;TZID=America/Toronto:20261210T140000
DTSTAMP:20260419T225727
CREATED:20240624T183412Z
LAST-MODIFIED:20250907T203629Z
UID:10001277-1796893200-1796911200@meraschoolhouse.org
SUMMARY:Heritage Weavers
DESCRIPTION:Meeting Place: Dean Hall \nContact Person: Lise Loader \nThis collective has expanded significantly from a core group over the last few years. \nThe weavers gather to plan and work on projects and are available to share ideas\, advice and enthusiasm with each other and newer weavers. It’s an apprentice-like learn-as-you-go environment suited to those who have taken an introduction to weaving weekend workshop at a guild. \nWe have 7 looms of various sizes and styles at MERA. Some of these looms are set up with extra-long warps which become cooperative projects that various members work on when they can. \nAs with all groups at the Schoolhouse\, you must have a MERA membership to become a regular member of the MERA Heritage Weavers.
URL:https://meraschoolhouse.org/event/heritage-weavers-101/2026-12-10/
CATEGORIES:Weaving
END:VEVENT
BEGIN:VEVENT
DTSTART;TZID=America/Toronto:20261211T100000
DTEND;TZID=America/Toronto:20261211T120000
DTSTAMP:20260419T225727
CREATED:20240624T183412Z
LAST-MODIFIED:20250930T223943Z
UID:10001927-1796983200-1796990400@meraschoolhouse.org
SUMMARY:Art Circle
DESCRIPTION:Join us and  learn from and be inspired by what others in the group are working on. There is plenty of time to work on your own piece and also trade ideas and techniques with others in a casual way.
URL:https://meraschoolhouse.org/event/art-circle-51/2026-12-11/
LOCATION:MERA Schoolhouse\,  McDonald’s Corners
CATEGORIES:Art,Art circle
END:VEVENT
BEGIN:VEVENT
DTSTART;TZID=America/Toronto:20261215T050000
DTEND;TZID=America/Toronto:20261215T070000
DTSTAMP:20260419T225727
CREATED:20240624T183413Z
LAST-MODIFIED:20250907T194533Z
UID:10000730-1797310800-1797318000@meraschoolhouse.org
SUMMARY:Closed for Cleaning
DESCRIPTION:
URL:https://meraschoolhouse.org/event/closed-for-cleaning-53/2026-12-15/
END:VEVENT
BEGIN:VEVENT
DTSTART;TZID=America/Toronto:20261215T130000
DTEND;TZID=America/Toronto:20261215T150000
DTSTAMP:20260419T225727
CREATED:20240624T183413Z
LAST-MODIFIED:20251007T183337Z
UID:10000861-1797339600-1797346800@meraschoolhouse.org
SUMMARY:Pottery Studio
DESCRIPTION:Meeting Space: Pottery Studio (basement) \nContact Person: Lyndal Neelin \nWe are a joyful group of potters who share space\, tools and experience in the basement of the MERA schoolhouse. We are organized as a co-operative\, sharing responsibility for making our studio a fun\, open\, supportive and safe place to enjoy creating works in clay both on and away from the wheel.\nEach studio member is encouraged to participate in both individual and collective projects\, to contribute to studio maintenance tasks\, and to teach and learn from the other potters. MERA potters also organize learning and teaching opportunities in the form of in-house workshops and sessions led by professional potters and contribute to the Annual MERA Christmas Fair.
URL:https://meraschoolhouse.org/event/pottery-studio-106/2026-12-15/
LOCATION:MERA Schoolhouse\,  McDonald’s Corners
CATEGORIES:Pottery
END:VEVENT
BEGIN:VEVENT
DTSTART;TZID=America/Toronto:20261216T130000
DTEND;TZID=America/Toronto:20261216T150000
DTSTAMP:20260419T225727
CREATED:20240624T183411Z
LAST-MODIFIED:20250907T203006Z
UID:10001035-1797426000-1797433200@meraschoolhouse.org
SUMMARY:Pottery Studio
DESCRIPTION:Meetings Space: Pottery Studio (basement) \nContact Person: Heather Vriends
URL:https://meraschoolhouse.org/event/pottery-studio-101/2026-12-16/
LOCATION:MERA Schoolhouse\,  McDonald’s Corners
CATEGORIES:Pottery
END:VEVENT
BEGIN:VEVENT
DTSTART;TZID=America/Toronto:20261216T130000
DTEND;TZID=America/Toronto:20261216T160000
DTSTAMP:20260419T225727
CREATED:20240624T183412Z
LAST-MODIFIED:20250907T203212Z
UID:10001156-1797426000-1797436800@meraschoolhouse.org
SUMMARY:MERA's Needle Pushers
DESCRIPTION:  \nMeeting Space: MERA Room \nContact Person: Bonnie McQuatt \nWe welcome anyone who might have new techniques or designs to share or perhaps just has a desire to try something new. \nMost of the fun of quilting is being with the people we quilt with. Newcomers learn by doing. If you would like to try quilting with us we will share our supplies with you until you figure out if quilting is your thing or not. The requirements for quilting are minimal. Those who have a portable sewing machine\, rotary cutter and mat will bring that equipment when we are starting a quilt and we work together cutting out the pattern and assembling the quilt. Once the hand quilting begins each person needs their own thimble\, scissors and quilting needles. \n 
URL:https://meraschoolhouse.org/event/meras-needle-pushers-50/2026-12-16/
CATEGORIES:Quilting
END:VEVENT
BEGIN:VEVENT
DTSTART;TZID=America/Toronto:20261217T090000
DTEND;TZID=America/Toronto:20261217T140000
DTSTAMP:20260419T225727
CREATED:20240624T183412Z
LAST-MODIFIED:20250907T203629Z
UID:10001278-1797498000-1797516000@meraschoolhouse.org
SUMMARY:Heritage Weavers
DESCRIPTION:Meeting Place: Dean Hall \nContact Person: Lise Loader \nThis collective has expanded significantly from a core group over the last few years. \nThe weavers gather to plan and work on projects and are available to share ideas\, advice and enthusiasm with each other and newer weavers. It’s an apprentice-like learn-as-you-go environment suited to those who have taken an introduction to weaving weekend workshop at a guild. \nWe have 7 looms of various sizes and styles at MERA. Some of these looms are set up with extra-long warps which become cooperative projects that various members work on when they can. \nAs with all groups at the Schoolhouse\, you must have a MERA membership to become a regular member of the MERA Heritage Weavers.
URL:https://meraschoolhouse.org/event/heritage-weavers-101/2026-12-17/
CATEGORIES:Weaving
END:VEVENT
BEGIN:VEVENT
DTSTART;TZID=America/Toronto:20261218T100000
DTEND;TZID=America/Toronto:20261218T120000
DTSTAMP:20260419T225727
CREATED:20240624T183412Z
LAST-MODIFIED:20250930T223943Z
UID:10001928-1797588000-1797595200@meraschoolhouse.org
SUMMARY:Art Circle
DESCRIPTION:Join us and  learn from and be inspired by what others in the group are working on. There is plenty of time to work on your own piece and also trade ideas and techniques with others in a casual way.
URL:https://meraschoolhouse.org/event/art-circle-51/2026-12-18/
LOCATION:MERA Schoolhouse\,  McDonald’s Corners
CATEGORIES:Art,Art circle
END:VEVENT
BEGIN:VEVENT
DTSTART;TZID=America/Toronto:20261222T050000
DTEND;TZID=America/Toronto:20261222T070000
DTSTAMP:20260419T225727
CREATED:20240624T183413Z
LAST-MODIFIED:20250907T194533Z
UID:10000731-1797915600-1797922800@meraschoolhouse.org
SUMMARY:Closed for Cleaning
DESCRIPTION:
URL:https://meraschoolhouse.org/event/closed-for-cleaning-53/2026-12-22/
END:VEVENT
BEGIN:VEVENT
DTSTART;TZID=America/Toronto:20261222T130000
DTEND;TZID=America/Toronto:20261222T150000
DTSTAMP:20260419T225727
CREATED:20240624T183413Z
LAST-MODIFIED:20251007T183337Z
UID:10000862-1797944400-1797951600@meraschoolhouse.org
SUMMARY:Pottery Studio
DESCRIPTION:Meeting Space: Pottery Studio (basement) \nContact Person: Lyndal Neelin \nWe are a joyful group of potters who share space\, tools and experience in the basement of the MERA schoolhouse. We are organized as a co-operative\, sharing responsibility for making our studio a fun\, open\, supportive and safe place to enjoy creating works in clay both on and away from the wheel.\nEach studio member is encouraged to participate in both individual and collective projects\, to contribute to studio maintenance tasks\, and to teach and learn from the other potters. MERA potters also organize learning and teaching opportunities in the form of in-house workshops and sessions led by professional potters and contribute to the Annual MERA Christmas Fair.
URL:https://meraschoolhouse.org/event/pottery-studio-106/2026-12-22/
LOCATION:MERA Schoolhouse\,  McDonald’s Corners
CATEGORIES:Pottery
END:VEVENT
BEGIN:VEVENT
DTSTART;TZID=America/Toronto:20261223T130000
DTEND;TZID=America/Toronto:20261223T150000
DTSTAMP:20260419T225727
CREATED:20240624T183411Z
LAST-MODIFIED:20250907T203006Z
UID:10001036-1798030800-1798038000@meraschoolhouse.org
SUMMARY:Pottery Studio
DESCRIPTION:Meetings Space: Pottery Studio (basement) \nContact Person: Heather Vriends
URL:https://meraschoolhouse.org/event/pottery-studio-101/2026-12-23/
LOCATION:MERA Schoolhouse\,  McDonald’s Corners
CATEGORIES:Pottery
END:VEVENT
BEGIN:VEVENT
DTSTART;TZID=America/Toronto:20261223T130000
DTEND;TZID=America/Toronto:20261223T160000
DTSTAMP:20260419T225727
CREATED:20240624T183412Z
LAST-MODIFIED:20250907T203212Z
UID:10001157-1798030800-1798041600@meraschoolhouse.org
SUMMARY:MERA's Needle Pushers
DESCRIPTION:  \nMeeting Space: MERA Room \nContact Person: Bonnie McQuatt \nWe welcome anyone who might have new techniques or designs to share or perhaps just has a desire to try something new. \nMost of the fun of quilting is being with the people we quilt with. Newcomers learn by doing. If you would like to try quilting with us we will share our supplies with you until you figure out if quilting is your thing or not. The requirements for quilting are minimal. Those who have a portable sewing machine\, rotary cutter and mat will bring that equipment when we are starting a quilt and we work together cutting out the pattern and assembling the quilt. Once the hand quilting begins each person needs their own thimble\, scissors and quilting needles. \n 
URL:https://meraschoolhouse.org/event/meras-needle-pushers-50/2026-12-23/
CATEGORIES:Quilting
END:VEVENT
BEGIN:VEVENT
DTSTART;TZID=America/Toronto:20261224T090000
DTEND;TZID=America/Toronto:20261224T140000
DTSTAMP:20260419T225727
CREATED:20240624T183412Z
LAST-MODIFIED:20250907T203629Z
UID:10001279-1798102800-1798120800@meraschoolhouse.org
SUMMARY:Heritage Weavers
DESCRIPTION:Meeting Place: Dean Hall \nContact Person: Lise Loader \nThis collective has expanded significantly from a core group over the last few years. \nThe weavers gather to plan and work on projects and are available to share ideas\, advice and enthusiasm with each other and newer weavers. It’s an apprentice-like learn-as-you-go environment suited to those who have taken an introduction to weaving weekend workshop at a guild. \nWe have 7 looms of various sizes and styles at MERA. Some of these looms are set up with extra-long warps which become cooperative projects that various members work on when they can. \nAs with all groups at the Schoolhouse\, you must have a MERA membership to become a regular member of the MERA Heritage Weavers.
URL:https://meraschoolhouse.org/event/heritage-weavers-101/2026-12-24/
CATEGORIES:Weaving
END:VEVENT
BEGIN:VEVENT
DTSTART;TZID=America/Toronto:20261225T100000
DTEND;TZID=America/Toronto:20261225T120000
DTSTAMP:20260419T225727
CREATED:20240624T183412Z
LAST-MODIFIED:20250930T223943Z
UID:10001929-1798192800-1798200000@meraschoolhouse.org
SUMMARY:Art Circle
DESCRIPTION:Join us and  learn from and be inspired by what others in the group are working on. There is plenty of time to work on your own piece and also trade ideas and techniques with others in a casual way.
URL:https://meraschoolhouse.org/event/art-circle-51/2026-12-25/
LOCATION:MERA Schoolhouse\,  McDonald’s Corners
CATEGORIES:Art,Art circle
END:VEVENT
BEGIN:VEVENT
DTSTART;TZID=America/Toronto:20261229T050000
DTEND;TZID=America/Toronto:20261229T070000
DTSTAMP:20260419T225727
CREATED:20240624T183413Z
LAST-MODIFIED:20250907T194533Z
UID:10000732-1798520400-1798527600@meraschoolhouse.org
SUMMARY:Closed for Cleaning
DESCRIPTION:
URL:https://meraschoolhouse.org/event/closed-for-cleaning-53/2026-12-29/
END:VEVENT
BEGIN:VEVENT
DTSTART;TZID=America/Toronto:20261229T130000
DTEND;TZID=America/Toronto:20261229T150000
DTSTAMP:20260419T225727
CREATED:20240624T183413Z
LAST-MODIFIED:20251007T183337Z
UID:10000863-1798549200-1798556400@meraschoolhouse.org
SUMMARY:Pottery Studio
DESCRIPTION:Meeting Space: Pottery Studio (basement) \nContact Person: Lyndal Neelin \nWe are a joyful group of potters who share space\, tools and experience in the basement of the MERA schoolhouse. We are organized as a co-operative\, sharing responsibility for making our studio a fun\, open\, supportive and safe place to enjoy creating works in clay both on and away from the wheel.\nEach studio member is encouraged to participate in both individual and collective projects\, to contribute to studio maintenance tasks\, and to teach and learn from the other potters. MERA potters also organize learning and teaching opportunities in the form of in-house workshops and sessions led by professional potters and contribute to the Annual MERA Christmas Fair.
URL:https://meraschoolhouse.org/event/pottery-studio-106/2026-12-29/
LOCATION:MERA Schoolhouse\,  McDonald’s Corners
CATEGORIES:Pottery
END:VEVENT
BEGIN:VEVENT
DTSTART;TZID=America/Toronto:20261230T130000
DTEND;TZID=America/Toronto:20261230T150000
DTSTAMP:20260419T225727
CREATED:20240624T183411Z
LAST-MODIFIED:20250907T203006Z
UID:10001037-1798635600-1798642800@meraschoolhouse.org
SUMMARY:Pottery Studio
DESCRIPTION:Meetings Space: Pottery Studio (basement) \nContact Person: Heather Vriends
URL:https://meraschoolhouse.org/event/pottery-studio-101/2026-12-30/
LOCATION:MERA Schoolhouse\,  McDonald’s Corners
CATEGORIES:Pottery
END:VEVENT
END:VCALENDAR