BEGIN:VCALENDAR
VERSION:2.0
PRODID:-//MERA - ECPv6.15.11//NONSGML v1.0//EN
CALSCALE:GREGORIAN
METHOD:PUBLISH
X-WR-CALNAME:MERA
X-ORIGINAL-URL:https://meraschoolhouse.org
X-WR-CALDESC:Events for MERA
REFRESH-INTERVAL;VALUE=DURATION:PT1H
X-Robots-Tag:noindex
X-PUBLISHED-TTL:PT1H
BEGIN:VTIMEZONE
TZID:America/Toronto
BEGIN:DAYLIGHT
TZOFFSETFROM:-0500
TZOFFSETTO:-0400
TZNAME:EDT
DTSTART:20240310T070000
END:DAYLIGHT
BEGIN:STANDARD
TZOFFSETFROM:-0400
TZOFFSETTO:-0500
TZNAME:EST
DTSTART:20241103T060000
END:STANDARD
BEGIN:DAYLIGHT
TZOFFSETFROM:-0500
TZOFFSETTO:-0400
TZNAME:EDT
DTSTART:20250309T070000
END:DAYLIGHT
BEGIN:STANDARD
TZOFFSETFROM:-0400
TZOFFSETTO:-0500
TZNAME:EST
DTSTART:20251102T060000
END:STANDARD
BEGIN:DAYLIGHT
TZOFFSETFROM:-0500
TZOFFSETTO:-0400
TZNAME:EDT
DTSTART:20260308T070000
END:DAYLIGHT
BEGIN:STANDARD
TZOFFSETFROM:-0400
TZOFFSETTO:-0500
TZNAME:EST
DTSTART:20261101T060000
END:STANDARD
END:VTIMEZONE
BEGIN:VEVENT
DTSTART;TZID=America/Toronto:20250609T100000
DTEND;TZID=America/Toronto:20250609T140000
DTSTAMP:20260419T105042
CREATED:20240624T183411Z
LAST-MODIFIED:20240624T183411Z
UID:10000535-1749463200-1749477600@meraschoolhouse.org
SUMMARY:Homeschool Group
DESCRIPTION:Contact Person: Heather Vriends
URL:https://meraschoolhouse.org/event/homeschool-group-49/
END:VEVENT
BEGIN:VEVENT
DTSTART;TZID=America/Toronto:20250606T140000
DTEND;TZID=America/Toronto:20250606T170000
DTSTAMP:20260419T105042
CREATED:20250610T144223Z
LAST-MODIFIED:20250610T165457Z
UID:10000645-1749218400-1749229200@meraschoolhouse.org
SUMMARY:Art Exhibition Installation
DESCRIPTION:Installation of monthly art Exhibit in Dean Hall
URL:https://meraschoolhouse.org/event/art-exhibition-installation/
CATEGORIES:Art exhibits
END:VEVENT
BEGIN:VEVENT
DTSTART;TZID=America/Toronto:20250606T130000
DTEND;TZID=America/Toronto:20250606T143000
DTSTAMP:20260419T105042
CREATED:20240624T183411Z
LAST-MODIFIED:20240827T181905Z
UID:10000534-1749214800-1749220200@meraschoolhouse.org
SUMMARY:Recorder Consort
DESCRIPTION:
URL:https://meraschoolhouse.org/event/recorder-consort-48/
CATEGORIES:Recorder
END:VEVENT
BEGIN:VEVENT
DTSTART;TZID=America/Toronto:20250606T100000
DTEND;TZID=America/Toronto:20250606T120000
DTSTAMP:20260419T105042
CREATED:20240624T183411Z
LAST-MODIFIED:20240824T053748Z
UID:10000533-1749204000-1749211200@meraschoolhouse.org
SUMMARY:Art Circle
DESCRIPTION:
URL:https://meraschoolhouse.org/event/art-circle-49/
CATEGORIES:Art,Art circle
END:VEVENT
BEGIN:VEVENT
DTSTART;TZID=America/Toronto:20250605T150000
DTEND;TZID=America/Toronto:20250605T170000
DTSTAMP:20260419T105042
CREATED:20240624T183411Z
LAST-MODIFIED:20250310T201639Z
UID:10000532-1749135600-1749142800@meraschoolhouse.org
SUMMARY:Pottery Studio - Homeschoolers
DESCRIPTION:Meeting Space: Pottery Studio (basement) \nContact Person: Heather Vriends
URL:https://meraschoolhouse.org/event/pottery-studio-homeschoolers-49/
CATEGORIES:Pottery
END:VEVENT
BEGIN:VEVENT
DTSTART;TZID=America/Toronto:20250605T120000
DTEND;TZID=America/Toronto:20250605T160000
DTSTAMP:20260419T105042
CREATED:20240624T183411Z
LAST-MODIFIED:20250310T200953Z
UID:10000531-1749124800-1749139200@meraschoolhouse.org
SUMMARY:Heritage Weavers
DESCRIPTION:Meeting Place: Dean Hall \nContact Person: Lise Loader \nThis collective has expanded significantly from a core group over the last few years. \nThe weavers gather to plan and work on projects and are available to share ideas\, advice and enthusiasm with each other and newer weavers. It’s an apprentice-like learn-as-you-go environment suited to those who have taken an introduction to weaving weekend workshop at a guild. \nWe have 7 looms of various sizes and styles at MERA. Some of these looms are set up with extra-long warps which become cooperative projects that various members work on when they can. \nAs with all groups at the Schoolhouse\, you must have a MERA membership to become a regular member of the MERA Heritage Weavers.
URL:https://meraschoolhouse.org/event/heritage-weavers-96/
CATEGORIES:Weaving
END:VEVENT
BEGIN:VEVENT
DTSTART;TZID=America/Toronto:20250604T130000
DTEND;TZID=America/Toronto:20250604T160000
DTSTAMP:20260419T105042
CREATED:20240624T183411Z
LAST-MODIFIED:20240828T183314Z
UID:10000530-1749042000-1749052800@meraschoolhouse.org
SUMMARY:MERA's Needle Pushers
DESCRIPTION:Meeting Space: MERA Room \nContact Person: Bonnie McQuatt \nWe welcome anyone who might have new techniques or designs to shareor perhaps just has a desire to try something new. \n \nMostof the fun of quilting is being with the people we quilt with. Newcomers learnby doing. If you would like to try quilting with us we will share our supplieswith you until you figure out if quilting is your thing or not. Therequirements for quilting are minimal. Those who have a portable sewingmachine\, rotary cutter and mat will bring that equipment when we are starting aquilt and we work together cutting out the pattern and assembling the quilt.Once the hand quilting begins each person needs their own thimble\, scissors andquilting needles.
URL:https://meraschoolhouse.org/event/meras-needle-pushers-48/
CATEGORIES:Quilting
END:VEVENT
BEGIN:VEVENT
DTSTART;TZID=America/Toronto:20250604T130000
DTEND;TZID=America/Toronto:20250604T150000
DTSTAMP:20260419T105042
CREATED:20240624T183411Z
LAST-MODIFIED:20250907T203006Z
UID:10000529-1749042000-1749049200@meraschoolhouse.org
SUMMARY:Pottery Studio
DESCRIPTION:Meetings Space: Pottery Studio (basement) \nContact Person: Heather Vriends
URL:https://meraschoolhouse.org/event/pottery-studio-101/2025-06-04/
LOCATION:MERA Schoolhouse\,  McDonald’s Corners
CATEGORIES:Pottery
END:VEVENT
BEGIN:VEVENT
DTSTART;TZID=America/Toronto:20250603T180000
DTEND;TZID=America/Toronto:20250603T200000
DTSTAMP:20260419T105042
CREATED:20240624T183411Z
LAST-MODIFIED:20250907T201144Z
UID:10000528-1748973600-1748980800@meraschoolhouse.org
SUMMARY:Board Meeting
DESCRIPTION:
URL:https://meraschoolhouse.org/event/board-meeting-13/2025-06-03/
END:VEVENT
BEGIN:VEVENT
DTSTART;TZID=America/Toronto:20250603T130000
DTEND;TZID=America/Toronto:20250603T150000
DTSTAMP:20260419T105042
CREATED:20240624T183411Z
LAST-MODIFIED:20250310T201639Z
UID:10000527-1748955600-1748962800@meraschoolhouse.org
SUMMARY:Pottery Studio
DESCRIPTION:Meeting Space: Pottery Studio (basement) \nContact Person: Jan Griffiths \nWe are a joyfulgroup of potters who share space\, tools and experience in the basement of theMERA schoolhouse. We are organized as a co-operative\, sharing responsibilityfor making our studio a fun\, open\, supportive and safe place to enjoy creatingworks in clay both on and away from the wheel. Each studio member is encouragedto participate in both individual and collective projects\, to contribute tostudio maintenance tasks\, and to teach and learn from the other potters. MERApotters also organize learning and teaching opportunities in the form ofin-house workshops and sessions led by professional potters and contribute tothe Annual MERA Christmas Fair.
URL:https://meraschoolhouse.org/event/pottery-studio-100/
CATEGORIES:Pottery
END:VEVENT
BEGIN:VEVENT
DTSTART;TZID=America/Toronto:20250603T050000
DTEND;TZID=America/Toronto:20250603T070000
DTSTAMP:20260419T105042
CREATED:20240624T183411Z
LAST-MODIFIED:20240624T183411Z
UID:10000526-1748926800-1748934000@meraschoolhouse.org
SUMMARY:Closed for Cleaning
DESCRIPTION:
URL:https://meraschoolhouse.org/event/closed-for-cleaning-50/
END:VEVENT
BEGIN:VEVENT
DTSTART;TZID=America/Toronto:20250602T130000
DTEND;TZID=America/Toronto:20250602T160000
DTSTAMP:20260419T105042
CREATED:20240624T183411Z
LAST-MODIFIED:20250310T200953Z
UID:10000525-1748869200-1748880000@meraschoolhouse.org
SUMMARY:Heritage Weavers
DESCRIPTION:Meeting Place: Dean Hall \nContact Person: Lise Loader \nThis collective has expanded significantly from a core group over the last few years. \nThe weavers gather to plan and work on projects and are available to share ideas\, advice and enthusiasm with each other and newer weavers. It’s an apprentice-like learn-as-you-go environment suited to those who have taken an introduction to weaving weekend workshop at a guild. \nWe have 7 looms of various sizes and styles at MERA. Some of these looms are set up with extra-long warps which become cooperative projects that various members work on when they can. \nAs with all groups at the Schoolhouse\, you must have a MERA membership to become a regular member of the MERA Heritage Weavers.
URL:https://meraschoolhouse.org/event/heritage-weavers-95/
CATEGORIES:Weaving
END:VEVENT
BEGIN:VEVENT
DTSTART;TZID=America/Toronto:20250602T100000
DTEND;TZID=America/Toronto:20250602T140000
DTSTAMP:20260419T105042
CREATED:20240624T183410Z
LAST-MODIFIED:20240624T183410Z
UID:10000524-1748858400-1748872800@meraschoolhouse.org
SUMMARY:Homeschool Group
DESCRIPTION:Contact Person: Heather Vriends
URL:https://meraschoolhouse.org/event/homeschool-group-48/
END:VEVENT
BEGIN:VEVENT
DTSTART;TZID=America/Toronto:20250530T130000
DTEND;TZID=America/Toronto:20250530T143000
DTSTAMP:20260419T105042
CREATED:20240624T183410Z
LAST-MODIFIED:20240827T181259Z
UID:10000523-1748610000-1748615400@meraschoolhouse.org
SUMMARY:Recorder Consort
DESCRIPTION:
URL:https://meraschoolhouse.org/event/recorder-consort-47/
CATEGORIES:Recorder
END:VEVENT
BEGIN:VEVENT
DTSTART;TZID=America/Toronto:20250530T100000
DTEND;TZID=America/Toronto:20250530T120000
DTSTAMP:20260419T105042
CREATED:20240624T183410Z
LAST-MODIFIED:20240824T053748Z
UID:10000522-1748599200-1748606400@meraschoolhouse.org
SUMMARY:Art Circle
DESCRIPTION:
URL:https://meraschoolhouse.org/event/art-circle-48/
CATEGORIES:Art,Art circle
END:VEVENT
BEGIN:VEVENT
DTSTART;TZID=America/Toronto:20250529T150000
DTEND;TZID=America/Toronto:20250529T170000
DTSTAMP:20260419T105042
CREATED:20240624T183410Z
LAST-MODIFIED:20250310T201639Z
UID:10000521-1748530800-1748538000@meraschoolhouse.org
SUMMARY:Pottery Studio - Homeschoolers
DESCRIPTION:Meeting Space: Pottery Studio (basement) \nContact Person: Heather Vriends
URL:https://meraschoolhouse.org/event/pottery-studio-homeschoolers-48/
CATEGORIES:Pottery
END:VEVENT
BEGIN:VEVENT
DTSTART;TZID=America/Toronto:20250529T120000
DTEND;TZID=America/Toronto:20250529T160000
DTSTAMP:20260419T105042
CREATED:20240624T183410Z
LAST-MODIFIED:20250310T200953Z
UID:10000520-1748520000-1748534400@meraschoolhouse.org
SUMMARY:Heritage Weavers
DESCRIPTION:Meeting Place: Dean Hall \nContact Person: Lise Loader \nThis collective has expanded significantly from a core group over the last few years. \nThe weavers gather to plan and work on projects and are available to share ideas\, advice and enthusiasm with each other and newer weavers. It’s an apprentice-like learn-as-you-go environment suited to those who have taken an introduction to weaving weekend workshop at a guild. \nWe have 7 looms of various sizes and styles at MERA. Some of these looms are set up with extra-long warps which become cooperative projects that various members work on when they can. \nAs with all groups at the Schoolhouse\, you must have a MERA membership to become a regular member of the MERA Heritage Weavers.
URL:https://meraschoolhouse.org/event/heritage-weavers-94/
CATEGORIES:Weaving
END:VEVENT
BEGIN:VEVENT
DTSTART;TZID=America/Toronto:20250528T130000
DTEND;TZID=America/Toronto:20250528T160000
DTSTAMP:20260419T105042
CREATED:20240624T183410Z
LAST-MODIFIED:20240828T183314Z
UID:10000519-1748437200-1748448000@meraschoolhouse.org
SUMMARY:MERA's Needle Pushers
DESCRIPTION:Meeting Space: MERA Room \nContact Person: Bonnie McQuatt \nWe welcome anyone who might have new techniques or designs to shareor perhaps just has a desire to try something new. \n \nMostof the fun of quilting is being with the people we quilt with. Newcomers learnby doing. If you would like to try quilting with us we will share our supplieswith you until you figure out if quilting is your thing or not. Therequirements for quilting are minimal. Those who have a portable sewingmachine\, rotary cutter and mat will bring that equipment when we are starting aquilt and we work together cutting out the pattern and assembling the quilt.Once the hand quilting begins each person needs their own thimble\, scissors andquilting needles.
URL:https://meraschoolhouse.org/event/meras-needle-pushers-47/
CATEGORIES:Quilting
END:VEVENT
BEGIN:VEVENT
DTSTART;TZID=America/Toronto:20250528T130000
DTEND;TZID=America/Toronto:20250528T150000
DTSTAMP:20260419T105042
CREATED:20240624T183410Z
LAST-MODIFIED:20250310T201639Z
UID:10000518-1748437200-1748444400@meraschoolhouse.org
SUMMARY:Pottery Studio
DESCRIPTION:Meetings Space: Pottery Studio (basement) \nContact Person: Heather Vriends
URL:https://meraschoolhouse.org/event/pottery-studio-99/
CATEGORIES:Pottery
END:VEVENT
BEGIN:VEVENT
DTSTART;TZID=America/Toronto:20250527T130000
DTEND;TZID=America/Toronto:20250527T150000
DTSTAMP:20260419T105042
CREATED:20240624T183410Z
LAST-MODIFIED:20250310T201639Z
UID:10000517-1748350800-1748358000@meraschoolhouse.org
SUMMARY:Pottery Studio
DESCRIPTION:Meeting Space: Pottery Studio (basement) \nContact Person: Jan Griffiths \nWe are a joyfulgroup of potters who share space\, tools and experience in the basement of theMERA schoolhouse. We are organized as a co-operative\, sharing responsibilityfor making our studio a fun\, open\, supportive and safe place to enjoy creatingworks in clay both on and away from the wheel. Each studio member is encouragedto participate in both individual and collective projects\, to contribute tostudio maintenance tasks\, and to teach and learn from the other potters. MERApotters also organize learning and teaching opportunities in the form ofin-house workshops and sessions led by professional potters and contribute tothe Annual MERA Christmas Fair.
URL:https://meraschoolhouse.org/event/pottery-studio-98/
CATEGORIES:Pottery
END:VEVENT
BEGIN:VEVENT
DTSTART;TZID=America/Toronto:20250527T050000
DTEND;TZID=America/Toronto:20250527T070000
DTSTAMP:20260419T105042
CREATED:20240624T183410Z
LAST-MODIFIED:20240624T183410Z
UID:10000516-1748322000-1748329200@meraschoolhouse.org
SUMMARY:Closed for Cleaning
DESCRIPTION:
URL:https://meraschoolhouse.org/event/closed-for-cleaning-49/
END:VEVENT
BEGIN:VEVENT
DTSTART;TZID=America/Toronto:20250526T130000
DTEND;TZID=America/Toronto:20250526T160000
DTSTAMP:20260419T105042
CREATED:20240624T183410Z
LAST-MODIFIED:20250310T200953Z
UID:10000515-1748264400-1748275200@meraschoolhouse.org
SUMMARY:Heritage Weavers
DESCRIPTION:Meeting Place: Dean Hall \nContact Person: Lise Loader \nThis collective has expanded significantly from a core group over the last few years. \nThe weavers gather to plan and work on projects and are available to share ideas\, advice and enthusiasm with each other and newer weavers. It’s an apprentice-like learn-as-you-go environment suited to those who have taken an introduction to weaving weekend workshop at a guild. \nWe have 7 looms of various sizes and styles at MERA. Some of these looms are set up with extra-long warps which become cooperative projects that various members work on when they can. \nAs with all groups at the Schoolhouse\, you must have a MERA membership to become a regular member of the MERA Heritage Weavers.
URL:https://meraschoolhouse.org/event/heritage-weavers-93/
CATEGORIES:Weaving
END:VEVENT
BEGIN:VEVENT
DTSTART;TZID=America/Toronto:20250526T100000
DTEND;TZID=America/Toronto:20250526T140000
DTSTAMP:20260419T105042
CREATED:20240624T183410Z
LAST-MODIFIED:20240624T183410Z
UID:10000514-1748253600-1748268000@meraschoolhouse.org
SUMMARY:Homeschool Group
DESCRIPTION:Contact Person: Heather Vriends
URL:https://meraschoolhouse.org/event/homeschool-group-47/
END:VEVENT
BEGIN:VEVENT
DTSTART;TZID=America/Toronto:20250525T140000
DTEND;TZID=America/Toronto:20250525T160000
DTSTAMP:20260419T105042
CREATED:20250221T225819Z
LAST-MODIFIED:20250221T225830Z
UID:10000639-1748181600-1748188800@meraschoolhouse.org
SUMMARY:Music at MERA: Paul Marley and Frédéric Lacroix
DESCRIPTION:It is hard to believe that the last time Paul and Frédéric played together at MERA was to a packed house in late 2022. Beginning in 2017 this duo performed at MERA\, for 6 consecutive years regardless of foul weather or pandemic\, becoming a mainstay of our Blue Jeans Classical series in the process. We are thrilled to get them back. Those of you who attended any of the previous engagements will already know that these are two very accomplished and passionate virtuoso musicians who bring a discerning selection of music that spans the width and breadth of the classical repertoire.\n\nPaul and Frédéric’s enthusiasm for their music shines through not only in the performance. Each piece has a back story and Paul and Frédéric love to share the most interesting bits with us\, whether it be about the composer\, their times or the piece itself. We are certain that you will be enchanted and intrigued as this gifted pair brings their music to life in an informal\, intimate setting at MERA.\n\nCellist Paul Marleyn tours regularly in North America\, Europe and Asia. As a frequent participant in summer festivals he collaborates with numerous acclaimed artists and ensembles. He has appeared as soloist with numerous orchestras across the globe. From 2005-2012\, he was a member of the Trio Hochelaga\, one of Canada’s leading chamber ensembles. From 1997 to 2004\, Paul served as Professor of Cello and Head of Strings at the University of Manitoba in Canada\, and since 2004 has held the same positions at the University of Ottawa\, where he now mentors an award-winning studio of young cellists.\n\nPianist Frédéric Lacroix has performed in Canada\, the United States\, Europe\, and Asia as a soloist\, chamber musician\, and collaborative pianist. Lacroix is also active as a composer\, having composed for Ottawa Chamberfest\, the Society of American Music\, the Canadian University Music Society\, the Choeur Classique de l’Outaouais\, and other noted Canadian musicians. Much in demand as a collaborative artist\, teacher\, adjudicator\, and composer\, he currently teaches at the University of Ottawa.\n\nTickets are $30 plus fees available at TICKETS PLEASE
URL:https://meraschoolhouse.org/event/music-at-mera-paul-marley-and-frederic-lacroix/
END:VEVENT
BEGIN:VEVENT
DTSTART;TZID=America/Toronto:20250523T130000
DTEND;TZID=America/Toronto:20250523T143000
DTSTAMP:20260419T105042
CREATED:20240624T183410Z
LAST-MODIFIED:20240827T181259Z
UID:10000513-1748005200-1748010600@meraschoolhouse.org
SUMMARY:Recorder Consort
DESCRIPTION:
URL:https://meraschoolhouse.org/event/recorder-consort-46/
CATEGORIES:Recorder
END:VEVENT
BEGIN:VEVENT
DTSTART;TZID=America/Toronto:20250523T103000
DTEND;TZID=America/Toronto:20250523T160000
DTSTAMP:20260419T105042
CREATED:20250610T181335Z
LAST-MODIFIED:20250610T181723Z
UID:10000646-1747996200-1748016000@meraschoolhouse.org
SUMMARY:Art Workshop: Suzette MacSkimming
DESCRIPTION:Explore abstract expressionism with Suzette. $60 for MERA members and $75 for non members. Space is limited. Please register by emailing MERA admin meraschoolhouse@gmail.com.
URL:https://meraschoolhouse.org/event/art-workshop-suzette-macskimming/
LOCATION:MERA Schoolhouse\,  McDonald’s Corners
CATEGORIES:Art,Workshops
END:VEVENT
BEGIN:VEVENT
DTSTART;TZID=America/Toronto:20250523T100000
DTEND;TZID=America/Toronto:20250523T120000
DTSTAMP:20260419T105042
CREATED:20240624T183410Z
LAST-MODIFIED:20240824T053748Z
UID:10000512-1747994400-1748001600@meraschoolhouse.org
SUMMARY:Art Circle
DESCRIPTION:
URL:https://meraschoolhouse.org/event/art-circle-47/
CATEGORIES:Art,Art circle
END:VEVENT
BEGIN:VEVENT
DTSTART;TZID=America/Toronto:20250522T150000
DTEND;TZID=America/Toronto:20250522T170000
DTSTAMP:20260419T105042
CREATED:20240624T183410Z
LAST-MODIFIED:20250310T201639Z
UID:10000511-1747926000-1747933200@meraschoolhouse.org
SUMMARY:Pottery Studio - Homeschoolers
DESCRIPTION:Meeting Space: Pottery Studio (basement) \nContact Person: Heather Vriends
URL:https://meraschoolhouse.org/event/pottery-studio-homeschoolers-47/
CATEGORIES:Pottery
END:VEVENT
BEGIN:VEVENT
DTSTART;TZID=America/Toronto:20250522T120000
DTEND;TZID=America/Toronto:20250522T160000
DTSTAMP:20260419T105042
CREATED:20240624T183410Z
LAST-MODIFIED:20250310T200953Z
UID:10000510-1747915200-1747929600@meraschoolhouse.org
SUMMARY:Heritage Weavers
DESCRIPTION:Meeting Place: Dean Hall \nContact Person: Lise Loader
URL:https://meraschoolhouse.org/event/heritage-weavers-92/
CATEGORIES:Weaving
END:VEVENT
BEGIN:VEVENT
DTSTART;TZID=America/Toronto:20250521T130000
DTEND;TZID=America/Toronto:20250521T160000
DTSTAMP:20260419T105042
CREATED:20240624T183410Z
LAST-MODIFIED:20240828T183314Z
UID:10000509-1747832400-1747843200@meraschoolhouse.org
SUMMARY:MERA's Needle Pushers
DESCRIPTION:Meeting Space: MERA Room \nContact Person: Bonnie McQuatt \nWe welcome anyone who might have new techniques or designs to shareor perhaps just has a desire to try something new. \n \nMostof the fun of quilting is being with the people we quilt with. Newcomers learnby doing. If you would like to try quilting with us we will share our supplieswith you until you figure out if quilting is your thing or not. Therequirements for quilting are minimal. Those who have a portable sewingmachine\, rotary cutter and mat will bring that equipment when we are starting aquilt and we work together cutting out the pattern and assembling the quilt.Once the hand quilting begins each person needs their own thimble\, scissors andquilting needles.
URL:https://meraschoolhouse.org/event/meras-needle-pushers-46/
CATEGORIES:Quilting
END:VEVENT
END:VCALENDAR