BEGIN:VCALENDAR
VERSION:2.0
PRODID:-//MERA - ECPv6.15.11//NONSGML v1.0//EN
CALSCALE:GREGORIAN
METHOD:PUBLISH
X-WR-CALNAME:MERA
X-ORIGINAL-URL:https://meraschoolhouse.org
X-WR-CALDESC:Events for MERA
REFRESH-INTERVAL;VALUE=DURATION:PT1H
X-Robots-Tag:noindex
X-PUBLISHED-TTL:PT1H
BEGIN:VTIMEZONE
TZID:America/Toronto
BEGIN:DAYLIGHT
TZOFFSETFROM:-0500
TZOFFSETTO:-0400
TZNAME:EDT
DTSTART:20240310T070000
END:DAYLIGHT
BEGIN:STANDARD
TZOFFSETFROM:-0400
TZOFFSETTO:-0500
TZNAME:EST
DTSTART:20241103T060000
END:STANDARD
BEGIN:DAYLIGHT
TZOFFSETFROM:-0500
TZOFFSETTO:-0400
TZNAME:EDT
DTSTART:20250309T070000
END:DAYLIGHT
BEGIN:STANDARD
TZOFFSETFROM:-0400
TZOFFSETTO:-0500
TZNAME:EST
DTSTART:20251102T060000
END:STANDARD
BEGIN:DAYLIGHT
TZOFFSETFROM:-0500
TZOFFSETTO:-0400
TZNAME:EDT
DTSTART:20260308T070000
END:DAYLIGHT
BEGIN:STANDARD
TZOFFSETFROM:-0400
TZOFFSETTO:-0500
TZNAME:EST
DTSTART:20261101T060000
END:STANDARD
END:VTIMEZONE
BEGIN:VEVENT
DTSTART;TZID=America/Toronto:20250304T190000
DTEND;TZID=America/Toronto:20250304T200000
DTSTAMP:20260422T215052
CREATED:20240624T183401Z
LAST-MODIFIED:20250221T163642Z
UID:10000392-1741114800-1741118400@meraschoolhouse.org
SUMMARY:Board Meeting
DESCRIPTION:
URL:https://meraschoolhouse.org/event/board-meeting-10/
END:VEVENT
BEGIN:VEVENT
DTSTART;TZID=America/Toronto:20250304T130000
DTEND;TZID=America/Toronto:20250304T150000
DTSTAMP:20260422T215052
CREATED:20240624T183401Z
LAST-MODIFIED:20250310T201837Z
UID:10000391-1741093200-1741100400@meraschoolhouse.org
SUMMARY:Pottery Studio
DESCRIPTION:Meeting Space: Pottery Studio (basement) \nContact Person: Jan Griffiths \nWe are a joyfulgroup of potters who share space\, tools and experience in the basement of theMERA schoolhouse. We are organized as a co-operative\, sharing responsibilityfor making our studio a fun\, open\, supportive and safe place to enjoy creatingworks in clay both on and away from the wheel. Each studio member is encouragedto participate in both individual and collective projects\, to contribute tostudio maintenance tasks\, and to teach and learn from the other potters. MERApotters also organize learning and teaching opportunities in the form ofin-house workshops and sessions led by professional potters and contribute tothe Annual MERA Christmas Fair.
URL:https://meraschoolhouse.org/event/pottery-studio-74/
CATEGORIES:Pottery
END:VEVENT
BEGIN:VEVENT
DTSTART;TZID=America/Toronto:20250304T050000
DTEND;TZID=America/Toronto:20250304T070000
DTSTAMP:20260422T215052
CREATED:20240624T183401Z
LAST-MODIFIED:20240624T183401Z
UID:10000390-1741064400-1741071600@meraschoolhouse.org
SUMMARY:Closed for Cleaning
DESCRIPTION:
URL:https://meraschoolhouse.org/event/closed-for-cleaning-37/
END:VEVENT
BEGIN:VEVENT
DTSTART;TZID=America/Toronto:20250303T130000
DTEND;TZID=America/Toronto:20250303T160000
DTSTAMP:20260422T215052
CREATED:20240624T183401Z
LAST-MODIFIED:20250310T201022Z
UID:10000389-1741006800-1741017600@meraschoolhouse.org
SUMMARY:Heritage Weavers
DESCRIPTION:Meeting Place: Dean Hall \nContact Person: Lise Loader \nThis collective has expanded significantly from a core group over the last few years. \nThe weavers gather to plan and work on projects and are available to share ideas\, advice and enthusiasm with each other and newer weavers. It’s an apprentice-like learn-as-you-go environment suited to those who have taken an introduction to weaving weekend workshop at a guild. \nWe have 7 looms of various sizes and styles at MERA. Some of these looms are set up with extra-long warps which become cooperative projects that various members work on when they can. \nAs with all groups at the Schoolhouse\, you must have a MERA membership to become a regular member of the MERA Heritage Weavers.
URL:https://meraschoolhouse.org/event/heritage-weavers-69/
CATEGORIES:Weaving
END:VEVENT
BEGIN:VEVENT
DTSTART;TZID=America/Toronto:20250303T100000
DTEND;TZID=America/Toronto:20250303T140000
DTSTAMP:20260422T215052
CREATED:20240624T183401Z
LAST-MODIFIED:20240624T183401Z
UID:10000388-1740996000-1741010400@meraschoolhouse.org
SUMMARY:Homeschool Group
DESCRIPTION:Contact Person: Heather Vriends
URL:https://meraschoolhouse.org/event/homeschool-group-35/
END:VEVENT
BEGIN:VEVENT
DTSTART;TZID=America/Toronto:20250302T140000
DTEND;TZID=America/Toronto:20250302T160000
DTSTAMP:20260422T215052
CREATED:20250610T182723Z
LAST-MODIFIED:20250610T182723Z
UID:10000647-1740924000-1740931200@meraschoolhouse.org
SUMMARY:Meet the Artists: Brent McGillivray and Maureen Bennett
DESCRIPTION:An evocative trip down memory lane and a fresh take on our beloved Canadian landscape. The works of Brent McGillivray and Maureen Bennett \nJoin us on Sunday March 2nd\, 2pm to 4pm for a Meet the Artist event. Mera welcomes Brent McGillivray and Maureen Bennett of Times Gone By Studio in Perth. Their work will be displayed in Dean Hall at MERA for the months of March and April. \nMaureen Bennett interprets classic Canadian landscapes contemporary\, bold and graphic manner. When you look at her paintings\, you can see how her designs are influenced by her history pf working with stained glass. She says her inspiration of painting always comes from a memory and the emotional experience of time spent in Algonquin\, Georgian Bay and the Western provinces as well as the Group of Seven. She developed a signature style of vibrant colourful parallel lines juxtaposed by simple forms and solid shapes outlined in white. Her paintings evoke feelings of peace\, solitude and quiet. \nBrent McGillivray creates “photo realistic” acrylic and watercolour paintings of disappearing urban and rural architectural landmarks and advertising signage. He says he is drawn to roadside restaurants; motels; abandoned buildings and neon signs. He works back and forth between photography and canvas. He credits his training as an architectural draftsman to create meticulously rendered images. He is influenced by the bold and innovative architectural style of Frank Lloyd Wright and Luis Barragan as they blend art and architecture. \nJoin Brent and Maureen at the MERA Schoolhouse in McDonald’s Corners (974 Dalhousie Concession 9A) on Sunday March 2nd\, 2pm to 4pm to meet the artist\, view their works and purchase that “must have” piece.  \nIf you cannot attend the Meet the Artist even\, join us at the Saturday Cafe in March and April\, or please contact Tim Booth timothybooth9@gmail.com arrange another viewing time.
URL:https://meraschoolhouse.org/event/meet-the-artists-brent-mcgillivray-and-maureen-bennett/
CATEGORIES:Art,Art exhibits
ATTACH;FMTTYPE=image/jpeg:https://meraschoolhouse.org/wp-content/uploads/2025/06/meet-the-artist-March-2025-Brent-McGillivray-and-Maureen-Bennett.jpg
END:VEVENT
BEGIN:VEVENT
DTSTART;TZID=America/Toronto:20250301T143000
DTEND;TZID=America/Toronto:20250301T163000
DTSTAMP:20260422T215052
CREATED:20250610T143740Z
LAST-MODIFIED:20250610T143740Z
UID:10000643-1740839400-1740846600@meraschoolhouse.org
SUMMARY:Art Exhibit Installation
DESCRIPTION:Installation of monthly art Exhibit in Dean Hall
URL:https://meraschoolhouse.org/event/art-exhibit-installation/
CATEGORIES:Art exhibits
END:VEVENT
BEGIN:VEVENT
DTSTART;TZID=America/Toronto:20250228T130000
DTEND;TZID=America/Toronto:20250228T143000
DTSTAMP:20260422T215052
CREATED:20240624T183400Z
LAST-MODIFIED:20240827T182310Z
UID:10000387-1740747600-1740753000@meraschoolhouse.org
SUMMARY:Recorder Consort
DESCRIPTION:
URL:https://meraschoolhouse.org/event/recorder-consort-34/
CATEGORIES:Recorder
END:VEVENT
BEGIN:VEVENT
DTSTART;TZID=America/Toronto:20250228T100000
DTEND;TZID=America/Toronto:20250228T120000
DTSTAMP:20260422T215052
CREATED:20240624T183400Z
LAST-MODIFIED:20240824T053721Z
UID:10000386-1740736800-1740744000@meraschoolhouse.org
SUMMARY:Art Circle
DESCRIPTION:
URL:https://meraschoolhouse.org/event/art-circle-35/
CATEGORIES:Art,Art circle
END:VEVENT
BEGIN:VEVENT
DTSTART;TZID=America/Toronto:20250227T150000
DTEND;TZID=America/Toronto:20250227T170000
DTSTAMP:20260422T215052
CREATED:20240624T183400Z
LAST-MODIFIED:20250310T201837Z
UID:10000385-1740668400-1740675600@meraschoolhouse.org
SUMMARY:Pottery Studio - Homeschoolers
DESCRIPTION:Meeting Space: Pottery Studio (basement) \nContact Person: Heather Vriends
URL:https://meraschoolhouse.org/event/pottery-studio-homeschoolers-35/
CATEGORIES:Pottery
END:VEVENT
BEGIN:VEVENT
DTSTART;TZID=America/Toronto:20250227T120000
DTEND;TZID=America/Toronto:20250227T160000
DTSTAMP:20260422T215052
CREATED:20240624T183400Z
LAST-MODIFIED:20250310T201022Z
UID:10000384-1740657600-1740672000@meraschoolhouse.org
SUMMARY:Heritage Weavers
DESCRIPTION:Meeting Place: Dean Hall \nContact Person: Lise Loader \nThis collective has expanded significantly from a core group over the last few years. \nThe weavers gather to plan and work on projects and are available to share ideas\, advice and enthusiasm with each other and newer weavers. It’s an apprentice-like learn-as-you-go environment suited to those who have taken an introduction to weaving weekend workshop at a guild. \nWe have 7 looms of various sizes and styles at MERA. Some of these looms are set up with extra-long warps which become cooperative projects that various members work on when they can. \nAs with all groups at the Schoolhouse\, you must have a MERA membership to become a regular member of the MERA Heritage Weavers.
URL:https://meraschoolhouse.org/event/heritage-weavers-68/
CATEGORIES:Weaving
END:VEVENT
BEGIN:VEVENT
DTSTART;TZID=America/Toronto:20250226T130000
DTEND;TZID=America/Toronto:20250226T160000
DTSTAMP:20260422T215052
CREATED:20240624T183400Z
LAST-MODIFIED:20240828T183314Z
UID:10000383-1740574800-1740585600@meraschoolhouse.org
SUMMARY:MERA's Needle Pushers
DESCRIPTION:Meeting Space: MERA Room \nContact Person: Bonnie McQuatt \nWe welcome anyone who might have new techniques or designs to shareor perhaps just has a desire to try something new. \n \nMostof the fun of quilting is being with the people we quilt with. Newcomers learnby doing. If you would like to try quilting with us we will share our supplieswith you until you figure out if quilting is your thing or not. Therequirements for quilting are minimal. Those who have a portable sewingmachine\, rotary cutter and mat will bring that equipment when we are starting aquilt and we work together cutting out the pattern and assembling the quilt.Once the hand quilting begins each person needs their own thimble\, scissors andquilting needles.
URL:https://meraschoolhouse.org/event/meras-needle-pushers-34/
CATEGORIES:Quilting
END:VEVENT
BEGIN:VEVENT
DTSTART;TZID=America/Toronto:20250226T130000
DTEND;TZID=America/Toronto:20250226T150000
DTSTAMP:20260422T215052
CREATED:20240624T183400Z
LAST-MODIFIED:20250310T201837Z
UID:10000382-1740574800-1740582000@meraschoolhouse.org
SUMMARY:Pottery Studio
DESCRIPTION:Meetings Space: Pottery Studio (basement) \nContact Person: Heather Vriends
URL:https://meraschoolhouse.org/event/pottery-studio-73/
CATEGORIES:Pottery
END:VEVENT
BEGIN:VEVENT
DTSTART;TZID=America/Toronto:20250225T130000
DTEND;TZID=America/Toronto:20250225T150000
DTSTAMP:20260422T215052
CREATED:20240624T183400Z
LAST-MODIFIED:20250310T201837Z
UID:10000381-1740488400-1740495600@meraschoolhouse.org
SUMMARY:Pottery Studio
DESCRIPTION:Meeting Space: Pottery Studio (basement) \nContact Person: Jan Griffiths \nWe are a joyfulgroup of potters who share space\, tools and experience in the basement of theMERA schoolhouse. We are organized as a co-operative\, sharing responsibilityfor making our studio a fun\, open\, supportive and safe place to enjoy creatingworks in clay both on and away from the wheel. Each studio member is encouragedto participate in both individual and collective projects\, to contribute tostudio maintenance tasks\, and to teach and learn from the other potters. MERApotters also organize learning and teaching opportunities in the form ofin-house workshops and sessions led by professional potters and contribute tothe Annual MERA Christmas Fair.
URL:https://meraschoolhouse.org/event/pottery-studio-72/
CATEGORIES:Pottery
END:VEVENT
BEGIN:VEVENT
DTSTART;TZID=America/Toronto:20250225T050000
DTEND;TZID=America/Toronto:20250225T070000
DTSTAMP:20260422T215052
CREATED:20240624T183400Z
LAST-MODIFIED:20240624T183400Z
UID:10000380-1740459600-1740466800@meraschoolhouse.org
SUMMARY:Closed for Cleaning
DESCRIPTION:
URL:https://meraschoolhouse.org/event/closed-for-cleaning-36/
END:VEVENT
BEGIN:VEVENT
DTSTART;TZID=America/Toronto:20250224T130000
DTEND;TZID=America/Toronto:20250224T160000
DTSTAMP:20260422T215052
CREATED:20240624T183400Z
LAST-MODIFIED:20250310T201022Z
UID:10000379-1740402000-1740412800@meraschoolhouse.org
SUMMARY:Heritage Weavers
DESCRIPTION:Meeting Place: Dean Hall \nContact Person: Lise Loader \nThis collective has expanded significantly from a core group over the last few years. \nThe weavers gather to plan and work on projects and are available to share ideas\, advice and enthusiasm with each other and newer weavers. It’s an apprentice-like learn-as-you-go environment suited to those who have taken an introduction to weaving weekend workshop at a guild. \nWe have 7 looms of various sizes and styles at MERA. Some of these looms are set up with extra-long warps which become cooperative projects that various members work on when they can. \nAs with all groups at the Schoolhouse\, you must have a MERA membership to become a regular member of the MERA Heritage Weavers. \n 
URL:https://meraschoolhouse.org/event/heritage-weavers-67/
CATEGORIES:Weaving
END:VEVENT
BEGIN:VEVENT
DTSTART;TZID=America/Toronto:20250224T100000
DTEND;TZID=America/Toronto:20250224T140000
DTSTAMP:20260422T215052
CREATED:20240624T183400Z
LAST-MODIFIED:20240624T183400Z
UID:10000378-1740391200-1740405600@meraschoolhouse.org
SUMMARY:Homeschool Group
DESCRIPTION:Contact Person: Heather Vriends
URL:https://meraschoolhouse.org/event/homeschool-group-34/
END:VEVENT
BEGIN:VEVENT
DTSTART;TZID=America/Toronto:20250223T100000
DTEND;TZID=America/Toronto:20250223T140000
DTSTAMP:20260422T215052
CREATED:20250221T164528Z
LAST-MODIFIED:20250221T233754Z
UID:10000632-1740304800-1740319200@meraschoolhouse.org
SUMMARY:MERA Saturday Cafe
DESCRIPTION:Coffee\, Tea and Hot Chocolate – freeHomemade soup – $5Baked goods $2 or by donation \nChildren’s Activities \nGreat conversations\, meet the community\, check out the art exhibit in Dean Hall!
URL:https://meraschoolhouse.org/event/mera-saturday-cafe/
ATTACH;FMTTYPE=image/jpeg:https://meraschoolhouse.org/wp-content/uploads/2025/02/Mera-cafe-soup.jpg
END:VEVENT
BEGIN:VEVENT
DTSTART;TZID=America/Toronto:20250221T130000
DTEND;TZID=America/Toronto:20250221T143000
DTSTAMP:20260422T215052
CREATED:20240624T183400Z
LAST-MODIFIED:20240827T182323Z
UID:10000377-1740142800-1740148200@meraschoolhouse.org
SUMMARY:Recorder Consort
DESCRIPTION:
URL:https://meraschoolhouse.org/event/recorder-consort-33/
CATEGORIES:Recorder
END:VEVENT
BEGIN:VEVENT
DTSTART;TZID=America/Toronto:20250221T100000
DTEND;TZID=America/Toronto:20250221T120000
DTSTAMP:20260422T215052
CREATED:20240624T183400Z
LAST-MODIFIED:20240824T053721Z
UID:10000376-1740132000-1740139200@meraschoolhouse.org
SUMMARY:Art Circle
DESCRIPTION:
URL:https://meraschoolhouse.org/event/art-circle-34/
CATEGORIES:Art,Art circle
END:VEVENT
BEGIN:VEVENT
DTSTART;TZID=America/Toronto:20250220T150000
DTEND;TZID=America/Toronto:20250220T170000
DTSTAMP:20260422T215052
CREATED:20240624T183400Z
LAST-MODIFIED:20250310T201837Z
UID:10000375-1740063600-1740070800@meraschoolhouse.org
SUMMARY:Pottery Studio - Homeschoolers
DESCRIPTION:Meeting Space: Pottery Studio (basement) \nContact Person: Heather Vriends
URL:https://meraschoolhouse.org/event/pottery-studio-homeschoolers-34/
CATEGORIES:Pottery
END:VEVENT
BEGIN:VEVENT
DTSTART;TZID=America/Toronto:20250220T120000
DTEND;TZID=America/Toronto:20250220T160000
DTSTAMP:20260422T215052
CREATED:20240624T183400Z
LAST-MODIFIED:20250310T201022Z
UID:10000374-1740052800-1740067200@meraschoolhouse.org
SUMMARY:Heritage Weavers
DESCRIPTION:Meeting Place: Dean Hall \nContact Person: Lise Loader
URL:https://meraschoolhouse.org/event/heritage-weavers-66/
CATEGORIES:Weaving
END:VEVENT
BEGIN:VEVENT
DTSTART;TZID=America/Toronto:20250219T130000
DTEND;TZID=America/Toronto:20250219T160000
DTSTAMP:20260422T215052
CREATED:20240624T183359Z
LAST-MODIFIED:20240828T183314Z
UID:10000373-1739970000-1739980800@meraschoolhouse.org
SUMMARY:MERA's Needle Pushers
DESCRIPTION:Meeting Space: MERA Room \nContact Person: Bonnie McQuatt \nWe welcome anyone who might have new techniques or designs to shareor perhaps just has a desire to try something new. \n \nMostof the fun of quilting is being with the people we quilt with. Newcomers learnby doing. If you would like to try quilting with us we will share our supplieswith you until you figure out if quilting is your thing or not. Therequirements for quilting are minimal. Those who have a portable sewingmachine\, rotary cutter and mat will bring that equipment when we are starting aquilt and we work together cutting out the pattern and assembling the quilt.Once the hand quilting begins each person needs their own thimble\, scissors andquilting needles.
URL:https://meraschoolhouse.org/event/meras-needle-pushers-33/
CATEGORIES:Quilting
END:VEVENT
BEGIN:VEVENT
DTSTART;TZID=America/Toronto:20250219T130000
DTEND;TZID=America/Toronto:20250219T150000
DTSTAMP:20260422T215052
CREATED:20240624T183359Z
LAST-MODIFIED:20250310T201837Z
UID:10000372-1739970000-1739977200@meraschoolhouse.org
SUMMARY:Pottery Studio
DESCRIPTION:Meetings Space: Pottery Studio (basement) \nContact Person: Heather Vriends
URL:https://meraschoolhouse.org/event/pottery-studio-71/
CATEGORIES:Pottery
END:VEVENT
BEGIN:VEVENT
DTSTART;TZID=America/Toronto:20250218T190000
DTEND;TZID=America/Toronto:20250218T210000
DTSTAMP:20260422T215052
CREATED:20240624T183359Z
LAST-MODIFIED:20240822T023924Z
UID:10000371-1739905200-1739912400@meraschoolhouse.org
SUMMARY:Book Club
DESCRIPTION:Meetings are usually held the 3rd Tuesday of each month from 7pm to 9pm. We are a friendly\, respectful\, no rules book club. Each month one person will facilitate a discussion about the book chosen for that month. Discussions are always informative and lively. New members are welcome. If you see a book that peaks your interest and would like to join us for an evening’s discussion we also welcome drop-ins. You can join us by contacting Jean Dunning at 613-259-2636 or email here.    \nJan 17\, 2023: The Lincoln Highway – Amor Towles \nA story of love\, loss and friendship.
URL:https://meraschoolhouse.org/event/book-club-8/
CATEGORIES:Bookclub
END:VEVENT
BEGIN:VEVENT
DTSTART;TZID=America/Toronto:20250218T130000
DTEND;TZID=America/Toronto:20250218T150000
DTSTAMP:20260422T215052
CREATED:20240624T183359Z
LAST-MODIFIED:20250310T201837Z
UID:10000370-1739883600-1739890800@meraschoolhouse.org
SUMMARY:Pottery Studio
DESCRIPTION:Meeting Space: Pottery Studio (basement) \nContact Person: Jan Griffiths \nWe are a joyfulgroup of potters who share space\, tools and experience in the basement of theMERA schoolhouse. We are organized as a co-operative\, sharing responsibilityfor making our studio a fun\, open\, supportive and safe place to enjoy creatingworks in clay both on and away from the wheel. Each studio member is encouragedto participate in both individual and collective projects\, to contribute tostudio maintenance tasks\, and to teach and learn from the other potters. MERApotters also organize learning and teaching opportunities in the form ofin-house workshops and sessions led by professional potters and contribute tothe Annual MERA Christmas Fair.
URL:https://meraschoolhouse.org/event/pottery-studio-70/
CATEGORIES:Pottery
END:VEVENT
BEGIN:VEVENT
DTSTART;TZID=America/Toronto:20250218T050000
DTEND;TZID=America/Toronto:20250218T070000
DTSTAMP:20260422T215052
CREATED:20240624T183359Z
LAST-MODIFIED:20240624T183359Z
UID:10000369-1739854800-1739862000@meraschoolhouse.org
SUMMARY:Closed for Cleaning
DESCRIPTION:
URL:https://meraschoolhouse.org/event/closed-for-cleaning-35/
END:VEVENT
BEGIN:VEVENT
DTSTART;TZID=America/Toronto:20250217T130000
DTEND;TZID=America/Toronto:20250217T160000
DTSTAMP:20260422T215052
CREATED:20240624T183359Z
LAST-MODIFIED:20250310T201022Z
UID:10000368-1739797200-1739808000@meraschoolhouse.org
SUMMARY:Heritage Weavers
DESCRIPTION:Meeting Place: Dean Hall \nContact Person: Lise Loader \n \nThis collective has expanded significantly from a core group over the last few years\, to the point where space and equipment have become limiting factors. There are now 7 looms of various sizes and styles at MERA. Several of these looms are set up with extra-long warps which become cooperative projects that various members work on when they can.\nThe weavers gather to plan and work on projects and are available to share ideas\, advice and enthusiasm with each other and newer weavers. It’s an apprentice-like learn-as-you-go environment suited to those who have taken an introduction to weaving weekend workshop at a guild. MERA has on occasion had enough interest to hold such a workshop\, but there is none planned this fall. \nAs with all groups at the schoolhouse\, you must have a MERA membership to become a regular member of the MERA Heritage Weavers. \nView Gallery & History \nCheck out the 2018 MERA Weavers Exhibition: Still Weaving After 20 Years
URL:https://meraschoolhouse.org/event/heritage-weavers-65/
CATEGORIES:Weaving
END:VEVENT
BEGIN:VEVENT
DTSTART;TZID=America/Toronto:20250217T100000
DTEND;TZID=America/Toronto:20250217T140000
DTSTAMP:20260422T215052
CREATED:20240624T183359Z
LAST-MODIFIED:20240624T183359Z
UID:10000367-1739786400-1739800800@meraschoolhouse.org
SUMMARY:Homeschool Group
DESCRIPTION:Contact Person: Heather Vriends
URL:https://meraschoolhouse.org/event/homeschool-group-33/
END:VEVENT
BEGIN:VEVENT
DTSTART;TZID=America/Toronto:20250214T130000
DTEND;TZID=America/Toronto:20250214T143000
DTSTAMP:20260422T215052
CREATED:20240624T183359Z
LAST-MODIFIED:20240827T181629Z
UID:10000366-1739538000-1739543400@meraschoolhouse.org
SUMMARY:Recorder Consort
DESCRIPTION:
URL:https://meraschoolhouse.org/event/recorder-consort-32/
CATEGORIES:Recorder
END:VEVENT
END:VCALENDAR