BEGIN:VCALENDAR
VERSION:2.0
PRODID:-//MERA - ECPv6.15.11//NONSGML v1.0//EN
CALSCALE:GREGORIAN
METHOD:PUBLISH
X-WR-CALNAME:MERA
X-ORIGINAL-URL:https://meraschoolhouse.org
X-WR-CALDESC:Events for MERA
REFRESH-INTERVAL;VALUE=DURATION:PT1H
X-Robots-Tag:noindex
X-PUBLISHED-TTL:PT1H
BEGIN:VTIMEZONE
TZID:America/Toronto
BEGIN:DAYLIGHT
TZOFFSETFROM:-0500
TZOFFSETTO:-0400
TZNAME:EDT
DTSTART:20240310T070000
END:DAYLIGHT
BEGIN:STANDARD
TZOFFSETFROM:-0400
TZOFFSETTO:-0500
TZNAME:EST
DTSTART:20241103T060000
END:STANDARD
BEGIN:DAYLIGHT
TZOFFSETFROM:-0500
TZOFFSETTO:-0400
TZNAME:EDT
DTSTART:20250309T070000
END:DAYLIGHT
BEGIN:STANDARD
TZOFFSETFROM:-0400
TZOFFSETTO:-0500
TZNAME:EST
DTSTART:20251102T060000
END:STANDARD
BEGIN:DAYLIGHT
TZOFFSETFROM:-0500
TZOFFSETTO:-0400
TZNAME:EDT
DTSTART:20260308T070000
END:DAYLIGHT
BEGIN:STANDARD
TZOFFSETFROM:-0400
TZOFFSETTO:-0500
TZNAME:EST
DTSTART:20261101T060000
END:STANDARD
END:VTIMEZONE
BEGIN:VEVENT
DTSTART;TZID=America/Toronto:20250210T130000
DTEND;TZID=America/Toronto:20250210T160000
DTSTAMP:20260423T041246
CREATED:20240624T183358Z
LAST-MODIFIED:20250310T201022Z
UID:10000358-1739192400-1739203200@meraschoolhouse.org
SUMMARY:Heritage Weavers
DESCRIPTION:Meeting Place: Dean Hall \nContact Person: Lise Loader \nThis collective has expanded significantly from a core group over the last few years. \nThe weavers gather to plan and work on projects and are available to share ideas\, advice and enthusiasm with each other and newer weavers. It’s an apprentice-like learn-as-you-go environment suited to those who have taken an introduction to weaving weekend workshop at a guild. \nWe have 7 looms of various sizes and styles at MERA. Some of these looms are set up with extra-long warps which become cooperative projects that various members work on when they can. \nAs with all groups at the Schoolhouse\, you must have a MERA membership to become a regular member of the MERA Heritage Weavers.
URL:https://meraschoolhouse.org/event/heritage-weavers-63/
CATEGORIES:Weaving
END:VEVENT
BEGIN:VEVENT
DTSTART;TZID=America/Toronto:20250210T100000
DTEND;TZID=America/Toronto:20250210T140000
DTSTAMP:20260423T041246
CREATED:20240624T183358Z
LAST-MODIFIED:20240624T183358Z
UID:10000357-1739181600-1739196000@meraschoolhouse.org
SUMMARY:Homeschool Group
DESCRIPTION:Contact Person: Heather Vriends
URL:https://meraschoolhouse.org/event/homeschool-group-32/
END:VEVENT
BEGIN:VEVENT
DTSTART;TZID=America/Toronto:20250207T130000
DTEND;TZID=America/Toronto:20250207T143000
DTSTAMP:20260423T041246
CREATED:20240624T183358Z
LAST-MODIFIED:20240827T182336Z
UID:10000356-1738933200-1738938600@meraschoolhouse.org
SUMMARY:Recorder Consort
DESCRIPTION:
URL:https://meraschoolhouse.org/event/recorder-consort-31/
CATEGORIES:Recorder
END:VEVENT
BEGIN:VEVENT
DTSTART;TZID=America/Toronto:20250207T100000
DTEND;TZID=America/Toronto:20250207T120000
DTSTAMP:20260423T041246
CREATED:20240624T183358Z
LAST-MODIFIED:20240824T053721Z
UID:10000355-1738922400-1738929600@meraschoolhouse.org
SUMMARY:Art Circle
DESCRIPTION:
URL:https://meraschoolhouse.org/event/art-circle-32/
CATEGORIES:Art,Art circle
END:VEVENT
BEGIN:VEVENT
DTSTART;TZID=America/Toronto:20250206T150000
DTEND;TZID=America/Toronto:20250206T170000
DTSTAMP:20260423T041246
CREATED:20240624T183358Z
LAST-MODIFIED:20250310T201838Z
UID:10000354-1738854000-1738861200@meraschoolhouse.org
SUMMARY:Pottery Studio - Homeschoolers
DESCRIPTION:Meeting Space: Pottery Studio (basement) \nContact Person: Heather Vriends
URL:https://meraschoolhouse.org/event/pottery-studio-homeschoolers-32/
CATEGORIES:Pottery
END:VEVENT
BEGIN:VEVENT
DTSTART;TZID=America/Toronto:20250206T120000
DTEND;TZID=America/Toronto:20250206T160000
DTSTAMP:20260423T041246
CREATED:20240624T183358Z
LAST-MODIFIED:20250310T201022Z
UID:10000353-1738843200-1738857600@meraschoolhouse.org
SUMMARY:Heritage Weavers
DESCRIPTION:Meeting Place: Dean Hall \nContact Person: Lise Loader
URL:https://meraschoolhouse.org/event/heritage-weavers-62/
CATEGORIES:Weaving
END:VEVENT
BEGIN:VEVENT
DTSTART;TZID=America/Toronto:20250205T130000
DTEND;TZID=America/Toronto:20250205T160000
DTSTAMP:20260423T041246
CREATED:20240624T183358Z
LAST-MODIFIED:20240828T183314Z
UID:10000352-1738760400-1738771200@meraschoolhouse.org
SUMMARY:MERA's Needle Pushers
DESCRIPTION:Meeting Space: MERA Room \nContact Person: Bonnie McQuatt \nWe welcome anyone who might have new techniques or designs to shareor perhaps just has a desire to try something new. \n \nMostof the fun of quilting is being with the people we quilt with. Newcomers learnby doing. If you would like to try quilting with us we will share our supplieswith you until you figure out if quilting is your thing or not. Therequirements for quilting are minimal. Those who have a portable sewingmachine\, rotary cutter and mat will bring that equipment when we are starting aquilt and we work together cutting out the pattern and assembling the quilt.Once the hand quilting begins each person needs their own thimble\, scissors andquilting needles.
URL:https://meraschoolhouse.org/event/meras-needle-pushers-31/
CATEGORIES:Quilting
END:VEVENT
BEGIN:VEVENT
DTSTART;TZID=America/Toronto:20250205T130000
DTEND;TZID=America/Toronto:20250205T150000
DTSTAMP:20260423T041246
CREATED:20240624T183358Z
LAST-MODIFIED:20250310T201838Z
UID:10000351-1738760400-1738767600@meraschoolhouse.org
SUMMARY:Pottery Studio
DESCRIPTION:Meetings Space: Pottery Studio (basement) \nContact Person: Heather Vriends
URL:https://meraschoolhouse.org/event/pottery-studio-67/
CATEGORIES:Pottery
END:VEVENT
BEGIN:VEVENT
DTSTART;TZID=America/Toronto:20250204T180000
DTEND;TZID=America/Toronto:20250204T200000
DTSTAMP:20260423T041246
CREATED:20240624T183358Z
LAST-MODIFIED:20250221T163642Z
UID:10000350-1738692000-1738699200@meraschoolhouse.org
SUMMARY:Board Meeting
DESCRIPTION:
URL:https://meraschoolhouse.org/event/board-meeting-9/
END:VEVENT
BEGIN:VEVENT
DTSTART;TZID=America/Toronto:20250204T130000
DTEND;TZID=America/Toronto:20250204T150000
DTSTAMP:20260423T041246
CREATED:20240624T183358Z
LAST-MODIFIED:20250310T202218Z
UID:10000349-1738674000-1738681200@meraschoolhouse.org
SUMMARY:Pottery Studio
DESCRIPTION:Meeting Space: Pottery Studio (basement) \nContact Person: Jan Griffiths \nWe are a joyfulgroup of potters who share space\, tools and experience in the basement of theMERA schoolhouse. We are organized as a co-operative\, sharing responsibilityfor making our studio a fun\, open\, supportive and safe place to enjoy creatingworks in clay both on and away from the wheel. Each studio member is encouragedto participate in both individual and collective projects\, to contribute tostudio maintenance tasks\, and to teach and learn from the other potters. MERApotters also organize learning and teaching opportunities in the form ofin-house workshops and sessions led by professional potters and contribute tothe Annual MERA Christmas Fair.
URL:https://meraschoolhouse.org/event/pottery-studio-66/
CATEGORIES:Pottery
END:VEVENT
BEGIN:VEVENT
DTSTART;TZID=America/Toronto:20250204T050000
DTEND;TZID=America/Toronto:20250204T070000
DTSTAMP:20260423T041246
CREATED:20240624T183358Z
LAST-MODIFIED:20240624T183358Z
UID:10000348-1738645200-1738652400@meraschoolhouse.org
SUMMARY:Closed for Cleaning
DESCRIPTION:
URL:https://meraschoolhouse.org/event/closed-for-cleaning-33/
END:VEVENT
BEGIN:VEVENT
DTSTART;TZID=America/Toronto:20250203T130000
DTEND;TZID=America/Toronto:20250203T160000
DTSTAMP:20260423T041246
CREATED:20240624T183358Z
LAST-MODIFIED:20250310T201052Z
UID:10000347-1738587600-1738598400@meraschoolhouse.org
SUMMARY:Heritage Weavers
DESCRIPTION:Meeting Place: Dean Hall \nContact Person: Lise Loader \nThis collective has expanded significantly from a core group over the last few years. \nThe weavers gather to plan and work on projects and are available to share ideas\, advice and enthusiasm with each other and newer weavers. It’s an apprentice-like learn-as-you-go environment suited to those who have taken an introduction to weaving weekend workshop at a guild. \nWe have 7 looms of various sizes and styles at MERA. Some of these looms are set up with extra-long warps which become cooperative projects that various members work on when they can. \nAs with all groups at the Schoolhouse\, you must have a MERA membership to become a regular member of the MERA Heritage Weavers.
URL:https://meraschoolhouse.org/event/heritage-weavers-61/
CATEGORIES:Weaving
END:VEVENT
BEGIN:VEVENT
DTSTART;TZID=America/Toronto:20250203T100000
DTEND;TZID=America/Toronto:20250203T140000
DTSTAMP:20260423T041246
CREATED:20240624T183358Z
LAST-MODIFIED:20240624T183358Z
UID:10000346-1738576800-1738591200@meraschoolhouse.org
SUMMARY:Homeschool Group
DESCRIPTION:Contact Person: Heather Vriends
URL:https://meraschoolhouse.org/event/homeschool-group-31/
END:VEVENT
BEGIN:VEVENT
DTSTART;TZID=America/Toronto:20250131T130000
DTEND;TZID=America/Toronto:20250131T143000
DTSTAMP:20260423T041246
CREATED:20240624T183358Z
LAST-MODIFIED:20240827T182558Z
UID:10000345-1738328400-1738333800@meraschoolhouse.org
SUMMARY:Recorder Consort
DESCRIPTION:
URL:https://meraschoolhouse.org/event/recorder-consort-30/
CATEGORIES:Recorder
END:VEVENT
BEGIN:VEVENT
DTSTART;TZID=America/Toronto:20250131T100000
DTEND;TZID=America/Toronto:20250131T120000
DTSTAMP:20260423T041246
CREATED:20240624T183357Z
LAST-MODIFIED:20240824T053721Z
UID:10000344-1738317600-1738324800@meraschoolhouse.org
SUMMARY:Art Circle
DESCRIPTION:
URL:https://meraschoolhouse.org/event/art-circle-31/
CATEGORIES:Art,Art circle
END:VEVENT
BEGIN:VEVENT
DTSTART;TZID=America/Toronto:20250130T150000
DTEND;TZID=America/Toronto:20250130T170000
DTSTAMP:20260423T041246
CREATED:20240624T183357Z
LAST-MODIFIED:20250310T202218Z
UID:10000343-1738249200-1738256400@meraschoolhouse.org
SUMMARY:Pottery Studio - Homeschoolers
DESCRIPTION:Meeting Space: Pottery Studio (basement) \nContact Person: Heather Vriends
URL:https://meraschoolhouse.org/event/pottery-studio-homeschoolers-31/
CATEGORIES:Pottery
END:VEVENT
BEGIN:VEVENT
DTSTART;TZID=America/Toronto:20250130T120000
DTEND;TZID=America/Toronto:20250130T160000
DTSTAMP:20260423T041246
CREATED:20240624T183357Z
LAST-MODIFIED:20250310T201052Z
UID:10000342-1738238400-1738252800@meraschoolhouse.org
SUMMARY:Heritage Weavers
DESCRIPTION:Meeting Place: Dean Hall \nContact Person: Lise Loader
URL:https://meraschoolhouse.org/event/heritage-weavers-60/
CATEGORIES:Weaving
END:VEVENT
BEGIN:VEVENT
DTSTART;TZID=America/Toronto:20250129T130000
DTEND;TZID=America/Toronto:20250129T160000
DTSTAMP:20260423T041246
CREATED:20240624T183357Z
LAST-MODIFIED:20240828T183342Z
UID:10000341-1738155600-1738166400@meraschoolhouse.org
SUMMARY:MERA's Needle Pushers
DESCRIPTION:Meeting Space: MERA Room \nContact Person: Bonnie McQuatt \nWe welcome anyone who might have new techniques or designs to shareor perhaps just has a desire to try something new. \n \nMostof the fun of quilting is being with the people we quilt with. Newcomers learnby doing. If you would like to try quilting with us we will share our supplieswith you until you figure out if quilting is your thing or not. Therequirements for quilting are minimal. Those who have a portable sewingmachine\, rotary cutter and mat will bring that equipment when we are starting aquilt and we work together cutting out the pattern and assembling the quilt.Once the hand quilting begins each person needs their own thimble\, scissors andquilting needles.
URL:https://meraschoolhouse.org/event/meras-needle-pushers-30/
CATEGORIES:Quilting
END:VEVENT
BEGIN:VEVENT
DTSTART;TZID=America/Toronto:20250129T130000
DTEND;TZID=America/Toronto:20250129T150000
DTSTAMP:20260423T041246
CREATED:20240624T183357Z
LAST-MODIFIED:20250310T202218Z
UID:10000340-1738155600-1738162800@meraschoolhouse.org
SUMMARY:Pottery Studio
DESCRIPTION:Meetings Space: Pottery Studio (basement) \nContact Person: Heather Vriends
URL:https://meraschoolhouse.org/event/pottery-studio-65/
CATEGORIES:Pottery
END:VEVENT
BEGIN:VEVENT
DTSTART;TZID=America/Toronto:20250128T130000
DTEND;TZID=America/Toronto:20250128T150000
DTSTAMP:20260423T041246
CREATED:20240624T183357Z
LAST-MODIFIED:20250310T202218Z
UID:10000339-1738069200-1738076400@meraschoolhouse.org
SUMMARY:Pottery Studio
DESCRIPTION:Meeting Space: Pottery Studio (basement) \nContact Person: Jan Griffiths \nWe are a joyfulgroup of potters who share space\, tools and experience in the basement of theMERA schoolhouse. We are organized as a co-operative\, sharing responsibilityfor making our studio a fun\, open\, supportive and safe place to enjoy creatingworks in clay both on and away from the wheel. Each studio member is encouragedto participate in both individual and collective projects\, to contribute tostudio maintenance tasks\, and to teach and learn from the other potters. MERApotters also organize learning and teaching opportunities in the form ofin-house workshops and sessions led by professional potters and contribute tothe Annual MERA Christmas Fair.
URL:https://meraschoolhouse.org/event/pottery-studio-64/
CATEGORIES:Pottery
END:VEVENT
BEGIN:VEVENT
DTSTART;TZID=America/Toronto:20250128T050000
DTEND;TZID=America/Toronto:20250128T070000
DTSTAMP:20260423T041246
CREATED:20240624T183357Z
LAST-MODIFIED:20240624T183357Z
UID:10000338-1738040400-1738047600@meraschoolhouse.org
SUMMARY:Closed for Cleaning
DESCRIPTION:
URL:https://meraschoolhouse.org/event/closed-for-cleaning-32/
END:VEVENT
BEGIN:VEVENT
DTSTART;TZID=America/Toronto:20250127T130000
DTEND;TZID=America/Toronto:20250127T160000
DTSTAMP:20260423T041246
CREATED:20240624T183357Z
LAST-MODIFIED:20250310T201052Z
UID:10000337-1737982800-1737993600@meraschoolhouse.org
SUMMARY:Heritage Weavers
DESCRIPTION:Meeting Place: Dean Hall \nContact Person: Lise Loader \nThis collective has expanded significantly from a core group over the last few years. \nThe weavers gather to plan and work on projects and are available to share ideas\, advice and enthusiasm with each other and newer weavers. It’s an apprentice-like learn-as-you-go environment suited to those who have taken an introduction to weaving weekend workshop at a guild. \n\nWe have 7 looms of various sizes and styles at MERA. Some of these looms are set up with extra-long warps which become cooperative projects that various members work on when they can. \nAs with all groups at the Schoolhouse\, you must have a MERA membership to become a regular member of the MERA Heritage Weavers.
URL:https://meraschoolhouse.org/event/heritage-weavers-59/
CATEGORIES:Weaving
END:VEVENT
BEGIN:VEVENT
DTSTART;TZID=America/Toronto:20250127T100000
DTEND;TZID=America/Toronto:20250127T140000
DTSTAMP:20260423T041246
CREATED:20240624T183357Z
LAST-MODIFIED:20240624T183357Z
UID:10000336-1737972000-1737986400@meraschoolhouse.org
SUMMARY:Homeschool Group
DESCRIPTION:Contact Person: Heather Vriends
URL:https://meraschoolhouse.org/event/homeschool-group-30/
END:VEVENT
BEGIN:VEVENT
DTSTART;TZID=America/Toronto:20250126T140000
DTEND;TZID=America/Toronto:20250126T160000
DTSTAMP:20260423T041246
CREATED:20250221T162732Z
LAST-MODIFIED:20250221T225016Z
UID:10000631-1737900000-1737907200@meraschoolhouse.org
SUMMARY:Meet the Artists at MERA: Woodworking
DESCRIPTION:
URL:https://meraschoolhouse.org/event/meet-the-artists-at-mera-woodworking/
LOCATION:MERA Schoolhouse\,  McDonald’s Corners
CATEGORIES:Art exhibits
END:VEVENT
BEGIN:VEVENT
DTSTART;TZID=America/Toronto:20250124T130000
DTEND;TZID=America/Toronto:20250124T143000
DTSTAMP:20260423T041246
CREATED:20240624T183357Z
LAST-MODIFIED:20240827T182618Z
UID:10000335-1737723600-1737729000@meraschoolhouse.org
SUMMARY:Recorder Consort
DESCRIPTION:
URL:https://meraschoolhouse.org/event/recorder-consort-29/
CATEGORIES:Recorder
END:VEVENT
BEGIN:VEVENT
DTSTART;TZID=America/Toronto:20250124T100000
DTEND;TZID=America/Toronto:20250124T120000
DTSTAMP:20260423T041246
CREATED:20240624T183357Z
LAST-MODIFIED:20240824T053721Z
UID:10000334-1737712800-1737720000@meraschoolhouse.org
SUMMARY:Art Circle
DESCRIPTION:
URL:https://meraschoolhouse.org/event/art-circle-30/
CATEGORIES:Art,Art circle
END:VEVENT
BEGIN:VEVENT
DTSTART;TZID=America/Toronto:20250123T150000
DTEND;TZID=America/Toronto:20250123T170000
DTSTAMP:20260423T041246
CREATED:20240624T183357Z
LAST-MODIFIED:20250310T202218Z
UID:10000333-1737644400-1737651600@meraschoolhouse.org
SUMMARY:Pottery Studio - Homeschoolers
DESCRIPTION:Meeting Space: Pottery Studio (basement) \nContact Person: Heather Vriends
URL:https://meraschoolhouse.org/event/pottery-studio-homeschoolers-30/
CATEGORIES:Pottery
END:VEVENT
BEGIN:VEVENT
DTSTART;TZID=America/Toronto:20250123T120000
DTEND;TZID=America/Toronto:20250123T160000
DTSTAMP:20260423T041246
CREATED:20240624T183357Z
LAST-MODIFIED:20250310T201052Z
UID:10000332-1737633600-1737648000@meraschoolhouse.org
SUMMARY:Heritage Weavers
DESCRIPTION:Meeting Place: Dean Hall \nContact Person: Lise Loader
URL:https://meraschoolhouse.org/event/heritage-weavers-58/
CATEGORIES:Weaving
END:VEVENT
BEGIN:VEVENT
DTSTART;TZID=America/Toronto:20250122T130000
DTEND;TZID=America/Toronto:20250122T160000
DTSTAMP:20260423T041246
CREATED:20240624T183357Z
LAST-MODIFIED:20240828T183342Z
UID:10000331-1737550800-1737561600@meraschoolhouse.org
SUMMARY:MERA's Needle Pushers
DESCRIPTION:Meeting Space: MERA Room \nContact Person: Bonnie McQuatt \nWe welcome anyone who might have new techniques or designs to shareor perhaps just has a desire to try something new. \n \nMostof the fun of quilting is being with the people we quilt with. Newcomers learnby doing. If you would like to try quilting with us we will share our supplieswith you until you figure out if quilting is your thing or not. Therequirements for quilting are minimal. Those who have a portable sewingmachine\, rotary cutter and mat will bring that equipment when we are starting aquilt and we work together cutting out the pattern and assembling the quilt.Once the hand quilting begins each person needs their own thimble\, scissors andquilting needles.
URL:https://meraschoolhouse.org/event/meras-needle-pushers-29/
CATEGORIES:Quilting
END:VEVENT
BEGIN:VEVENT
DTSTART;TZID=America/Toronto:20250122T130000
DTEND;TZID=America/Toronto:20250122T150000
DTSTAMP:20260423T041246
CREATED:20240624T183357Z
LAST-MODIFIED:20250310T202218Z
UID:10000330-1737550800-1737558000@meraschoolhouse.org
SUMMARY:Pottery Studio
DESCRIPTION:Meetings Space: Pottery Studio (basement) \nContact Person: Heather Vriends
URL:https://meraschoolhouse.org/event/pottery-studio-63/
CATEGORIES:Pottery
END:VEVENT
END:VCALENDAR