BEGIN:VCALENDAR
VERSION:2.0
PRODID:-//MERA - ECPv6.15.11//NONSGML v1.0//EN
CALSCALE:GREGORIAN
METHOD:PUBLISH
X-WR-CALNAME:MERA
X-ORIGINAL-URL:https://meraschoolhouse.org
X-WR-CALDESC:Events for MERA
REFRESH-INTERVAL;VALUE=DURATION:PT1H
X-Robots-Tag:noindex
X-PUBLISHED-TTL:PT1H
BEGIN:VTIMEZONE
TZID:America/Toronto
BEGIN:DAYLIGHT
TZOFFSETFROM:-0500
TZOFFSETTO:-0400
TZNAME:EDT
DTSTART:20240310T070000
END:DAYLIGHT
BEGIN:STANDARD
TZOFFSETFROM:-0400
TZOFFSETTO:-0500
TZNAME:EST
DTSTART:20241103T060000
END:STANDARD
BEGIN:DAYLIGHT
TZOFFSETFROM:-0500
TZOFFSETTO:-0400
TZNAME:EDT
DTSTART:20250309T070000
END:DAYLIGHT
BEGIN:STANDARD
TZOFFSETFROM:-0400
TZOFFSETTO:-0500
TZNAME:EST
DTSTART:20251102T060000
END:STANDARD
BEGIN:DAYLIGHT
TZOFFSETFROM:-0500
TZOFFSETTO:-0400
TZNAME:EDT
DTSTART:20260308T070000
END:DAYLIGHT
BEGIN:STANDARD
TZOFFSETFROM:-0400
TZOFFSETTO:-0500
TZNAME:EST
DTSTART:20261101T060000
END:STANDARD
END:VTIMEZONE
BEGIN:VEVENT
DTSTART;TZID=America/Toronto:20250126T140000
DTEND;TZID=America/Toronto:20250126T160000
DTSTAMP:20260423T005914
CREATED:20250221T162732Z
LAST-MODIFIED:20250221T225016Z
UID:10000631-1737900000-1737907200@meraschoolhouse.org
SUMMARY:Meet the Artists at MERA: Woodworking
DESCRIPTION:
URL:https://meraschoolhouse.org/event/meet-the-artists-at-mera-woodworking/
LOCATION:MERA Schoolhouse\,  McDonald’s Corners
CATEGORIES:Art exhibits
END:VEVENT
BEGIN:VEVENT
DTSTART;TZID=America/Toronto:20250124T130000
DTEND;TZID=America/Toronto:20250124T143000
DTSTAMP:20260423T005914
CREATED:20240624T183357Z
LAST-MODIFIED:20240827T182618Z
UID:10000335-1737723600-1737729000@meraschoolhouse.org
SUMMARY:Recorder Consort
DESCRIPTION:
URL:https://meraschoolhouse.org/event/recorder-consort-29/
CATEGORIES:Recorder
END:VEVENT
BEGIN:VEVENT
DTSTART;TZID=America/Toronto:20250124T100000
DTEND;TZID=America/Toronto:20250124T120000
DTSTAMP:20260423T005914
CREATED:20240624T183357Z
LAST-MODIFIED:20240824T053721Z
UID:10000334-1737712800-1737720000@meraschoolhouse.org
SUMMARY:Art Circle
DESCRIPTION:
URL:https://meraschoolhouse.org/event/art-circle-30/
CATEGORIES:Art,Art circle
END:VEVENT
BEGIN:VEVENT
DTSTART;TZID=America/Toronto:20250123T150000
DTEND;TZID=America/Toronto:20250123T170000
DTSTAMP:20260423T005914
CREATED:20240624T183357Z
LAST-MODIFIED:20250310T202218Z
UID:10000333-1737644400-1737651600@meraschoolhouse.org
SUMMARY:Pottery Studio - Homeschoolers
DESCRIPTION:Meeting Space: Pottery Studio (basement) \nContact Person: Heather Vriends
URL:https://meraschoolhouse.org/event/pottery-studio-homeschoolers-30/
CATEGORIES:Pottery
END:VEVENT
BEGIN:VEVENT
DTSTART;TZID=America/Toronto:20250123T120000
DTEND;TZID=America/Toronto:20250123T160000
DTSTAMP:20260423T005914
CREATED:20240624T183357Z
LAST-MODIFIED:20250310T201052Z
UID:10000332-1737633600-1737648000@meraschoolhouse.org
SUMMARY:Heritage Weavers
DESCRIPTION:Meeting Place: Dean Hall \nContact Person: Lise Loader
URL:https://meraschoolhouse.org/event/heritage-weavers-58/
CATEGORIES:Weaving
END:VEVENT
BEGIN:VEVENT
DTSTART;TZID=America/Toronto:20250122T130000
DTEND;TZID=America/Toronto:20250122T160000
DTSTAMP:20260423T005914
CREATED:20240624T183357Z
LAST-MODIFIED:20240828T183342Z
UID:10000331-1737550800-1737561600@meraschoolhouse.org
SUMMARY:MERA's Needle Pushers
DESCRIPTION:Meeting Space: MERA Room \nContact Person: Bonnie McQuatt \nWe welcome anyone who might have new techniques or designs to shareor perhaps just has a desire to try something new. \n \nMostof the fun of quilting is being with the people we quilt with. Newcomers learnby doing. If you would like to try quilting with us we will share our supplieswith you until you figure out if quilting is your thing or not. Therequirements for quilting are minimal. Those who have a portable sewingmachine\, rotary cutter and mat will bring that equipment when we are starting aquilt and we work together cutting out the pattern and assembling the quilt.Once the hand quilting begins each person needs their own thimble\, scissors andquilting needles.
URL:https://meraschoolhouse.org/event/meras-needle-pushers-29/
CATEGORIES:Quilting
END:VEVENT
BEGIN:VEVENT
DTSTART;TZID=America/Toronto:20250122T130000
DTEND;TZID=America/Toronto:20250122T150000
DTSTAMP:20260423T005914
CREATED:20240624T183357Z
LAST-MODIFIED:20250310T202218Z
UID:10000330-1737550800-1737558000@meraschoolhouse.org
SUMMARY:Pottery Studio
DESCRIPTION:Meetings Space: Pottery Studio (basement) \nContact Person: Heather Vriends
URL:https://meraschoolhouse.org/event/pottery-studio-63/
CATEGORIES:Pottery
END:VEVENT
BEGIN:VEVENT
DTSTART;TZID=America/Toronto:20250121T190000
DTEND;TZID=America/Toronto:20250121T210000
DTSTAMP:20260423T005914
CREATED:20240624T183356Z
LAST-MODIFIED:20240822T023924Z
UID:10000329-1737486000-1737493200@meraschoolhouse.org
SUMMARY:Book Club
DESCRIPTION:Meetings are usually held the 3rd Tuesday of each month from 7pm to 9pm. We are a friendly\, respectful\, no rules book club. Each month one person will facilitate a discussion about the book chosen for that month. Discussions are always informative and lively. New members are welcome. If you see a book that peaks your interest and would like to join us for an evening’s discussion we also welcome drop-ins. You can join us by contacting Jean Dunning at 613-259-2636 or email here.    \nJan 17\, 2023: The Lincoln Highway – Amor Towles \nA story of love\, loss and friendship.
URL:https://meraschoolhouse.org/event/book-club-7/
CATEGORIES:Bookclub
END:VEVENT
BEGIN:VEVENT
DTSTART;TZID=America/Toronto:20250121T130000
DTEND;TZID=America/Toronto:20250121T150000
DTSTAMP:20260423T005914
CREATED:20240624T183356Z
LAST-MODIFIED:20250310T202218Z
UID:10000328-1737464400-1737471600@meraschoolhouse.org
SUMMARY:Pottery Studio
DESCRIPTION:Meeting Space: Pottery Studio (basement) \nContact Person: Jan Griffiths \nWe are a joyfulgroup of potters who share space\, tools and experience in the basement of theMERA schoolhouse. We are organized as a co-operative\, sharing responsibilityfor making our studio a fun\, open\, supportive and safe place to enjoy creatingworks in clay both on and away from the wheel. Each studio member is encouragedto participate in both individual and collective projects\, to contribute tostudio maintenance tasks\, and to teach and learn from the other potters. MERApotters also organize learning and teaching opportunities in the form ofin-house workshops and sessions led by professional potters and contribute tothe Annual MERA Christmas Fair.
URL:https://meraschoolhouse.org/event/pottery-studio-62/
CATEGORIES:Pottery
END:VEVENT
BEGIN:VEVENT
DTSTART;TZID=America/Toronto:20250121T050000
DTEND;TZID=America/Toronto:20250121T070000
DTSTAMP:20260423T005914
CREATED:20240624T183356Z
LAST-MODIFIED:20240624T183356Z
UID:10000327-1737435600-1737442800@meraschoolhouse.org
SUMMARY:Closed for Cleaning
DESCRIPTION:
URL:https://meraschoolhouse.org/event/closed-for-cleaning-31/
END:VEVENT
BEGIN:VEVENT
DTSTART;TZID=America/Toronto:20250120T130000
DTEND;TZID=America/Toronto:20250120T160000
DTSTAMP:20260423T005914
CREATED:20240624T183356Z
LAST-MODIFIED:20250310T201052Z
UID:10000326-1737378000-1737388800@meraschoolhouse.org
SUMMARY:Heritage Weavers
DESCRIPTION:Meeting Place: Dean Hall \nContact Person: Lise Loader \n \nThis collective has expanded significantly from a core group over the last few years\, to the point where space and equipment have become limiting factors. There are now 7 looms of various sizes and styles at MERA. Several of these looms are set up with extra-long warps which become cooperative projects that various members work on when they can.\nThe weavers gather to plan and work on projects and are available to share ideas\, advice and enthusiasm with each other and newer weavers. It’s an apprentice-like learn-as-you-go environment suited to those who have taken an introduction to weaving weekend workshop at a guild. MERA has on occasion had enough interest to hold such a workshop\, but there is none planned this fall. \nAs with all groups at the schoolhouse\, you must have a MERA membership to become a regular member of the MERA Heritage Weavers. \nView Gallery & History \nCheck out the 2018 MERA Weavers Exhibition: Still Weaving After 20 Years
URL:https://meraschoolhouse.org/event/heritage-weavers-57/
CATEGORIES:Weaving
END:VEVENT
BEGIN:VEVENT
DTSTART;TZID=America/Toronto:20250120T100000
DTEND;TZID=America/Toronto:20250120T140000
DTSTAMP:20260423T005914
CREATED:20240624T183356Z
LAST-MODIFIED:20240624T183356Z
UID:10000325-1737367200-1737381600@meraschoolhouse.org
SUMMARY:Homeschool Group
DESCRIPTION:Contact Person: Heather Vriends
URL:https://meraschoolhouse.org/event/homeschool-group-29/
END:VEVENT
BEGIN:VEVENT
DTSTART;TZID=America/Toronto:20250117T130000
DTEND;TZID=America/Toronto:20250117T143000
DTSTAMP:20260423T005914
CREATED:20240624T183356Z
LAST-MODIFIED:20240827T182630Z
UID:10000324-1737118800-1737124200@meraschoolhouse.org
SUMMARY:Recorder Consort
DESCRIPTION:
URL:https://meraschoolhouse.org/event/recorder-consort-28/
CATEGORIES:Recorder
END:VEVENT
BEGIN:VEVENT
DTSTART;TZID=America/Toronto:20250117T100000
DTEND;TZID=America/Toronto:20250117T120000
DTSTAMP:20260423T005914
CREATED:20240624T183356Z
LAST-MODIFIED:20240824T053721Z
UID:10000323-1737108000-1737115200@meraschoolhouse.org
SUMMARY:Art Circle
DESCRIPTION:
URL:https://meraschoolhouse.org/event/art-circle-29/
CATEGORIES:Art,Art circle
END:VEVENT
BEGIN:VEVENT
DTSTART;TZID=America/Toronto:20250116T150000
DTEND;TZID=America/Toronto:20250116T170000
DTSTAMP:20260423T005914
CREATED:20240624T183356Z
LAST-MODIFIED:20250310T202218Z
UID:10000322-1737039600-1737046800@meraschoolhouse.org
SUMMARY:Pottery Studio - Homeschoolers
DESCRIPTION:Meeting Space: Pottery Studio (basement) \nContact Person: Heather Vriends
URL:https://meraschoolhouse.org/event/pottery-studio-homeschoolers-29/
CATEGORIES:Pottery
END:VEVENT
BEGIN:VEVENT
DTSTART;TZID=America/Toronto:20250116T120000
DTEND;TZID=America/Toronto:20250116T160000
DTSTAMP:20260423T005914
CREATED:20240624T183356Z
LAST-MODIFIED:20250310T201052Z
UID:10000321-1737028800-1737043200@meraschoolhouse.org
SUMMARY:Heritage Weavers
DESCRIPTION:Meeting Place: Dean Hall \nContact Person: Lise Loader
URL:https://meraschoolhouse.org/event/heritage-weavers-56/
CATEGORIES:Weaving
END:VEVENT
BEGIN:VEVENT
DTSTART;TZID=America/Toronto:20250115T130000
DTEND;TZID=America/Toronto:20250115T160000
DTSTAMP:20260423T005914
CREATED:20240624T183356Z
LAST-MODIFIED:20240828T183342Z
UID:10000320-1736946000-1736956800@meraschoolhouse.org
SUMMARY:MERA's Needle Pushers
DESCRIPTION:Meeting Space: MERA Room \nContact Person: Bonnie McQuatt \nWe welcome anyone who might have new techniques or designs to shareor perhaps just has a desire to try something new. \n \nMostof the fun of quilting is being with the people we quilt with. Newcomers learnby doing. If you would like to try quilting with us we will share our supplieswith you until you figure out if quilting is your thing or not. Therequirements for quilting are minimal. Those who have a portable sewingmachine\, rotary cutter and mat will bring that equipment when we are starting aquilt and we work together cutting out the pattern and assembling the quilt.Once the hand quilting begins each person needs their own thimble\, scissors andquilting needles.
URL:https://meraschoolhouse.org/event/meras-needle-pushers-28/
CATEGORIES:Quilting
END:VEVENT
BEGIN:VEVENT
DTSTART;TZID=America/Toronto:20250115T130000
DTEND;TZID=America/Toronto:20250115T150000
DTSTAMP:20260423T005914
CREATED:20240624T183356Z
LAST-MODIFIED:20250310T202218Z
UID:10000319-1736946000-1736953200@meraschoolhouse.org
SUMMARY:Pottery Studio
DESCRIPTION:Meetings Space: Pottery Studio (basement) \nContact Person: Heather Vriends
URL:https://meraschoolhouse.org/event/pottery-studio-61/
CATEGORIES:Pottery
END:VEVENT
BEGIN:VEVENT
DTSTART;TZID=America/Toronto:20250114T180000
DTEND;TZID=America/Toronto:20250114T200000
DTSTAMP:20260423T005914
CREATED:20240624T183355Z
LAST-MODIFIED:20250221T163909Z
UID:10000308-1736877600-1736884800@meraschoolhouse.org
SUMMARY:Board Meeting
DESCRIPTION:
URL:https://meraschoolhouse.org/event/board-meeting-8/
END:VEVENT
BEGIN:VEVENT
DTSTART;TZID=America/Toronto:20250114T130000
DTEND;TZID=America/Toronto:20250114T150000
DTSTAMP:20260423T005914
CREATED:20240624T183356Z
LAST-MODIFIED:20250310T202218Z
UID:10000318-1736859600-1736866800@meraschoolhouse.org
SUMMARY:Pottery Studio
DESCRIPTION:Meeting Space: Pottery Studio (basement) \nContact Person: Jan Griffiths \nWe are a joyfulgroup of potters who share space\, tools and experience in the basement of theMERA schoolhouse. We are organized as a co-operative\, sharing responsibilityfor making our studio a fun\, open\, supportive and safe place to enjoy creatingworks in clay both on and away from the wheel. Each studio member is encouragedto participate in both individual and collective projects\, to contribute tostudio maintenance tasks\, and to teach and learn from the other potters. MERApotters also organize learning and teaching opportunities in the form ofin-house workshops and sessions led by professional potters and contribute tothe Annual MERA Christmas Fair.
URL:https://meraschoolhouse.org/event/pottery-studio-60/
CATEGORIES:Pottery
END:VEVENT
BEGIN:VEVENT
DTSTART;TZID=America/Toronto:20250114T050000
DTEND;TZID=America/Toronto:20250114T070000
DTSTAMP:20260423T005914
CREATED:20240624T183356Z
LAST-MODIFIED:20240624T183356Z
UID:10000317-1736830800-1736838000@meraschoolhouse.org
SUMMARY:Closed for Cleaning
DESCRIPTION:
URL:https://meraschoolhouse.org/event/closed-for-cleaning-30/
END:VEVENT
BEGIN:VEVENT
DTSTART;TZID=America/Toronto:20250113T130000
DTEND;TZID=America/Toronto:20250113T160000
DTSTAMP:20260423T005914
CREATED:20240624T183356Z
LAST-MODIFIED:20250310T201052Z
UID:10000316-1736773200-1736784000@meraschoolhouse.org
SUMMARY:Heritage Weavers
DESCRIPTION:Meeting Place: Dean Hall \nContact Person: Lise Loader \n \nThis collective has expanded significantly from a core group over the last few years\, to the point where space and equipment have become limiting factors. There are now 7 looms of various sizes and styles at MERA. Several of these looms are set up with extra-long warps which become cooperative projects that various members work on when they can.\nThe weavers gather to plan and work on projects and are available to share ideas\, advice and enthusiasm with each other and newer weavers. It’s an apprentice-like learn-as-you-go environment suited to those who have taken an introduction to weaving weekend workshop at a guild. MERA has on occasion had enough interest to hold such a workshop\, but there is none planned this fall. \nAs with all groups at the schoolhouse\, you must have a MERA membership to become a regular member of the MERA Heritage Weavers. \nView Gallery & History \nCheck out the 2018 MERA Weavers Exhibition: Still Weaving After 20 Years
URL:https://meraschoolhouse.org/event/heritage-weavers-55/
CATEGORIES:Weaving
END:VEVENT
BEGIN:VEVENT
DTSTART;TZID=America/Toronto:20250113T100000
DTEND;TZID=America/Toronto:20250113T140000
DTSTAMP:20260423T005914
CREATED:20240624T183356Z
LAST-MODIFIED:20240624T183356Z
UID:10000315-1736762400-1736776800@meraschoolhouse.org
SUMMARY:Homeschool Group
DESCRIPTION:Contact Person: Heather Vriends
URL:https://meraschoolhouse.org/event/homeschool-group-28/
END:VEVENT
BEGIN:VEVENT
DTSTART;TZID=America/Toronto:20250110T130000
DTEND;TZID=America/Toronto:20250110T143000
DTSTAMP:20260423T005914
CREATED:20240624T183355Z
LAST-MODIFIED:20240827T182644Z
UID:10000314-1736514000-1736519400@meraschoolhouse.org
SUMMARY:Recorder Consort
DESCRIPTION:
URL:https://meraschoolhouse.org/event/recorder-consort-27/
CATEGORIES:Recorder
END:VEVENT
BEGIN:VEVENT
DTSTART;TZID=America/Toronto:20250110T100000
DTEND;TZID=America/Toronto:20250110T120000
DTSTAMP:20260423T005914
CREATED:20240624T183355Z
LAST-MODIFIED:20240824T053721Z
UID:10000313-1736503200-1736510400@meraschoolhouse.org
SUMMARY:Art Circle
DESCRIPTION:
URL:https://meraschoolhouse.org/event/art-circle-28/
CATEGORIES:Art,Art circle
END:VEVENT
BEGIN:VEVENT
DTSTART;TZID=America/Toronto:20250109T150000
DTEND;TZID=America/Toronto:20250109T170000
DTSTAMP:20260423T005914
CREATED:20240624T183355Z
LAST-MODIFIED:20250310T202218Z
UID:10000312-1736434800-1736442000@meraschoolhouse.org
SUMMARY:Pottery Studio - Homeschoolers
DESCRIPTION:Meeting Space: Pottery Studio (basement) \nContact Person: Heather Vriends
URL:https://meraschoolhouse.org/event/pottery-studio-homeschoolers-28/
CATEGORIES:Pottery
END:VEVENT
BEGIN:VEVENT
DTSTART;TZID=America/Toronto:20250109T120000
DTEND;TZID=America/Toronto:20250109T160000
DTSTAMP:20260423T005914
CREATED:20240624T183355Z
LAST-MODIFIED:20250310T201052Z
UID:10000311-1736424000-1736438400@meraschoolhouse.org
SUMMARY:Heritage Weavers
DESCRIPTION:Meeting Place: Dean Hall \nContact Person: Lise Loader
URL:https://meraschoolhouse.org/event/heritage-weavers-54/
CATEGORIES:Weaving
END:VEVENT
BEGIN:VEVENT
DTSTART;TZID=America/Toronto:20250108T130000
DTEND;TZID=America/Toronto:20250108T160000
DTSTAMP:20260423T005914
CREATED:20240624T183355Z
LAST-MODIFIED:20240828T183342Z
UID:10000310-1736341200-1736352000@meraschoolhouse.org
SUMMARY:MERA's Needle Pushers
DESCRIPTION:Meeting Space: MERA Room \nContact Person: Bonnie McQuatt \nWe welcome anyone who might have new techniques or designs to shareor perhaps just has a desire to try something new. \n \nMostof the fun of quilting is being with the people we quilt with. Newcomers learnby doing. If you would like to try quilting with us we will share our supplieswith you until you figure out if quilting is your thing or not. Therequirements for quilting are minimal. Those who have a portable sewingmachine\, rotary cutter and mat will bring that equipment when we are starting aquilt and we work together cutting out the pattern and assembling the quilt.Once the hand quilting begins each person needs their own thimble\, scissors andquilting needles.
URL:https://meraschoolhouse.org/event/meras-needle-pushers-27/
CATEGORIES:Quilting
END:VEVENT
BEGIN:VEVENT
DTSTART;TZID=America/Toronto:20250108T130000
DTEND;TZID=America/Toronto:20250108T150000
DTSTAMP:20260423T005914
CREATED:20240624T183355Z
LAST-MODIFIED:20250310T202218Z
UID:10000309-1736341200-1736348400@meraschoolhouse.org
SUMMARY:Pottery Studio
DESCRIPTION:Meetings Space: Pottery Studio (basement) \nContact Person: Heather Vriends
URL:https://meraschoolhouse.org/event/pottery-studio-59/
CATEGORIES:Pottery
END:VEVENT
BEGIN:VEVENT
DTSTART;TZID=America/Toronto:20250107T130000
DTEND;TZID=America/Toronto:20250107T150000
DTSTAMP:20260423T005914
CREATED:20240624T183355Z
LAST-MODIFIED:20250310T202218Z
UID:10000307-1736254800-1736262000@meraschoolhouse.org
SUMMARY:Pottery Studio
DESCRIPTION:Meeting Space: Pottery Studio (basement) \nContact Person: Jan Griffiths \nWe are a joyfulgroup of potters who share space\, tools and experience in the basement of theMERA schoolhouse. We are organized as a co-operative\, sharing responsibilityfor making our studio a fun\, open\, supportive and safe place to enjoy creatingworks in clay both on and away from the wheel. Each studio member is encouragedto participate in both individual and collective projects\, to contribute tostudio maintenance tasks\, and to teach and learn from the other potters. MERApotters also organize learning and teaching opportunities in the form ofin-house workshops and sessions led by professional potters and contribute tothe Annual MERA Christmas Fair.
URL:https://meraschoolhouse.org/event/pottery-studio-58/
CATEGORIES:Pottery
END:VEVENT
END:VCALENDAR