BEGIN:VCALENDAR
VERSION:2.0
PRODID:-//MERA - ECPv6.15.11//NONSGML v1.0//EN
CALSCALE:GREGORIAN
METHOD:PUBLISH
X-WR-CALNAME:MERA
X-ORIGINAL-URL:https://meraschoolhouse.org
X-WR-CALDESC:Events for MERA
REFRESH-INTERVAL;VALUE=DURATION:PT1H
X-Robots-Tag:noindex
X-PUBLISHED-TTL:PT1H
BEGIN:VTIMEZONE
TZID:America/Toronto
BEGIN:DAYLIGHT
TZOFFSETFROM:-0500
TZOFFSETTO:-0400
TZNAME:EDT
DTSTART:20230312T070000
END:DAYLIGHT
BEGIN:STANDARD
TZOFFSETFROM:-0400
TZOFFSETTO:-0500
TZNAME:EST
DTSTART:20231105T060000
END:STANDARD
BEGIN:DAYLIGHT
TZOFFSETFROM:-0500
TZOFFSETTO:-0400
TZNAME:EDT
DTSTART:20240310T070000
END:DAYLIGHT
BEGIN:STANDARD
TZOFFSETFROM:-0400
TZOFFSETTO:-0500
TZNAME:EST
DTSTART:20241103T060000
END:STANDARD
BEGIN:DAYLIGHT
TZOFFSETFROM:-0500
TZOFFSETTO:-0400
TZNAME:EDT
DTSTART:20250309T070000
END:DAYLIGHT
BEGIN:STANDARD
TZOFFSETFROM:-0400
TZOFFSETTO:-0500
TZNAME:EST
DTSTART:20251102T060000
END:STANDARD
BEGIN:DAYLIGHT
TZOFFSETFROM:-0500
TZOFFSETTO:-0400
TZNAME:EDT
DTSTART:20260308T070000
END:DAYLIGHT
BEGIN:STANDARD
TZOFFSETFROM:-0400
TZOFFSETTO:-0500
TZNAME:EST
DTSTART:20261101T060000
END:STANDARD
END:VTIMEZONE
BEGIN:VEVENT
DTSTART;TZID=America/Toronto:20250110T100000
DTEND;TZID=America/Toronto:20250110T120000
DTSTAMP:20260423T041257
CREATED:20240624T183355Z
LAST-MODIFIED:20240824T053721Z
UID:10000313-1736503200-1736510400@meraschoolhouse.org
SUMMARY:Art Circle
DESCRIPTION:
URL:https://meraschoolhouse.org/event/art-circle-28/
CATEGORIES:Art,Art circle
END:VEVENT
BEGIN:VEVENT
DTSTART;TZID=America/Toronto:20250109T150000
DTEND;TZID=America/Toronto:20250109T170000
DTSTAMP:20260423T041257
CREATED:20240624T183355Z
LAST-MODIFIED:20250310T202218Z
UID:10000312-1736434800-1736442000@meraschoolhouse.org
SUMMARY:Pottery Studio - Homeschoolers
DESCRIPTION:Meeting Space: Pottery Studio (basement) \nContact Person: Heather Vriends
URL:https://meraschoolhouse.org/event/pottery-studio-homeschoolers-28/
CATEGORIES:Pottery
END:VEVENT
BEGIN:VEVENT
DTSTART;TZID=America/Toronto:20250109T120000
DTEND;TZID=America/Toronto:20250109T160000
DTSTAMP:20260423T041257
CREATED:20240624T183355Z
LAST-MODIFIED:20250310T201052Z
UID:10000311-1736424000-1736438400@meraschoolhouse.org
SUMMARY:Heritage Weavers
DESCRIPTION:Meeting Place: Dean Hall \nContact Person: Lise Loader
URL:https://meraschoolhouse.org/event/heritage-weavers-54/
CATEGORIES:Weaving
END:VEVENT
BEGIN:VEVENT
DTSTART;TZID=America/Toronto:20250108T130000
DTEND;TZID=America/Toronto:20250108T160000
DTSTAMP:20260423T041257
CREATED:20240624T183355Z
LAST-MODIFIED:20240828T183342Z
UID:10000310-1736341200-1736352000@meraschoolhouse.org
SUMMARY:MERA's Needle Pushers
DESCRIPTION:Meeting Space: MERA Room \nContact Person: Bonnie McQuatt \nWe welcome anyone who might have new techniques or designs to shareor perhaps just has a desire to try something new. \n \nMostof the fun of quilting is being with the people we quilt with. Newcomers learnby doing. If you would like to try quilting with us we will share our supplieswith you until you figure out if quilting is your thing or not. Therequirements for quilting are minimal. Those who have a portable sewingmachine\, rotary cutter and mat will bring that equipment when we are starting aquilt and we work together cutting out the pattern and assembling the quilt.Once the hand quilting begins each person needs their own thimble\, scissors andquilting needles.
URL:https://meraschoolhouse.org/event/meras-needle-pushers-27/
CATEGORIES:Quilting
END:VEVENT
BEGIN:VEVENT
DTSTART;TZID=America/Toronto:20250108T130000
DTEND;TZID=America/Toronto:20250108T150000
DTSTAMP:20260423T041257
CREATED:20240624T183355Z
LAST-MODIFIED:20250310T202218Z
UID:10000309-1736341200-1736348400@meraschoolhouse.org
SUMMARY:Pottery Studio
DESCRIPTION:Meetings Space: Pottery Studio (basement) \nContact Person: Heather Vriends
URL:https://meraschoolhouse.org/event/pottery-studio-59/
CATEGORIES:Pottery
END:VEVENT
BEGIN:VEVENT
DTSTART;TZID=America/Toronto:20250107T130000
DTEND;TZID=America/Toronto:20250107T150000
DTSTAMP:20260423T041257
CREATED:20240624T183355Z
LAST-MODIFIED:20250310T202218Z
UID:10000307-1736254800-1736262000@meraschoolhouse.org
SUMMARY:Pottery Studio
DESCRIPTION:Meeting Space: Pottery Studio (basement) \nContact Person: Jan Griffiths \nWe are a joyfulgroup of potters who share space\, tools and experience in the basement of theMERA schoolhouse. We are organized as a co-operative\, sharing responsibilityfor making our studio a fun\, open\, supportive and safe place to enjoy creatingworks in clay both on and away from the wheel. Each studio member is encouragedto participate in both individual and collective projects\, to contribute tostudio maintenance tasks\, and to teach and learn from the other potters. MERApotters also organize learning and teaching opportunities in the form ofin-house workshops and sessions led by professional potters and contribute tothe Annual MERA Christmas Fair.
URL:https://meraschoolhouse.org/event/pottery-studio-58/
CATEGORIES:Pottery
END:VEVENT
BEGIN:VEVENT
DTSTART;TZID=America/Toronto:20250107T050000
DTEND;TZID=America/Toronto:20250107T070000
DTSTAMP:20260423T041257
CREATED:20240624T183355Z
LAST-MODIFIED:20240624T183355Z
UID:10000306-1736226000-1736233200@meraschoolhouse.org
SUMMARY:Closed for Cleaning
DESCRIPTION:
URL:https://meraschoolhouse.org/event/closed-for-cleaning-29/
END:VEVENT
BEGIN:VEVENT
DTSTART;TZID=America/Toronto:20250106T130000
DTEND;TZID=America/Toronto:20250106T160000
DTSTAMP:20260423T041257
CREATED:20240624T183355Z
LAST-MODIFIED:20250310T201052Z
UID:10000305-1736168400-1736179200@meraschoolhouse.org
SUMMARY:Heritage Weavers
DESCRIPTION:Meeting Place: Dean Hall \nContact Person: Lise Loader \n \nThis collective has expanded significantly from a core group over the last few years\, to the point where space and equipment have become limiting factors. There are now 7 looms of various sizes and styles at MERA. Several of these looms are set up with extra-long warps which become cooperative projects that various members work on when they can.\nThe weavers gather to plan and work on projects and are available to share ideas\, advice and enthusiasm with each other and newer weavers. It’s an apprentice-like learn-as-you-go environment suited to those who have taken an introduction to weaving weekend workshop at a guild. MERA has on occasion had enough interest to hold such a workshop\, but there is none planned this fall. \nAs with all groups at the schoolhouse\, you must have a MERA membership to become a regular member of the MERA Heritage Weavers. \nView Gallery & History \nCheck out the 2018 MERA Weavers Exhibition: Still Weaving After 20 Years
URL:https://meraschoolhouse.org/event/heritage-weavers-53/
CATEGORIES:Weaving
END:VEVENT
BEGIN:VEVENT
DTSTART;TZID=America/Toronto:20250106T100000
DTEND;TZID=America/Toronto:20250106T140000
DTSTAMP:20260423T041257
CREATED:20240624T183355Z
LAST-MODIFIED:20240624T183355Z
UID:10000304-1736157600-1736172000@meraschoolhouse.org
SUMMARY:Homeschool Group
DESCRIPTION:Contact Person: Heather Vriends
URL:https://meraschoolhouse.org/event/homeschool-group-27/
END:VEVENT
BEGIN:VEVENT
DTSTART;TZID=America/Toronto:20250103T130000
DTEND;TZID=America/Toronto:20250103T143000
DTSTAMP:20260423T041257
CREATED:20240624T183355Z
LAST-MODIFIED:20240827T182654Z
UID:10000303-1735909200-1735914600@meraschoolhouse.org
SUMMARY:Recorder Consort
DESCRIPTION:
URL:https://meraschoolhouse.org/event/recorder-consort-26/
CATEGORIES:Recorder
END:VEVENT
BEGIN:VEVENT
DTSTART;TZID=America/Toronto:20250103T100000
DTEND;TZID=America/Toronto:20250103T120000
DTSTAMP:20260423T041257
CREATED:20240624T183355Z
LAST-MODIFIED:20240824T053721Z
UID:10000302-1735898400-1735905600@meraschoolhouse.org
SUMMARY:Art Circle
DESCRIPTION:
URL:https://meraschoolhouse.org/event/art-circle-27/
CATEGORIES:Art,Art circle
END:VEVENT
BEGIN:VEVENT
DTSTART;TZID=America/Toronto:20250102T150000
DTEND;TZID=America/Toronto:20250102T170000
DTSTAMP:20260423T041257
CREATED:20240624T183355Z
LAST-MODIFIED:20250310T202218Z
UID:10000301-1735830000-1735837200@meraschoolhouse.org
SUMMARY:Pottery Studio - Homeschoolers
DESCRIPTION:Meeting Space: Pottery Studio (basement) \nContact Person: Heather Vriends
URL:https://meraschoolhouse.org/event/pottery-studio-homeschoolers-27/
CATEGORIES:Pottery
END:VEVENT
BEGIN:VEVENT
DTSTART;TZID=America/Toronto:20250102T120000
DTEND;TZID=America/Toronto:20250102T160000
DTSTAMP:20260423T041257
CREATED:20240624T183355Z
LAST-MODIFIED:20250310T201052Z
UID:10000300-1735819200-1735833600@meraschoolhouse.org
SUMMARY:Heritage Weavers
DESCRIPTION:Meeting Place: Dean Hall \nContact Person: Lise Loader
URL:https://meraschoolhouse.org/event/heritage-weavers-52/
CATEGORIES:Weaving
END:VEVENT
BEGIN:VEVENT
DTSTART;TZID=America/Toronto:20250101T130000
DTEND;TZID=America/Toronto:20250101T160000
DTSTAMP:20260423T041257
CREATED:20240624T183355Z
LAST-MODIFIED:20240828T183342Z
UID:10000299-1735736400-1735747200@meraschoolhouse.org
SUMMARY:MERA's Needle Pushers
DESCRIPTION:Meeting Space: MERA Room \nContact Person: Bonnie McQuatt \nWe welcome anyone who might have new techniques or designs to shareor perhaps just has a desire to try something new. \n \nMostof the fun of quilting is being with the people we quilt with. Newcomers learnby doing. If you would like to try quilting with us we will share our supplieswith you until you figure out if quilting is your thing or not. Therequirements for quilting are minimal. Those who have a portable sewingmachine\, rotary cutter and mat will bring that equipment when we are starting aquilt and we work together cutting out the pattern and assembling the quilt.Once the hand quilting begins each person needs their own thimble\, scissors andquilting needles.
URL:https://meraschoolhouse.org/event/meras-needle-pushers-26/
CATEGORIES:Quilting
END:VEVENT
BEGIN:VEVENT
DTSTART;TZID=America/Toronto:20250101T130000
DTEND;TZID=America/Toronto:20250101T150000
DTSTAMP:20260423T041257
CREATED:20240624T183354Z
LAST-MODIFIED:20250310T202218Z
UID:10000298-1735736400-1735743600@meraschoolhouse.org
SUMMARY:Pottery Studio
DESCRIPTION:Meetings Space: Pottery Studio (basement) \nContact Person: Heather Vriends
URL:https://meraschoolhouse.org/event/pottery-studio-57/
CATEGORIES:Pottery
END:VEVENT
BEGIN:VEVENT
DTSTART;TZID=America/Toronto:20241231T130000
DTEND;TZID=America/Toronto:20241231T150000
DTSTAMP:20260423T041257
CREATED:20240624T183354Z
LAST-MODIFIED:20250310T202218Z
UID:10000297-1735650000-1735657200@meraschoolhouse.org
SUMMARY:Pottery Studio
DESCRIPTION:Meeting Space: Pottery Studio (basement) \nContact Person: Jan Griffiths \nWe are a joyfulgroup of potters who share space\, tools and experience in the basement of theMERA schoolhouse. We are organized as a co-operative\, sharing responsibilityfor making our studio a fun\, open\, supportive and safe place to enjoy creatingworks in clay both on and away from the wheel. Each studio member is encouragedto participate in both individual and collective projects\, to contribute tostudio maintenance tasks\, and to teach and learn from the other potters. MERApotters also organize learning and teaching opportunities in the form ofin-house workshops and sessions led by professional potters and contribute tothe Annual MERA Christmas Fair.
URL:https://meraschoolhouse.org/event/pottery-studio-56/
CATEGORIES:Pottery
END:VEVENT
BEGIN:VEVENT
DTSTART;TZID=America/Toronto:20241231T050000
DTEND;TZID=America/Toronto:20241231T070000
DTSTAMP:20260423T041257
CREATED:20240624T183354Z
LAST-MODIFIED:20240624T183354Z
UID:10000296-1735621200-1735628400@meraschoolhouse.org
SUMMARY:Closed for Cleaning
DESCRIPTION:
URL:https://meraschoolhouse.org/event/closed-for-cleaning-28/
END:VEVENT
BEGIN:VEVENT
DTSTART;TZID=America/Toronto:20241230T130000
DTEND;TZID=America/Toronto:20241230T160000
DTSTAMP:20260423T041257
CREATED:20240624T183354Z
LAST-MODIFIED:20250310T201052Z
UID:10000295-1735563600-1735574400@meraschoolhouse.org
SUMMARY:Heritage Weavers
DESCRIPTION:Meeting Place: Dean Hall \nContact Person: Lise Loader \n \nThis collective has expanded significantly from a core group over the last few years\, to the point where space and equipment have become limiting factors. There are now 7 looms of various sizes and styles at MERA. Several of these looms are set up with extra-long warps which become cooperative projects that various members work on when they can.\nThe weavers gather to plan and work on projects and are available to share ideas\, advice and enthusiasm with each other and newer weavers. It’s an apprentice-like learn-as-you-go environment suited to those who have taken an introduction to weaving weekend workshop at a guild. MERA has on occasion had enough interest to hold such a workshop\, but there is none planned this fall. \nAs with all groups at the schoolhouse\, you must have a MERA membership to become a regular member of the MERA Heritage Weavers. \nView Gallery & History \nCheck out the 2018 MERA Weavers Exhibition: Still Weaving After 20 Years
URL:https://meraschoolhouse.org/event/heritage-weavers-51/
CATEGORIES:Weaving
END:VEVENT
BEGIN:VEVENT
DTSTART;TZID=America/Toronto:20241230T100000
DTEND;TZID=America/Toronto:20241230T140000
DTSTAMP:20260423T041257
CREATED:20240624T183354Z
LAST-MODIFIED:20240624T183354Z
UID:10000294-1735552800-1735567200@meraschoolhouse.org
SUMMARY:Homeschool Group
DESCRIPTION:Contact Person: Heather Vriends
URL:https://meraschoolhouse.org/event/homeschool-group-26/
END:VEVENT
BEGIN:VEVENT
DTSTART;TZID=America/Toronto:20241227T130000
DTEND;TZID=America/Toronto:20241227T143000
DTSTAMP:20260423T041257
CREATED:20240624T183354Z
LAST-MODIFIED:20240827T182710Z
UID:10000293-1735304400-1735309800@meraschoolhouse.org
SUMMARY:Recorder Consort
DESCRIPTION:
URL:https://meraschoolhouse.org/event/recorder-consort-25/
CATEGORIES:Recorder
END:VEVENT
BEGIN:VEVENT
DTSTART;TZID=America/Toronto:20241227T100000
DTEND;TZID=America/Toronto:20241227T120000
DTSTAMP:20260423T041257
CREATED:20240624T183354Z
LAST-MODIFIED:20240824T053721Z
UID:10000292-1735293600-1735300800@meraschoolhouse.org
SUMMARY:Art Circle
DESCRIPTION:
URL:https://meraschoolhouse.org/event/art-circle-26/
CATEGORIES:Art,Art circle
END:VEVENT
BEGIN:VEVENT
DTSTART;TZID=America/Toronto:20241226T150000
DTEND;TZID=America/Toronto:20241226T170000
DTSTAMP:20260423T041257
CREATED:20240624T183354Z
LAST-MODIFIED:20250310T202218Z
UID:10000291-1735225200-1735232400@meraschoolhouse.org
SUMMARY:Pottery Studio - Homeschoolers
DESCRIPTION:Meeting Space: Pottery Studio (basement) \nContact Person: Heather Vriends
URL:https://meraschoolhouse.org/event/pottery-studio-homeschoolers-26/
CATEGORIES:Pottery
END:VEVENT
BEGIN:VEVENT
DTSTART;TZID=America/Toronto:20241226T120000
DTEND;TZID=America/Toronto:20241226T160000
DTSTAMP:20260423T041257
CREATED:20240624T183354Z
LAST-MODIFIED:20250310T201052Z
UID:10000290-1735214400-1735228800@meraschoolhouse.org
SUMMARY:Heritage Weavers
DESCRIPTION:Meeting Place: Dean Hall \nContact Person: Lise Loader
URL:https://meraschoolhouse.org/event/heritage-weavers-50/
CATEGORIES:Weaving
END:VEVENT
BEGIN:VEVENT
DTSTART;TZID=America/Toronto:20241225T130000
DTEND;TZID=America/Toronto:20241225T160000
DTSTAMP:20260423T041258
CREATED:20240624T183354Z
LAST-MODIFIED:20240828T183342Z
UID:10000289-1735131600-1735142400@meraschoolhouse.org
SUMMARY:MERA's Needle Pushers
DESCRIPTION:Meeting Space: MERA Room \nContact Person: Bonnie McQuatt \nWe welcome anyone who might have new techniques or designs to shareor perhaps just has a desire to try something new. \n \nMostof the fun of quilting is being with the people we quilt with. Newcomers learnby doing. If you would like to try quilting with us we will share our supplieswith you until you figure out if quilting is your thing or not. Therequirements for quilting are minimal. Those who have a portable sewingmachine\, rotary cutter and mat will bring that equipment when we are starting aquilt and we work together cutting out the pattern and assembling the quilt.Once the hand quilting begins each person needs their own thimble\, scissors andquilting needles.
URL:https://meraschoolhouse.org/event/meras-needle-pushers-25/
CATEGORIES:Quilting
END:VEVENT
BEGIN:VEVENT
DTSTART;TZID=America/Toronto:20241225T130000
DTEND;TZID=America/Toronto:20241225T150000
DTSTAMP:20260423T041258
CREATED:20240624T183354Z
LAST-MODIFIED:20250310T202218Z
UID:10000288-1735131600-1735138800@meraschoolhouse.org
SUMMARY:Pottery Studio
DESCRIPTION:Meetings Space: Pottery Studio (basement) \nContact Person: Heather Vriends
URL:https://meraschoolhouse.org/event/pottery-studio-55/
CATEGORIES:Pottery
END:VEVENT
BEGIN:VEVENT
DTSTART;TZID=America/Toronto:20241224T130000
DTEND;TZID=America/Toronto:20241224T150000
DTSTAMP:20260423T041258
CREATED:20240624T183354Z
LAST-MODIFIED:20250310T202218Z
UID:10000287-1735045200-1735052400@meraschoolhouse.org
SUMMARY:Pottery Studio
DESCRIPTION:Meeting Space: Pottery Studio (basement) \nContact Person: Jan Griffiths \nWe are a joyfulgroup of potters who share space\, tools and experience in the basement of theMERA schoolhouse. We are organized as a co-operative\, sharing responsibilityfor making our studio a fun\, open\, supportive and safe place to enjoy creatingworks in clay both on and away from the wheel. Each studio member is encouragedto participate in both individual and collective projects\, to contribute tostudio maintenance tasks\, and to teach and learn from the other potters. MERApotters also organize learning and teaching opportunities in the form ofin-house workshops and sessions led by professional potters and contribute tothe Annual MERA Christmas Fair.
URL:https://meraschoolhouse.org/event/pottery-studio-54/
CATEGORIES:Pottery
END:VEVENT
BEGIN:VEVENT
DTSTART;TZID=America/Toronto:20241224T050000
DTEND;TZID=America/Toronto:20241224T070000
DTSTAMP:20260423T041258
CREATED:20240624T183354Z
LAST-MODIFIED:20240624T183354Z
UID:10000286-1735016400-1735023600@meraschoolhouse.org
SUMMARY:Closed for Cleaning
DESCRIPTION:
URL:https://meraschoolhouse.org/event/closed-for-cleaning-27/
END:VEVENT
BEGIN:VEVENT
DTSTART;TZID=America/Toronto:20241223T130000
DTEND;TZID=America/Toronto:20241223T160000
DTSTAMP:20260423T041258
CREATED:20240624T183354Z
LAST-MODIFIED:20250310T201052Z
UID:10000285-1734958800-1734969600@meraschoolhouse.org
SUMMARY:Heritage Weavers
DESCRIPTION:Meeting Place: Dean Hall \nContact Person: Lise Loader \n \nThis collective has expanded significantly from a core group over the last few years\, to the point where space and equipment have become limiting factors. There are now 7 looms of various sizes and styles at MERA. Several of these looms are set up with extra-long warps which become cooperative projects that various members work on when they can.\nThe weavers gather to plan and work on projects and are available to share ideas\, advice and enthusiasm with each other and newer weavers. It’s an apprentice-like learn-as-you-go environment suited to those who have taken an introduction to weaving weekend workshop at a guild. MERA has on occasion had enough interest to hold such a workshop\, but there is none planned this fall. \nAs with all groups at the schoolhouse\, you must have a MERA membership to become a regular member of the MERA Heritage Weavers. \nView Gallery & History \nCheck out the 2018 MERA Weavers Exhibition: Still Weaving After 20 Years
URL:https://meraschoolhouse.org/event/heritage-weavers-49/
CATEGORIES:Weaving
END:VEVENT
BEGIN:VEVENT
DTSTART;TZID=America/Toronto:20241223T100000
DTEND;TZID=America/Toronto:20241223T140000
DTSTAMP:20260423T041258
CREATED:20240624T183354Z
LAST-MODIFIED:20240624T183354Z
UID:10000284-1734948000-1734962400@meraschoolhouse.org
SUMMARY:Homeschool Group
DESCRIPTION:Contact Person: Heather Vriends
URL:https://meraschoolhouse.org/event/homeschool-group-25/
END:VEVENT
BEGIN:VEVENT
DTSTART;TZID=America/Toronto:20241220T130000
DTEND;TZID=America/Toronto:20241220T143000
DTSTAMP:20260423T041258
CREATED:20240624T183354Z
LAST-MODIFIED:20240827T182724Z
UID:10000283-1734699600-1734705000@meraschoolhouse.org
SUMMARY:Recorder Consort
DESCRIPTION:
URL:https://meraschoolhouse.org/event/recorder-consort-24/
CATEGORIES:Recorder
END:VEVENT
END:VCALENDAR