BEGIN:VCALENDAR
VERSION:2.0
PRODID:-//MERA - ECPv6.15.11//NONSGML v1.0//EN
CALSCALE:GREGORIAN
METHOD:PUBLISH
X-WR-CALNAME:MERA
X-ORIGINAL-URL:https://meraschoolhouse.org
X-WR-CALDESC:Events for MERA
REFRESH-INTERVAL;VALUE=DURATION:PT1H
X-Robots-Tag:noindex
X-PUBLISHED-TTL:PT1H
BEGIN:VTIMEZONE
TZID:America/Toronto
BEGIN:DAYLIGHT
TZOFFSETFROM:-0500
TZOFFSETTO:-0400
TZNAME:EDT
DTSTART:20230312T070000
END:DAYLIGHT
BEGIN:STANDARD
TZOFFSETFROM:-0400
TZOFFSETTO:-0500
TZNAME:EST
DTSTART:20231105T060000
END:STANDARD
BEGIN:DAYLIGHT
TZOFFSETFROM:-0500
TZOFFSETTO:-0400
TZNAME:EDT
DTSTART:20240310T070000
END:DAYLIGHT
BEGIN:STANDARD
TZOFFSETFROM:-0400
TZOFFSETTO:-0500
TZNAME:EST
DTSTART:20241103T060000
END:STANDARD
BEGIN:DAYLIGHT
TZOFFSETFROM:-0500
TZOFFSETTO:-0400
TZNAME:EDT
DTSTART:20250309T070000
END:DAYLIGHT
BEGIN:STANDARD
TZOFFSETFROM:-0400
TZOFFSETTO:-0500
TZNAME:EST
DTSTART:20251102T060000
END:STANDARD
END:VTIMEZONE
BEGIN:VEVENT
DTSTART;TZID=America/Toronto:20241225T130000
DTEND;TZID=America/Toronto:20241225T150000
DTSTAMP:20260423T073521
CREATED:20240624T183354Z
LAST-MODIFIED:20250310T202218Z
UID:10000288-1735131600-1735138800@meraschoolhouse.org
SUMMARY:Pottery Studio
DESCRIPTION:Meetings Space: Pottery Studio (basement) \nContact Person: Heather Vriends
URL:https://meraschoolhouse.org/event/pottery-studio-55/
CATEGORIES:Pottery
END:VEVENT
BEGIN:VEVENT
DTSTART;TZID=America/Toronto:20241224T130000
DTEND;TZID=America/Toronto:20241224T150000
DTSTAMP:20260423T073521
CREATED:20240624T183354Z
LAST-MODIFIED:20250310T202218Z
UID:10000287-1735045200-1735052400@meraschoolhouse.org
SUMMARY:Pottery Studio
DESCRIPTION:Meeting Space: Pottery Studio (basement) \nContact Person: Jan Griffiths \nWe are a joyfulgroup of potters who share space\, tools and experience in the basement of theMERA schoolhouse. We are organized as a co-operative\, sharing responsibilityfor making our studio a fun\, open\, supportive and safe place to enjoy creatingworks in clay both on and away from the wheel. Each studio member is encouragedto participate in both individual and collective projects\, to contribute tostudio maintenance tasks\, and to teach and learn from the other potters. MERApotters also organize learning and teaching opportunities in the form ofin-house workshops and sessions led by professional potters and contribute tothe Annual MERA Christmas Fair.
URL:https://meraschoolhouse.org/event/pottery-studio-54/
CATEGORIES:Pottery
END:VEVENT
BEGIN:VEVENT
DTSTART;TZID=America/Toronto:20241224T050000
DTEND;TZID=America/Toronto:20241224T070000
DTSTAMP:20260423T073521
CREATED:20240624T183354Z
LAST-MODIFIED:20240624T183354Z
UID:10000286-1735016400-1735023600@meraschoolhouse.org
SUMMARY:Closed for Cleaning
DESCRIPTION:
URL:https://meraschoolhouse.org/event/closed-for-cleaning-27/
END:VEVENT
BEGIN:VEVENT
DTSTART;TZID=America/Toronto:20241223T130000
DTEND;TZID=America/Toronto:20241223T160000
DTSTAMP:20260423T073521
CREATED:20240624T183354Z
LAST-MODIFIED:20250310T201052Z
UID:10000285-1734958800-1734969600@meraschoolhouse.org
SUMMARY:Heritage Weavers
DESCRIPTION:Meeting Place: Dean Hall \nContact Person: Lise Loader \n \nThis collective has expanded significantly from a core group over the last few years\, to the point where space and equipment have become limiting factors. There are now 7 looms of various sizes and styles at MERA. Several of these looms are set up with extra-long warps which become cooperative projects that various members work on when they can.\nThe weavers gather to plan and work on projects and are available to share ideas\, advice and enthusiasm with each other and newer weavers. It’s an apprentice-like learn-as-you-go environment suited to those who have taken an introduction to weaving weekend workshop at a guild. MERA has on occasion had enough interest to hold such a workshop\, but there is none planned this fall. \nAs with all groups at the schoolhouse\, you must have a MERA membership to become a regular member of the MERA Heritage Weavers. \nView Gallery & History \nCheck out the 2018 MERA Weavers Exhibition: Still Weaving After 20 Years
URL:https://meraschoolhouse.org/event/heritage-weavers-49/
CATEGORIES:Weaving
END:VEVENT
BEGIN:VEVENT
DTSTART;TZID=America/Toronto:20241223T100000
DTEND;TZID=America/Toronto:20241223T140000
DTSTAMP:20260423T073521
CREATED:20240624T183354Z
LAST-MODIFIED:20240624T183354Z
UID:10000284-1734948000-1734962400@meraschoolhouse.org
SUMMARY:Homeschool Group
DESCRIPTION:Contact Person: Heather Vriends
URL:https://meraschoolhouse.org/event/homeschool-group-25/
END:VEVENT
BEGIN:VEVENT
DTSTART;TZID=America/Toronto:20241220T130000
DTEND;TZID=America/Toronto:20241220T143000
DTSTAMP:20260423T073521
CREATED:20240624T183354Z
LAST-MODIFIED:20240827T182724Z
UID:10000283-1734699600-1734705000@meraschoolhouse.org
SUMMARY:Recorder Consort
DESCRIPTION:
URL:https://meraschoolhouse.org/event/recorder-consort-24/
CATEGORIES:Recorder
END:VEVENT
BEGIN:VEVENT
DTSTART;TZID=America/Toronto:20241220T100000
DTEND;TZID=America/Toronto:20241220T120000
DTSTAMP:20260423T073521
CREATED:20240624T183354Z
LAST-MODIFIED:20240824T053721Z
UID:10000282-1734688800-1734696000@meraschoolhouse.org
SUMMARY:Art Circle
DESCRIPTION:
URL:https://meraschoolhouse.org/event/art-circle-25/
CATEGORIES:Art,Art circle
END:VEVENT
BEGIN:VEVENT
DTSTART;TZID=America/Toronto:20241219T150000
DTEND;TZID=America/Toronto:20241219T170000
DTSTAMP:20260423T073521
CREATED:20240624T183353Z
LAST-MODIFIED:20250310T202218Z
UID:10000281-1734620400-1734627600@meraschoolhouse.org
SUMMARY:Pottery Studio - Homeschoolers
DESCRIPTION:Meeting Space: Pottery Studio (basement) \nContact Person: Heather Vriends
URL:https://meraschoolhouse.org/event/pottery-studio-homeschoolers-25/
CATEGORIES:Pottery
END:VEVENT
BEGIN:VEVENT
DTSTART;TZID=America/Toronto:20241219T120000
DTEND;TZID=America/Toronto:20241219T160000
DTSTAMP:20260423T073521
CREATED:20240624T183353Z
LAST-MODIFIED:20250310T201052Z
UID:10000280-1734609600-1734624000@meraschoolhouse.org
SUMMARY:Heritage Weavers
DESCRIPTION:Meeting Place: Dean Hall \nContact Person: Lise Loader
URL:https://meraschoolhouse.org/event/heritage-weavers-48/
CATEGORIES:Weaving
END:VEVENT
BEGIN:VEVENT
DTSTART;TZID=America/Toronto:20241219T110000
DTEND;TZID=America/Toronto:20241219T140000
DTSTAMP:20260423T073521
CREATED:20240903T193005Z
LAST-MODIFIED:20240903T193005Z
UID:10000575-1734606000-1734616800@meraschoolhouse.org
SUMMARY:Fibre Arts
DESCRIPTION:If you are interested in fibre arts (knitting\, spinning\, felting\, crocheting\, etc. join us. We bring whatever we are working on\, have tea\, chat and share ideas.
URL:https://meraschoolhouse.org/event/fibre-arts-15/
CATEGORIES:Fibre arts
ORGANIZER;CN="Michele Derry":MAILTO:lanarklady1@yahoo.ca
END:VEVENT
BEGIN:VEVENT
DTSTART;TZID=America/Toronto:20241218T130000
DTEND;TZID=America/Toronto:20241218T160000
DTSTAMP:20260423T073521
CREATED:20240624T183353Z
LAST-MODIFIED:20241107T032428Z
UID:10000279-1734526800-1734537600@meraschoolhouse.org
SUMMARY:MERA's Needle Pushers
DESCRIPTION:Meeting Space: MERA Room \nContact Person: Bonnie McQuatt \nWe welcome anyone who might have new techniques or designs to shareor perhaps just has a desire to try something new. \n \nMostof the fun of quilting is being with the people we quilt with. Newcomers learnby doing. If you would like to try quilting with us we will share our supplieswith you until you figure out if quilting is your thing or not. Therequirements for quilting are minimal. Those who have a portable sewingmachine\, rotary cutter and mat will bring that equipment when we are starting aquilt and we work together cutting out the pattern and assembling the quilt.Once the hand quilting begins each person needs their own thimble\, scissors andquilting needles.
URL:https://meraschoolhouse.org/event/meras-needle-pushers-24/
CATEGORIES:Art,Quilting
ATTACH;FMTTYPE=image/jpeg:https://meraschoolhouse.org/wp-content/uploads/2021/10/QUILTING-2.jpg
END:VEVENT
BEGIN:VEVENT
DTSTART;TZID=America/Toronto:20241218T130000
DTEND;TZID=America/Toronto:20241218T150000
DTSTAMP:20260423T073521
CREATED:20240624T183353Z
LAST-MODIFIED:20240827T162754Z
UID:10000278-1734526800-1734534000@meraschoolhouse.org
SUMMARY:Pottery Studio
DESCRIPTION:Meetings Space: Pottery Studio (basement) \nContact Person: Heather Vriends
URL:https://meraschoolhouse.org/event/pottery-studio-53/
CATEGORIES:Pottery
END:VEVENT
BEGIN:VEVENT
DTSTART;TZID=America/Toronto:20241217T190000
DTEND;TZID=America/Toronto:20241217T210000
DTSTAMP:20260423T073521
CREATED:20240624T183353Z
LAST-MODIFIED:20240822T023924Z
UID:10000277-1734462000-1734469200@meraschoolhouse.org
SUMMARY:Book Club
DESCRIPTION:Meetings are usually held the 3rd Tuesday of each month from 7pm to 9pm. We are a friendly\, respectful\, no rules book club. Each month one person will facilitate a discussion about the book chosen for that month. Discussions are always informative and lively. New members are welcome. If you see a book that peaks your interest and would like to join us for an evening’s discussion we also welcome drop-ins. You can join us by contacting Jean Dunning at 613-259-2636 or email here.    \nJan 17\, 2023: The Lincoln Highway – Amor Towles \nA story of love\, loss and friendship.
URL:https://meraschoolhouse.org/event/book-club-6/
CATEGORIES:Bookclub
END:VEVENT
BEGIN:VEVENT
DTSTART;TZID=America/Toronto:20241217T130000
DTEND;TZID=America/Toronto:20241217T150000
DTSTAMP:20260423T073521
CREATED:20240624T183353Z
LAST-MODIFIED:20240827T162754Z
UID:10000276-1734440400-1734447600@meraschoolhouse.org
SUMMARY:Pottery Studio
DESCRIPTION:Meeting Space: Pottery Studio (basement) \nContact Person: Jan Griffiths \nWe are a joyfulgroup of potters who share space\, tools and experience in the basement of theMERA schoolhouse. We are organized as a co-operative\, sharing responsibilityfor making our studio a fun\, open\, supportive and safe place to enjoy creatingworks in clay both on and away from the wheel. Each studio member is encouragedto participate in both individual and collective projects\, to contribute tostudio maintenance tasks\, and to teach and learn from the other potters. MERApotters also organize learning and teaching opportunities in the form ofin-house workshops and sessions led by professional potters and contribute tothe Annual MERA Christmas Fair.
URL:https://meraschoolhouse.org/event/pottery-studio-52/
CATEGORIES:Pottery
END:VEVENT
BEGIN:VEVENT
DTSTART;TZID=America/Toronto:20241217T050000
DTEND;TZID=America/Toronto:20241217T070000
DTSTAMP:20260423T073521
CREATED:20240624T183353Z
LAST-MODIFIED:20240624T183353Z
UID:10000275-1734411600-1734418800@meraschoolhouse.org
SUMMARY:Closed for Cleaning
DESCRIPTION:
URL:https://meraschoolhouse.org/event/closed-for-cleaning-26/
END:VEVENT
BEGIN:VEVENT
DTSTART;TZID=America/Toronto:20241216T130000
DTEND;TZID=America/Toronto:20241216T160000
DTSTAMP:20260423T073521
CREATED:20240624T183353Z
LAST-MODIFIED:20250310T201052Z
UID:10000274-1734354000-1734364800@meraschoolhouse.org
SUMMARY:Heritage Weavers
DESCRIPTION:Meeting Place: Dean Hall \nContact Person: Lise Loader \n \nThis collective has expanded significantly from a core group over the last few years\, to the point where space and equipment have become limiting factors. There are now 7 looms of various sizes and styles at MERA. Several of these looms are set up with extra-long warps which become cooperative projects that various members work on when they can.\nThe weavers gather to plan and work on projects and are available to share ideas\, advice and enthusiasm with each other and newer weavers. It’s an apprentice-like learn-as-you-go environment suited to those who have taken an introduction to weaving weekend workshop at a guild. MERA has on occasion had enough interest to hold such a workshop\, but there is none planned this fall. \nAs with all groups at the schoolhouse\, you must have a MERA membership to become a regular member of the MERA Heritage Weavers. \nView Gallery & History \nCheck out the 2018 MERA Weavers Exhibition: Still Weaving After 20 Years
URL:https://meraschoolhouse.org/event/heritage-weavers-47/
CATEGORIES:Weaving
END:VEVENT
BEGIN:VEVENT
DTSTART;TZID=America/Toronto:20241216T100000
DTEND;TZID=America/Toronto:20241216T140000
DTSTAMP:20260423T073521
CREATED:20240624T183353Z
LAST-MODIFIED:20240624T183353Z
UID:10000273-1734343200-1734357600@meraschoolhouse.org
SUMMARY:Homeschool Group
DESCRIPTION:Contact Person: Heather Vriends
URL:https://meraschoolhouse.org/event/homeschool-group-24/
END:VEVENT
BEGIN:VEVENT
DTSTART;TZID=America/Toronto:20241213T130000
DTEND;TZID=America/Toronto:20241213T143000
DTSTAMP:20260423T073521
CREATED:20240624T183353Z
LAST-MODIFIED:20240827T182733Z
UID:10000272-1734094800-1734100200@meraschoolhouse.org
SUMMARY:Recorder Consort
DESCRIPTION:
URL:https://meraschoolhouse.org/event/recorder-consort-23/
CATEGORIES:Recorder
END:VEVENT
BEGIN:VEVENT
DTSTART;TZID=America/Toronto:20241213T100000
DTEND;TZID=America/Toronto:20241213T120000
DTSTAMP:20260423T073521
CREATED:20240624T183353Z
LAST-MODIFIED:20240824T053721Z
UID:10000271-1734084000-1734091200@meraschoolhouse.org
SUMMARY:Art Circle
DESCRIPTION:
URL:https://meraschoolhouse.org/event/art-circle-24/
CATEGORIES:Art,Art circle
END:VEVENT
BEGIN:VEVENT
DTSTART;TZID=America/Toronto:20241212T150000
DTEND;TZID=America/Toronto:20241212T170000
DTSTAMP:20260423T073521
CREATED:20240624T183353Z
LAST-MODIFIED:20240827T162754Z
UID:10000270-1734015600-1734022800@meraschoolhouse.org
SUMMARY:Pottery Studio - Homeschoolers
DESCRIPTION:Meeting Space: Pottery Studio (basement) \nContact Person: Heather Vriends
URL:https://meraschoolhouse.org/event/pottery-studio-homeschoolers-24/
CATEGORIES:Pottery
END:VEVENT
BEGIN:VEVENT
DTSTART;TZID=America/Toronto:20241212T120000
DTEND;TZID=America/Toronto:20241212T160000
DTSTAMP:20260423T073521
CREATED:20240624T183353Z
LAST-MODIFIED:20250310T201052Z
UID:10000269-1734004800-1734019200@meraschoolhouse.org
SUMMARY:Heritage Weavers
DESCRIPTION:Meeting Place: Dean Hall \nContact Person: Lise Loader
URL:https://meraschoolhouse.org/event/heritage-weavers-46/
CATEGORIES:Weaving
END:VEVENT
BEGIN:VEVENT
DTSTART;TZID=America/Toronto:20241212T110000
DTEND;TZID=America/Toronto:20241212T140000
DTSTAMP:20260423T073521
CREATED:20240903T193005Z
LAST-MODIFIED:20240903T193005Z
UID:10000574-1734001200-1734012000@meraschoolhouse.org
SUMMARY:Fibre Arts
DESCRIPTION:If you are interested in fibre arts (knitting\, spinning\, felting\, crocheting\, etc. join us. We bring whatever we are working on\, have tea\, chat and share ideas.
URL:https://meraschoolhouse.org/event/fibre-arts-14/
CATEGORIES:Fibre arts
ORGANIZER;CN="Michele Derry":MAILTO:lanarklady1@yahoo.ca
END:VEVENT
BEGIN:VEVENT
DTSTART;TZID=America/Toronto:20241211T130000
DTEND;TZID=America/Toronto:20241211T160000
DTSTAMP:20260423T073521
CREATED:20240624T183353Z
LAST-MODIFIED:20240828T183342Z
UID:10000268-1733922000-1733932800@meraschoolhouse.org
SUMMARY:MERA's Needle Pushers
DESCRIPTION:Meeting Space: MERA Room \nContact Person: Bonnie McQuatt \nWe welcome anyone who might have new techniques or designs to shareor perhaps just has a desire to try something new. \n \nMostof the fun of quilting is being with the people we quilt with. Newcomers learnby doing. If you would like to try quilting with us we will share our supplieswith you until you figure out if quilting is your thing or not. Therequirements for quilting are minimal. Those who have a portable sewingmachine\, rotary cutter and mat will bring that equipment when we are starting aquilt and we work together cutting out the pattern and assembling the quilt.Once the hand quilting begins each person needs their own thimble\, scissors andquilting needles.
URL:https://meraschoolhouse.org/event/meras-needle-pushers-23/
CATEGORIES:Quilting
END:VEVENT
BEGIN:VEVENT
DTSTART;TZID=America/Toronto:20241211T130000
DTEND;TZID=America/Toronto:20241211T150000
DTSTAMP:20260423T073521
CREATED:20240624T183353Z
LAST-MODIFIED:20240827T162754Z
UID:10000267-1733922000-1733929200@meraschoolhouse.org
SUMMARY:Pottery Studio
DESCRIPTION:Meetings Space: Pottery Studio (basement) \nContact Person: Heather Vriends
URL:https://meraschoolhouse.org/event/pottery-studio-51/
CATEGORIES:Pottery
END:VEVENT
BEGIN:VEVENT
DTSTART;TZID=America/Toronto:20241210T130000
DTEND;TZID=America/Toronto:20241210T150000
DTSTAMP:20260423T073521
CREATED:20240624T183353Z
LAST-MODIFIED:20240827T162754Z
UID:10000266-1733835600-1733842800@meraschoolhouse.org
SUMMARY:Pottery Studio
DESCRIPTION:Meeting Space: Pottery Studio (basement) \nContact Person: Jan Griffiths \nWe are a joyfulgroup of potters who share space\, tools and experience in the basement of theMERA schoolhouse. We are organized as a co-operative\, sharing responsibilityfor making our studio a fun\, open\, supportive and safe place to enjoy creatingworks in clay both on and away from the wheel. Each studio member is encouragedto participate in both individual and collective projects\, to contribute tostudio maintenance tasks\, and to teach and learn from the other potters. MERApotters also organize learning and teaching opportunities in the form ofin-house workshops and sessions led by professional potters and contribute tothe Annual MERA Christmas Fair.
URL:https://meraschoolhouse.org/event/pottery-studio-50/
CATEGORIES:Pottery
END:VEVENT
BEGIN:VEVENT
DTSTART;TZID=America/Toronto:20241210T050000
DTEND;TZID=America/Toronto:20241210T070000
DTSTAMP:20260423T073521
CREATED:20240624T183352Z
LAST-MODIFIED:20240624T183352Z
UID:10000265-1733806800-1733814000@meraschoolhouse.org
SUMMARY:Closed for Cleaning
DESCRIPTION:
URL:https://meraschoolhouse.org/event/closed-for-cleaning-25/
END:VEVENT
BEGIN:VEVENT
DTSTART;TZID=America/Toronto:20241209T130000
DTEND;TZID=America/Toronto:20241209T160000
DTSTAMP:20260423T073521
CREATED:20240624T183352Z
LAST-MODIFIED:20250310T201052Z
UID:10000264-1733749200-1733760000@meraschoolhouse.org
SUMMARY:Heritage Weavers
DESCRIPTION:Meeting Place: Dean Hall \nContact Person: Lise Loader \n \nThis collective has expanded significantly from a core group over the last few years\, to the point where space and equipment have become limiting factors. There are now 7 looms of various sizes and styles at MERA. Several of these looms are set up with extra-long warps which become cooperative projects that various members work on when they can.\nThe weavers gather to plan and work on projects and are available to share ideas\, advice and enthusiasm with each other and newer weavers. It’s an apprentice-like learn-as-you-go environment suited to those who have taken an introduction to weaving weekend workshop at a guild. MERA has on occasion had enough interest to hold such a workshop\, but there is none planned this fall. \nAs with all groups at the schoolhouse\, you must have a MERA membership to become a regular member of the MERA Heritage Weavers. \nView Gallery & History \nCheck out the 2018 MERA Weavers Exhibition: Still Weaving After 20 Years
URL:https://meraschoolhouse.org/event/heritage-weavers-45/
CATEGORIES:Weaving
END:VEVENT
BEGIN:VEVENT
DTSTART;TZID=America/Toronto:20241209T100000
DTEND;TZID=America/Toronto:20241209T140000
DTSTAMP:20260423T073521
CREATED:20240624T183352Z
LAST-MODIFIED:20240624T183352Z
UID:10000263-1733738400-1733752800@meraschoolhouse.org
SUMMARY:Homeschool Group
DESCRIPTION:Contact Person: Heather Vriends
URL:https://meraschoolhouse.org/event/homeschool-group-23/
END:VEVENT
BEGIN:VEVENT
DTSTART;TZID=America/Toronto:20241206T130000
DTEND;TZID=America/Toronto:20241206T143000
DTSTAMP:20260423T073521
CREATED:20240624T183352Z
LAST-MODIFIED:20240827T182744Z
UID:10000262-1733490000-1733495400@meraschoolhouse.org
SUMMARY:Recorder Consort
DESCRIPTION:
URL:https://meraschoolhouse.org/event/recorder-consort-22/
CATEGORIES:Recorder
END:VEVENT
BEGIN:VEVENT
DTSTART;TZID=America/Toronto:20241206T100000
DTEND;TZID=America/Toronto:20241206T120000
DTSTAMP:20260423T073521
CREATED:20240624T183352Z
LAST-MODIFIED:20240824T053721Z
UID:10000261-1733479200-1733486400@meraschoolhouse.org
SUMMARY:Art Circle
DESCRIPTION:
URL:https://meraschoolhouse.org/event/art-circle-23/
CATEGORIES:Art,Art circle
END:VEVENT
END:VCALENDAR