BEGIN:VCALENDAR
VERSION:2.0
PRODID:-//MERA - ECPv6.15.11//NONSGML v1.0//EN
CALSCALE:GREGORIAN
METHOD:PUBLISH
X-WR-CALNAME:MERA
X-ORIGINAL-URL:https://meraschoolhouse.org
X-WR-CALDESC:Events for MERA
REFRESH-INTERVAL;VALUE=DURATION:PT1H
X-Robots-Tag:noindex
X-PUBLISHED-TTL:PT1H
BEGIN:VTIMEZONE
TZID:America/Toronto
BEGIN:DAYLIGHT
TZOFFSETFROM:-0500
TZOFFSETTO:-0400
TZNAME:EDT
DTSTART:20230312T070000
END:DAYLIGHT
BEGIN:STANDARD
TZOFFSETFROM:-0400
TZOFFSETTO:-0500
TZNAME:EST
DTSTART:20231105T060000
END:STANDARD
BEGIN:DAYLIGHT
TZOFFSETFROM:-0500
TZOFFSETTO:-0400
TZNAME:EDT
DTSTART:20240310T070000
END:DAYLIGHT
BEGIN:STANDARD
TZOFFSETFROM:-0400
TZOFFSETTO:-0500
TZNAME:EST
DTSTART:20241103T060000
END:STANDARD
BEGIN:DAYLIGHT
TZOFFSETFROM:-0500
TZOFFSETTO:-0400
TZNAME:EDT
DTSTART:20250309T070000
END:DAYLIGHT
BEGIN:STANDARD
TZOFFSETFROM:-0400
TZOFFSETTO:-0500
TZNAME:EST
DTSTART:20251102T060000
END:STANDARD
END:VTIMEZONE
BEGIN:VEVENT
DTSTART;TZID=America/Toronto:20241203T050000
DTEND;TZID=America/Toronto:20241203T070000
DTSTAMP:20260423T183100
CREATED:20240624T183352Z
LAST-MODIFIED:20240624T183352Z
UID:10000254-1733202000-1733209200@meraschoolhouse.org
SUMMARY:Closed for Cleaning
DESCRIPTION:
URL:https://meraschoolhouse.org/event/closed-for-cleaning-24/
END:VEVENT
BEGIN:VEVENT
DTSTART;TZID=America/Toronto:20241202T130000
DTEND;TZID=America/Toronto:20241202T160000
DTSTAMP:20260423T183100
CREATED:20240624T183352Z
LAST-MODIFIED:20250310T201052Z
UID:10000253-1733144400-1733155200@meraschoolhouse.org
SUMMARY:Heritage Weavers
DESCRIPTION:Meeting Place: Dean Hall \nContact Person: Lise Loader \n \nThis collective has expanded significantly from a core group over the last few years\, to the point where space and equipment have become limiting factors. There are now 7 looms of various sizes and styles at MERA. Several of these looms are set up with extra-long warps which become cooperative projects that various members work on when they can.\nThe weavers gather to plan and work on projects and are available to share ideas\, advice and enthusiasm with each other and newer weavers. It’s an apprentice-like learn-as-you-go environment suited to those who have taken an introduction to weaving weekend workshop at a guild. MERA has on occasion had enough interest to hold such a workshop\, but there is none planned this fall. \nAs with all groups at the schoolhouse\, you must have a MERA membership to become a regular member of the MERA Heritage Weavers. \nView Gallery & History \nCheck out the 2018 MERA Weavers Exhibition: Still Weaving After 20 Years
URL:https://meraschoolhouse.org/event/heritage-weavers-43/
CATEGORIES:Weaving
END:VEVENT
BEGIN:VEVENT
DTSTART;TZID=America/Toronto:20241202T100000
DTEND;TZID=America/Toronto:20241202T140000
DTSTAMP:20260423T183100
CREATED:20240624T183352Z
LAST-MODIFIED:20240624T183352Z
UID:10000252-1733133600-1733148000@meraschoolhouse.org
SUMMARY:Homeschool Group
DESCRIPTION:Contact Person: Heather Vriends
URL:https://meraschoolhouse.org/event/homeschool-group-22/
END:VEVENT
BEGIN:VEVENT
DTSTART;TZID=America/Toronto:20241129T130000
DTEND;TZID=America/Toronto:20241129T143000
DTSTAMP:20260423T183100
CREATED:20240624T183352Z
LAST-MODIFIED:20240827T182757Z
UID:10000251-1732885200-1732890600@meraschoolhouse.org
SUMMARY:Recorder Consort
DESCRIPTION:
URL:https://meraschoolhouse.org/event/recorder-consort-21/
CATEGORIES:Recorder
ATTACH;FMTTYPE=image/jpeg:https://meraschoolhouse.org/wp-content/uploads/2018/03/IMG_0785-EDIT.jpg
END:VEVENT
BEGIN:VEVENT
DTSTART;TZID=America/Toronto:20241129T100000
DTEND;TZID=America/Toronto:20241129T120000
DTSTAMP:20260423T183100
CREATED:20240624T183352Z
LAST-MODIFIED:20240824T053720Z
UID:10000250-1732874400-1732881600@meraschoolhouse.org
SUMMARY:Art Circle
DESCRIPTION:
URL:https://meraschoolhouse.org/event/art-circle-22/
CATEGORIES:Art,Art circle
END:VEVENT
BEGIN:VEVENT
DTSTART;TZID=America/Toronto:20241128T150000
DTEND;TZID=America/Toronto:20241128T170000
DTSTAMP:20260423T183100
CREATED:20240624T183352Z
LAST-MODIFIED:20240827T162754Z
UID:10000249-1732806000-1732813200@meraschoolhouse.org
SUMMARY:Pottery Studio - Homeschoolers
DESCRIPTION:Meeting Space: Pottery Studio (basement) \nContact Person: Heather Vriends
URL:https://meraschoolhouse.org/event/pottery-studio-homeschoolers-22/
CATEGORIES:Pottery
END:VEVENT
BEGIN:VEVENT
DTSTART;TZID=America/Toronto:20241128T120000
DTEND;TZID=America/Toronto:20241128T160000
DTSTAMP:20260423T183100
CREATED:20240624T183352Z
LAST-MODIFIED:20250310T201052Z
UID:10000248-1732795200-1732809600@meraschoolhouse.org
SUMMARY:Heritage Weavers
DESCRIPTION:Meeting Place: Dean Hall \nContact Person: Lise Loader
URL:https://meraschoolhouse.org/event/heritage-weavers-42/
CATEGORIES:Art,Weaving
ATTACH;FMTTYPE=image/jpeg:https://meraschoolhouse.org/wp-content/uploads/2018/03/67164199363__A41623B0-A360-4514-A380-ACDB7D5CD5AC_Original.jpg
END:VEVENT
BEGIN:VEVENT
DTSTART;TZID=America/Toronto:20241128T110000
DTEND;TZID=America/Toronto:20241128T140000
DTSTAMP:20260423T183100
CREATED:20240903T193005Z
LAST-MODIFIED:20240903T193005Z
UID:10000572-1732791600-1732802400@meraschoolhouse.org
SUMMARY:Fibre Arts
DESCRIPTION:If you are interested in fibre arts (knitting\, spinning\, felting\, crocheting\, etc. join us. We bring whatever we are working on\, have tea\, chat and share ideas.
URL:https://meraschoolhouse.org/event/fibre-arts-12/
CATEGORIES:Fibre arts
ORGANIZER;CN="Michele Derry":MAILTO:lanarklady1@yahoo.ca
END:VEVENT
BEGIN:VEVENT
DTSTART;TZID=America/Toronto:20241127T130000
DTEND;TZID=America/Toronto:20241127T160000
DTSTAMP:20260423T183100
CREATED:20240624T183351Z
LAST-MODIFIED:20240828T183342Z
UID:10000247-1732712400-1732723200@meraschoolhouse.org
SUMMARY:MERA's Needle Pushers
DESCRIPTION:Meeting Space: MERA Room \nContact Person: Bonnie McQuatt \nWe welcome anyone who might have new techniques or designs to shareor perhaps just has a desire to try something new. \n \nMostof the fun of quilting is being with the people we quilt with. Newcomers learnby doing. If you would like to try quilting with us we will share our supplieswith you until you figure out if quilting is your thing or not. Therequirements for quilting are minimal. Those who have a portable sewingmachine\, rotary cutter and mat will bring that equipment when we are starting aquilt and we work together cutting out the pattern and assembling the quilt.Once the hand quilting begins each person needs their own thimble\, scissors andquilting needles.
URL:https://meraschoolhouse.org/event/meras-needle-pushers-21/
CATEGORIES:Quilting
END:VEVENT
BEGIN:VEVENT
DTSTART;TZID=America/Toronto:20241127T130000
DTEND;TZID=America/Toronto:20241127T150000
DTSTAMP:20260423T183100
CREATED:20240624T183351Z
LAST-MODIFIED:20240827T162754Z
UID:10000246-1732712400-1732719600@meraschoolhouse.org
SUMMARY:Pottery Studio
DESCRIPTION:Meetings Space: Pottery Studio (basement) \nContact Person: Heather Vriends
URL:https://meraschoolhouse.org/event/pottery-studio-47/
CATEGORIES:Pottery
END:VEVENT
BEGIN:VEVENT
DTSTART;TZID=America/Toronto:20241126T130000
DTEND;TZID=America/Toronto:20241126T150000
DTSTAMP:20260423T183100
CREATED:20240624T183351Z
LAST-MODIFIED:20240827T162754Z
UID:10000245-1732626000-1732633200@meraschoolhouse.org
SUMMARY:Pottery Studio
DESCRIPTION:Meeting Space: Pottery Studio (basement) \nContact Person: Jan Griffiths \nWe are a joyfulgroup of potters who share space\, tools and experience in the basement of theMERA schoolhouse. We are organized as a co-operative\, sharing responsibilityfor making our studio a fun\, open\, supportive and safe place to enjoy creatingworks in clay both on and away from the wheel. Each studio member is encouragedto participate in both individual and collective projects\, to contribute tostudio maintenance tasks\, and to teach and learn from the other potters. MERApotters also organize learning and teaching opportunities in the form ofin-house workshops and sessions led by professional potters and contribute tothe Annual MERA Christmas Fair.
URL:https://meraschoolhouse.org/event/pottery-studio-46/
CATEGORIES:Pottery
END:VEVENT
BEGIN:VEVENT
DTSTART;TZID=America/Toronto:20241126T050000
DTEND;TZID=America/Toronto:20241126T070000
DTSTAMP:20260423T183100
CREATED:20240624T183351Z
LAST-MODIFIED:20240624T183351Z
UID:10000244-1732597200-1732604400@meraschoolhouse.org
SUMMARY:Closed for Cleaning
DESCRIPTION:
URL:https://meraschoolhouse.org/event/closed-for-cleaning-23/
END:VEVENT
BEGIN:VEVENT
DTSTART;TZID=America/Toronto:20241125T130000
DTEND;TZID=America/Toronto:20241125T160000
DTSTAMP:20260423T183100
CREATED:20240624T183351Z
LAST-MODIFIED:20250310T201117Z
UID:10000243-1732539600-1732550400@meraschoolhouse.org
SUMMARY:Heritage Weavers
DESCRIPTION:Meeting Place: Dean Hall \nContact Person: Lise Loader \n \nThis collective has expanded significantly from a core group over the last few years\, to the point where space and equipment have become limiting factors. There are now 7 looms of various sizes and styles at MERA. Several of these looms are set up with extra-long warps which become cooperative projects that various members work on when they can.\nThe weavers gather to plan and work on projects and are available to share ideas\, advice and enthusiasm with each other and newer weavers. It’s an apprentice-like learn-as-you-go environment suited to those who have taken an introduction to weaving weekend workshop at a guild. MERA has on occasion had enough interest to hold such a workshop\, but there is none planned this fall. \nAs with all groups at the schoolhouse\, you must have a MERA membership to become a regular member of the MERA Heritage Weavers. \nView Gallery & History \nCheck out the 2018 MERA Weavers Exhibition: Still Weaving After 20 Years
URL:https://meraschoolhouse.org/event/heritage-weavers-41/
CATEGORIES:Weaving
END:VEVENT
BEGIN:VEVENT
DTSTART;TZID=America/Toronto:20241125T100000
DTEND;TZID=America/Toronto:20241125T140000
DTSTAMP:20260423T183100
CREATED:20240624T183351Z
LAST-MODIFIED:20240624T183351Z
UID:10000242-1732528800-1732543200@meraschoolhouse.org
SUMMARY:Homeschool Group
DESCRIPTION:Contact Person: Heather Vriends
URL:https://meraschoolhouse.org/event/homeschool-group-21/
END:VEVENT
BEGIN:VEVENT
DTSTART;TZID=America/Toronto:20241122T130000
DTEND;TZID=America/Toronto:20241122T143000
DTSTAMP:20260423T183100
CREATED:20240624T183351Z
LAST-MODIFIED:20240827T182810Z
UID:10000241-1732280400-1732285800@meraschoolhouse.org
SUMMARY:Recorder Consort
DESCRIPTION:
URL:https://meraschoolhouse.org/event/recorder-consort-20/
CATEGORIES:Recorder
END:VEVENT
BEGIN:VEVENT
DTSTART;TZID=America/Toronto:20241122T100000
DTEND;TZID=America/Toronto:20241122T120000
DTSTAMP:20260423T183100
CREATED:20240624T183351Z
LAST-MODIFIED:20240824T053720Z
UID:10000240-1732269600-1732276800@meraschoolhouse.org
SUMMARY:Art Circle
DESCRIPTION:
URL:https://meraschoolhouse.org/event/art-circle-21/
CATEGORIES:Art,Art circle
END:VEVENT
BEGIN:VEVENT
DTSTART;TZID=America/Toronto:20241121T150000
DTEND;TZID=America/Toronto:20241121T170000
DTSTAMP:20260423T183100
CREATED:20240624T183351Z
LAST-MODIFIED:20240827T162753Z
UID:10000239-1732201200-1732208400@meraschoolhouse.org
SUMMARY:Pottery Studio - Homeschoolers
DESCRIPTION:Meeting Space: Pottery Studio (basement) \nContact Person: Heather Vriends
URL:https://meraschoolhouse.org/event/pottery-studio-homeschoolers-21/
CATEGORIES:Pottery
END:VEVENT
BEGIN:VEVENT
DTSTART;TZID=America/Toronto:20241121T120000
DTEND;TZID=America/Toronto:20241121T160000
DTSTAMP:20260423T183100
CREATED:20240624T183351Z
LAST-MODIFIED:20250310T201117Z
UID:10000238-1732190400-1732204800@meraschoolhouse.org
SUMMARY:Heritage Weavers
DESCRIPTION:Meeting Place: Dean Hall \nContact Person: Lise Loader
URL:https://meraschoolhouse.org/event/heritage-weavers-40/
CATEGORIES:Weaving
END:VEVENT
BEGIN:VEVENT
DTSTART;TZID=America/Toronto:20241121T110000
DTEND;TZID=America/Toronto:20241121T140000
DTSTAMP:20260423T183100
CREATED:20240903T192949Z
LAST-MODIFIED:20240903T192950Z
UID:10000571-1732186800-1732197600@meraschoolhouse.org
SUMMARY:Fibre Arts
DESCRIPTION:If you are interested in fibre arts (knitting\, spinning\, felting\, crocheting\, etc. join us. We bring whatever we are working on\, have tea\, chat and share ideas.
URL:https://meraschoolhouse.org/event/fibre-arts-11/
CATEGORIES:Fibre arts
ORGANIZER;CN="Michele Derry":MAILTO:lanarklady1@yahoo.ca
END:VEVENT
BEGIN:VEVENT
DTSTART;TZID=America/Toronto:20241120T130000
DTEND;TZID=America/Toronto:20241120T160000
DTSTAMP:20260423T183100
CREATED:20240624T183351Z
LAST-MODIFIED:20240828T183342Z
UID:10000237-1732107600-1732118400@meraschoolhouse.org
SUMMARY:MERA's Needle Pushers
DESCRIPTION:Meeting Space: MERA Room \nContact Person: Bonnie McQuatt \nWe welcome anyone who might have new techniques or designs to shareor perhaps just has a desire to try something new. \n \nMostof the fun of quilting is being with the people we quilt with. Newcomers learnby doing. If you would like to try quilting with us we will share our supplieswith you until you figure out if quilting is your thing or not. Therequirements for quilting are minimal. Those who have a portable sewingmachine\, rotary cutter and mat will bring that equipment when we are starting aquilt and we work together cutting out the pattern and assembling the quilt.Once the hand quilting begins each person needs their own thimble\, scissors andquilting needles.
URL:https://meraschoolhouse.org/event/meras-needle-pushers-20/
CATEGORIES:Art,Quilting
END:VEVENT
BEGIN:VEVENT
DTSTART;TZID=America/Toronto:20241120T130000
DTEND;TZID=America/Toronto:20241120T150000
DTSTAMP:20260423T183100
CREATED:20240624T183351Z
LAST-MODIFIED:20240827T162753Z
UID:10000236-1732107600-1732114800@meraschoolhouse.org
SUMMARY:Pottery Studio
DESCRIPTION:Meetings Space: Pottery Studio (basement) \nContact Person: Heather Vriends
URL:https://meraschoolhouse.org/event/pottery-studio-45/
CATEGORIES:Pottery
END:VEVENT
BEGIN:VEVENT
DTSTART;TZID=America/Toronto:20241119T190000
DTEND;TZID=America/Toronto:20241119T210000
DTSTAMP:20260423T183100
CREATED:20240624T183351Z
LAST-MODIFIED:20240822T023924Z
UID:10000235-1732042800-1732050000@meraschoolhouse.org
SUMMARY:Book Club
DESCRIPTION:Meetings are usually held the 3rd Tuesday of each month from 7pm to 9pm. We are a friendly\, respectful\, no rules book club. Each month one person will facilitate a discussion about the book chosen for that month. Discussions are always informative and lively. New members are welcome. If you see a book that peaks your interest and would like to join us for an evening’s discussion we also welcome drop-ins. You can join us by contacting Jean Dunning at 613-259-2636 or email here.    \nJan 17\, 2023: The Lincoln Highway – Amor Towles \nA story of love\, loss and friendship.
URL:https://meraschoolhouse.org/event/book-club-5/
CATEGORIES:Bookclub
END:VEVENT
BEGIN:VEVENT
DTSTART;TZID=America/Toronto:20241119T130000
DTEND;TZID=America/Toronto:20241119T150000
DTSTAMP:20260423T183100
CREATED:20240624T183351Z
LAST-MODIFIED:20240827T162753Z
UID:10000234-1732021200-1732028400@meraschoolhouse.org
SUMMARY:Pottery Studio
DESCRIPTION:Meeting Space: Pottery Studio (basement) \nContact Person: Jan Griffiths \nWe are a joyfulgroup of potters who share space\, tools and experience in the basement of theMERA schoolhouse. We are organized as a co-operative\, sharing responsibilityfor making our studio a fun\, open\, supportive and safe place to enjoy creatingworks in clay both on and away from the wheel. Each studio member is encouragedto participate in both individual and collective projects\, to contribute tostudio maintenance tasks\, and to teach and learn from the other potters. MERApotters also organize learning and teaching opportunities in the form ofin-house workshops and sessions led by professional potters and contribute tothe Annual MERA Christmas Fair.
URL:https://meraschoolhouse.org/event/pottery-studio-44/
CATEGORIES:Pottery
END:VEVENT
BEGIN:VEVENT
DTSTART;TZID=America/Toronto:20241119T050000
DTEND;TZID=America/Toronto:20241119T070000
DTSTAMP:20260423T183100
CREATED:20240624T183351Z
LAST-MODIFIED:20240624T183351Z
UID:10000233-1731992400-1731999600@meraschoolhouse.org
SUMMARY:Closed for Cleaning
DESCRIPTION:
URL:https://meraschoolhouse.org/event/closed-for-cleaning-22/
END:VEVENT
BEGIN:VEVENT
DTSTART;TZID=America/Toronto:20241118T130000
DTEND;TZID=America/Toronto:20241118T160000
DTSTAMP:20260423T183100
CREATED:20240624T183351Z
LAST-MODIFIED:20250310T201117Z
UID:10000232-1731934800-1731945600@meraschoolhouse.org
SUMMARY:Heritage Weavers
DESCRIPTION:Meeting Place: Dean Hall \nContact Person: Lise Loader \n \nThis collective has expanded significantly from a core group over the last few years\, to the point where space and equipment have become limiting factors. There are now 7 looms of various sizes and styles at MERA. Several of these looms are set up with extra-long warps which become cooperative projects that various members work on when they can.\nThe weavers gather to plan and work on projects and are available to share ideas\, advice and enthusiasm with each other and newer weavers. It’s an apprentice-like learn-as-you-go environment suited to those who have taken an introduction to weaving weekend workshop at a guild. MERA has on occasion had enough interest to hold such a workshop\, but there is none planned this fall. \nAs with all groups at the schoolhouse\, you must have a MERA membership to become a regular member of the MERA Heritage Weavers. \nView Gallery & History \nCheck out the 2018 MERA Weavers Exhibition: Still Weaving After 20 Years
URL:https://meraschoolhouse.org/event/heritage-weavers-39/
CATEGORIES:Weaving
END:VEVENT
BEGIN:VEVENT
DTSTART;TZID=America/Toronto:20241118T100000
DTEND;TZID=America/Toronto:20241118T140000
DTSTAMP:20260423T183100
CREATED:20240624T183351Z
LAST-MODIFIED:20240624T185639Z
UID:10000231-1731924000-1731938400@meraschoolhouse.org
SUMMARY:Homeschool Group
DESCRIPTION:Contact Person: Heather Vriends
URL:https://meraschoolhouse.org/event/homeschool-group-20/
CATEGORIES:Homeschool
END:VEVENT
BEGIN:VEVENT
DTSTART;TZID=America/Toronto:20241115T130000
DTEND;TZID=America/Toronto:20241115T143000
DTSTAMP:20260423T183100
CREATED:20240624T183350Z
LAST-MODIFIED:20240827T182825Z
UID:10000230-1731675600-1731681000@meraschoolhouse.org
SUMMARY:Recorder Consort
DESCRIPTION:
URL:https://meraschoolhouse.org/event/recorder-consort-19/
CATEGORIES:Recorder
END:VEVENT
BEGIN:VEVENT
DTSTART;TZID=America/Toronto:20241115T100000
DTEND;TZID=America/Toronto:20241115T120000
DTSTAMP:20260423T183100
CREATED:20240624T183350Z
LAST-MODIFIED:20240824T053657Z
UID:10000229-1731664800-1731672000@meraschoolhouse.org
SUMMARY:Art Circle
DESCRIPTION:
URL:https://meraschoolhouse.org/event/art-circle-20/
CATEGORIES:Art,Art circle
END:VEVENT
BEGIN:VEVENT
DTSTART;TZID=America/Toronto:20241114T150000
DTEND;TZID=America/Toronto:20241114T170000
DTSTAMP:20260423T183100
CREATED:20240624T183350Z
LAST-MODIFIED:20240827T162753Z
UID:10000228-1731596400-1731603600@meraschoolhouse.org
SUMMARY:Pottery Studio - Homeschoolers
DESCRIPTION:Meeting Space: Pottery Studio (basement) \nContact Person: Heather Vriends
URL:https://meraschoolhouse.org/event/pottery-studio-homeschoolers-20/
CATEGORIES:Pottery
END:VEVENT
BEGIN:VEVENT
DTSTART;TZID=America/Toronto:20241114T120000
DTEND;TZID=America/Toronto:20241114T160000
DTSTAMP:20260423T183100
CREATED:20240624T183350Z
LAST-MODIFIED:20250310T201117Z
UID:10000227-1731585600-1731600000@meraschoolhouse.org
SUMMARY:Heritage Weavers
DESCRIPTION:Meeting Place: Dean Hall \nContact Person: Lise Loader
URL:https://meraschoolhouse.org/event/heritage-weavers-38/
CATEGORIES:Weaving
END:VEVENT
END:VCALENDAR