BEGIN:VCALENDAR
VERSION:2.0
PRODID:-//MERA - ECPv6.15.11//NONSGML v1.0//EN
CALSCALE:GREGORIAN
METHOD:PUBLISH
X-WR-CALNAME:MERA
X-ORIGINAL-URL:https://meraschoolhouse.org
X-WR-CALDESC:Events for MERA
REFRESH-INTERVAL;VALUE=DURATION:PT1H
X-Robots-Tag:noindex
X-PUBLISHED-TTL:PT1H
BEGIN:VTIMEZONE
TZID:America/Toronto
BEGIN:DAYLIGHT
TZOFFSETFROM:-0500
TZOFFSETTO:-0400
TZNAME:EDT
DTSTART:20230312T070000
END:DAYLIGHT
BEGIN:STANDARD
TZOFFSETFROM:-0400
TZOFFSETTO:-0500
TZNAME:EST
DTSTART:20231105T060000
END:STANDARD
BEGIN:DAYLIGHT
TZOFFSETFROM:-0500
TZOFFSETTO:-0400
TZNAME:EDT
DTSTART:20240310T070000
END:DAYLIGHT
BEGIN:STANDARD
TZOFFSETFROM:-0400
TZOFFSETTO:-0500
TZNAME:EST
DTSTART:20241103T060000
END:STANDARD
BEGIN:DAYLIGHT
TZOFFSETFROM:-0500
TZOFFSETTO:-0400
TZNAME:EDT
DTSTART:20250309T070000
END:DAYLIGHT
BEGIN:STANDARD
TZOFFSETFROM:-0400
TZOFFSETTO:-0500
TZNAME:EST
DTSTART:20251102T060000
END:STANDARD
END:VTIMEZONE
BEGIN:VEVENT
DTSTART;TZID=America/Toronto:20241111T130000
DTEND;TZID=America/Toronto:20241111T160000
DTSTAMP:20260423T202408
CREATED:20240624T183350Z
LAST-MODIFIED:20250310T201117Z
UID:10000222-1731330000-1731340800@meraschoolhouse.org
SUMMARY:Heritage Weavers
DESCRIPTION:Meeting Place: Dean Hall \nContact Person: Lise Loader \n \nThis collective has expanded significantly from a core group over the last few years\, to the point where space and equipment have become limiting factors. There are now 7 looms of various sizes and styles at MERA. Several of these looms are set up with extra-long warps which become cooperative projects that various members work on when they can.\nThe weavers gather to plan and work on projects and are available to share ideas\, advice and enthusiasm with each other and newer weavers. It’s an apprentice-like learn-as-you-go environment suited to those who have taken an introduction to weaving weekend workshop at a guild. MERA has on occasion had enough interest to hold such a workshop\, but there is none planned this fall. \nAs with all groups at the schoolhouse\, you must have a MERA membership to become a regular member of the MERA Heritage Weavers. \nView Gallery & History \nCheck out the 2018 MERA Weavers Exhibition: Still Weaving After 20 Years
URL:https://meraschoolhouse.org/event/heritage-weavers-37/
CATEGORIES:Weaving
END:VEVENT
BEGIN:VEVENT
DTSTART;TZID=America/Toronto:20241111T100000
DTEND;TZID=America/Toronto:20241111T140000
DTSTAMP:20260423T202408
CREATED:20240624T183350Z
LAST-MODIFIED:20240624T185639Z
UID:10000221-1731319200-1731333600@meraschoolhouse.org
SUMMARY:Homeschool Group
DESCRIPTION:Contact Person: Heather Vriends
URL:https://meraschoolhouse.org/event/homeschool-group-19/
CATEGORIES:Homeschool
END:VEVENT
BEGIN:VEVENT
DTSTART;TZID=America/Toronto:20241108T130000
DTEND;TZID=America/Toronto:20241108T143000
DTSTAMP:20260423T202408
CREATED:20240624T183350Z
LAST-MODIFIED:20240827T182836Z
UID:10000220-1731070800-1731076200@meraschoolhouse.org
SUMMARY:Recorder Consort
DESCRIPTION:
URL:https://meraschoolhouse.org/event/recorder-consort-18/
CATEGORIES:Recorder
END:VEVENT
BEGIN:VEVENT
DTSTART;TZID=America/Toronto:20241108T100000
DTEND;TZID=America/Toronto:20241108T120000
DTSTAMP:20260423T202408
CREATED:20240624T183350Z
LAST-MODIFIED:20240824T053657Z
UID:10000219-1731060000-1731067200@meraschoolhouse.org
SUMMARY:Art Circle
DESCRIPTION:
URL:https://meraschoolhouse.org/event/art-circle-19/
CATEGORIES:Art,Art circle
END:VEVENT
BEGIN:VEVENT
DTSTART;TZID=America/Toronto:20241107T150000
DTEND;TZID=America/Toronto:20241107T170000
DTSTAMP:20260423T202408
CREATED:20240624T183350Z
LAST-MODIFIED:20240827T162753Z
UID:10000218-1730991600-1730998800@meraschoolhouse.org
SUMMARY:Pottery Studio - Homeschoolers
DESCRIPTION:Meeting Space: Pottery Studio (basement) \nContact Person: Heather Vriends
URL:https://meraschoolhouse.org/event/pottery-studio-homeschoolers-19/
CATEGORIES:Pottery
END:VEVENT
BEGIN:VEVENT
DTSTART;TZID=America/Toronto:20241107T120000
DTEND;TZID=America/Toronto:20241107T160000
DTSTAMP:20260423T202408
CREATED:20240624T183350Z
LAST-MODIFIED:20250310T201117Z
UID:10000217-1730980800-1730995200@meraschoolhouse.org
SUMMARY:Heritage Weavers
DESCRIPTION:Meeting Place: Dean Hall \nContact Person: Lise Loader
URL:https://meraschoolhouse.org/event/heritage-weavers-36/
CATEGORIES:Weaving
END:VEVENT
BEGIN:VEVENT
DTSTART;TZID=America/Toronto:20241107T110000
DTEND;TZID=America/Toronto:20241107T140000
DTSTAMP:20260423T202408
CREATED:20240903T192949Z
LAST-MODIFIED:20240903T192950Z
UID:10000569-1730977200-1730988000@meraschoolhouse.org
SUMMARY:Fibre Arts
DESCRIPTION:If you are interested in fibre arts (knitting\, spinning\, felting\, crocheting\, etc. join us. We bring whatever we are working on\, have tea\, chat and share ideas.
URL:https://meraschoolhouse.org/event/fibre-arts-9/
CATEGORIES:Fibre arts
ORGANIZER;CN="Michele Derry":MAILTO:lanarklady1@yahoo.ca
END:VEVENT
BEGIN:VEVENT
DTSTART;TZID=America/Toronto:20241106T130000
DTEND;TZID=America/Toronto:20241106T160000
DTSTAMP:20260423T202408
CREATED:20240624T183350Z
LAST-MODIFIED:20240828T183342Z
UID:10000216-1730898000-1730908800@meraschoolhouse.org
SUMMARY:MERA's Needle Pushers
DESCRIPTION:Meeting Space: MERA Room \nContact Person: Bonnie McQuatt \nWe welcome anyone who might have new techniques or designs to shareor perhaps just has a desire to try something new. \n \nMostof the fun of quilting is being with the people we quilt with. Newcomers learnby doing. If you would like to try quilting with us we will share our supplieswith you until you figure out if quilting is your thing or not. Therequirements for quilting are minimal. Those who have a portable sewingmachine\, rotary cutter and mat will bring that equipment when we are starting aquilt and we work together cutting out the pattern and assembling the quilt.Once the hand quilting begins each person needs their own thimble\, scissors andquilting needles.
URL:https://meraschoolhouse.org/event/meras-needle-pushers-18/
CATEGORIES:Art,Quilting
END:VEVENT
BEGIN:VEVENT
DTSTART;TZID=America/Toronto:20241106T130000
DTEND;TZID=America/Toronto:20241106T150000
DTSTAMP:20260423T202408
CREATED:20240624T183350Z
LAST-MODIFIED:20240827T162753Z
UID:10000215-1730898000-1730905200@meraschoolhouse.org
SUMMARY:Pottery Studio
DESCRIPTION:Meetings Space: Pottery Studio (basement) \nContact Person: Heather Vriends
URL:https://meraschoolhouse.org/event/pottery-studio-41/
CATEGORIES:Pottery
END:VEVENT
BEGIN:VEVENT
DTSTART;TZID=America/Toronto:20241105T190000
DTEND;TZID=America/Toronto:20241105T200000
DTSTAMP:20260423T202408
CREATED:20240624T183350Z
LAST-MODIFIED:20250221T163642Z
UID:10000214-1730833200-1730836800@meraschoolhouse.org
SUMMARY:Board Meeting
DESCRIPTION:
URL:https://meraschoolhouse.org/event/board-meeting-6/
END:VEVENT
BEGIN:VEVENT
DTSTART;TZID=America/Toronto:20241105T130000
DTEND;TZID=America/Toronto:20241105T150000
DTSTAMP:20260423T202408
CREATED:20240624T183350Z
LAST-MODIFIED:20240827T162753Z
UID:10000213-1730811600-1730818800@meraschoolhouse.org
SUMMARY:Pottery Studio
DESCRIPTION:Meeting Space: Pottery Studio (basement) \nContact Person: Jan Griffiths \nWe are a joyfulgroup of potters who share space\, tools and experience in the basement of theMERA schoolhouse. We are organized as a co-operative\, sharing responsibilityfor making our studio a fun\, open\, supportive and safe place to enjoy creatingworks in clay both on and away from the wheel. Each studio member is encouragedto participate in both individual and collective projects\, to contribute tostudio maintenance tasks\, and to teach and learn from the other potters. MERApotters also organize learning and teaching opportunities in the form ofin-house workshops and sessions led by professional potters and contribute tothe Annual MERA Christmas Fair.
URL:https://meraschoolhouse.org/event/pottery-studio-40/
CATEGORIES:Pottery
END:VEVENT
BEGIN:VEVENT
DTSTART;TZID=America/Toronto:20241105T050000
DTEND;TZID=America/Toronto:20241105T070000
DTSTAMP:20260423T202408
CREATED:20240624T183349Z
LAST-MODIFIED:20240624T183349Z
UID:10000212-1730782800-1730790000@meraschoolhouse.org
SUMMARY:Closed for Cleaning
DESCRIPTION:
URL:https://meraschoolhouse.org/event/closed-for-cleaning-20/
END:VEVENT
BEGIN:VEVENT
DTSTART;TZID=America/Toronto:20241104T130000
DTEND;TZID=America/Toronto:20241104T160000
DTSTAMP:20260423T202408
CREATED:20240624T183349Z
LAST-MODIFIED:20250310T201117Z
UID:10000211-1730725200-1730736000@meraschoolhouse.org
SUMMARY:Heritage Weavers
DESCRIPTION:Meeting Place: Dean Hall \nContact Person: Lise Loader \n \nThis collective has expanded significantly from a core group over the last few years\, to the point where space and equipment have become limiting factors. There are now 7 looms of various sizes and styles at MERA. Several of these looms are set up with extra-long warps which become cooperative projects that various members work on when they can.\nThe weavers gather to plan and work on projects and are available to share ideas\, advice and enthusiasm with each other and newer weavers. It’s an apprentice-like learn-as-you-go environment suited to those who have taken an introduction to weaving weekend workshop at a guild. MERA has on occasion had enough interest to hold such a workshop\, but there is none planned this fall. \nAs with all groups at the schoolhouse\, you must have a MERA membership to become a regular member of the MERA Heritage Weavers. \nView Gallery & History \nCheck out the 2018 MERA Weavers Exhibition: Still Weaving After 20 Years
URL:https://meraschoolhouse.org/event/heritage-weavers-35/
CATEGORIES:Weaving
END:VEVENT
BEGIN:VEVENT
DTSTART;TZID=America/Toronto:20241104T100000
DTEND;TZID=America/Toronto:20241104T140000
DTSTAMP:20260423T202408
CREATED:20240624T183349Z
LAST-MODIFIED:20240624T185639Z
UID:10000210-1730714400-1730728800@meraschoolhouse.org
SUMMARY:Homeschool Group
DESCRIPTION:Contact Person: Heather Vriends
URL:https://meraschoolhouse.org/event/homeschool-group-18/
CATEGORIES:Homeschool
END:VEVENT
BEGIN:VEVENT
DTSTART;TZID=America/Toronto:20241101T130000
DTEND;TZID=America/Toronto:20241101T143000
DTSTAMP:20260423T202408
CREATED:20240624T183349Z
LAST-MODIFIED:20240827T182847Z
UID:10000209-1730466000-1730471400@meraschoolhouse.org
SUMMARY:Recorder Consort
DESCRIPTION:
URL:https://meraschoolhouse.org/event/recorder-consort-17/
CATEGORIES:Recorder
END:VEVENT
BEGIN:VEVENT
DTSTART;TZID=America/Toronto:20241101T100000
DTEND;TZID=America/Toronto:20241101T120000
DTSTAMP:20260423T202408
CREATED:20240624T183349Z
LAST-MODIFIED:20240824T053657Z
UID:10000208-1730455200-1730462400@meraschoolhouse.org
SUMMARY:Art Circle
DESCRIPTION:
URL:https://meraschoolhouse.org/event/art-circle-18/
CATEGORIES:Art,Art circle
END:VEVENT
BEGIN:VEVENT
DTSTART;TZID=America/Toronto:20241031T150000
DTEND;TZID=America/Toronto:20241031T170000
DTSTAMP:20260423T202408
CREATED:20240624T183349Z
LAST-MODIFIED:20240827T162753Z
UID:10000207-1730386800-1730394000@meraschoolhouse.org
SUMMARY:Pottery Studio - Homeschoolers
DESCRIPTION:Meeting Space: Pottery Studio (basement) \nContact Person: Heather Vriends
URL:https://meraschoolhouse.org/event/pottery-studio-homeschoolers-18/
CATEGORIES:Pottery
END:VEVENT
BEGIN:VEVENT
DTSTART;TZID=America/Toronto:20241031T120000
DTEND;TZID=America/Toronto:20241031T160000
DTSTAMP:20260423T202408
CREATED:20240624T183349Z
LAST-MODIFIED:20250310T201117Z
UID:10000206-1730376000-1730390400@meraschoolhouse.org
SUMMARY:Heritage Weavers
DESCRIPTION:Meeting Place: Dean Hall \nContact Person: Lise Loader
URL:https://meraschoolhouse.org/event/heritage-weavers-34/
CATEGORIES:Weaving
END:VEVENT
BEGIN:VEVENT
DTSTART;TZID=America/Toronto:20241031T110000
DTEND;TZID=America/Toronto:20241031T140000
DTSTAMP:20260423T202408
CREATED:20240903T192949Z
LAST-MODIFIED:20240903T192950Z
UID:10000568-1730372400-1730383200@meraschoolhouse.org
SUMMARY:Fibre Arts
DESCRIPTION:If you are interested in fibre arts (knitting\, spinning\, felting\, crocheting\, etc. join us. We bring whatever we are working on\, have tea\, chat and share ideas.
URL:https://meraschoolhouse.org/event/fibre-arts-8/
CATEGORIES:Fibre arts
ORGANIZER;CN="Michele Derry":MAILTO:lanarklady1@yahoo.ca
END:VEVENT
BEGIN:VEVENT
DTSTART;TZID=America/Toronto:20241030T130000
DTEND;TZID=America/Toronto:20241030T160000
DTSTAMP:20260423T202408
CREATED:20240624T183349Z
LAST-MODIFIED:20240828T183342Z
UID:10000205-1730293200-1730304000@meraschoolhouse.org
SUMMARY:MERA's Needle Pushers
DESCRIPTION:Meeting Space: MERA Room \nContact Person: Bonnie McQuatt \nWe welcome anyone who might have new techniques or designs to shareor perhaps just has a desire to try something new. \n \nMostof the fun of quilting is being with the people we quilt with. Newcomers learnby doing. If you would like to try quilting with us we will share our supplieswith you until you figure out if quilting is your thing or not. Therequirements for quilting are minimal. Those who have a portable sewingmachine\, rotary cutter and mat will bring that equipment when we are starting aquilt and we work together cutting out the pattern and assembling the quilt.Once the hand quilting begins each person needs their own thimble\, scissors andquilting needles.
URL:https://meraschoolhouse.org/event/meras-needle-pushers-17/
CATEGORIES:Art,Quilting
END:VEVENT
BEGIN:VEVENT
DTSTART;TZID=America/Toronto:20241030T130000
DTEND;TZID=America/Toronto:20241030T150000
DTSTAMP:20260423T202408
CREATED:20240624T183349Z
LAST-MODIFIED:20240827T162753Z
UID:10000204-1730293200-1730300400@meraschoolhouse.org
SUMMARY:Pottery Studio
DESCRIPTION:Meetings Space: Pottery Studio (basement) \nContact Person: Heather Vriends
URL:https://meraschoolhouse.org/event/pottery-studio-39/
CATEGORIES:Pottery
END:VEVENT
BEGIN:VEVENT
DTSTART;TZID=America/Toronto:20241029T130000
DTEND;TZID=America/Toronto:20241029T150000
DTSTAMP:20260423T202408
CREATED:20240624T183349Z
LAST-MODIFIED:20240827T162753Z
UID:10000203-1730206800-1730214000@meraschoolhouse.org
SUMMARY:Pottery Studio
DESCRIPTION:Meeting Space: Pottery Studio (basement) \nContact Person: Jan Griffiths \nWe are a joyfulgroup of potters who share space\, tools and experience in the basement of theMERA schoolhouse. We are organized as a co-operative\, sharing responsibilityfor making our studio a fun\, open\, supportive and safe place to enjoy creatingworks in clay both on and away from the wheel. Each studio member is encouragedto participate in both individual and collective projects\, to contribute tostudio maintenance tasks\, and to teach and learn from the other potters. MERApotters also organize learning and teaching opportunities in the form ofin-house workshops and sessions led by professional potters and contribute tothe Annual MERA Christmas Fair.
URL:https://meraschoolhouse.org/event/pottery-studio-38/
CATEGORIES:Pottery
END:VEVENT
BEGIN:VEVENT
DTSTART;TZID=America/Toronto:20241029T050000
DTEND;TZID=America/Toronto:20241029T070000
DTSTAMP:20260423T202408
CREATED:20240624T183349Z
LAST-MODIFIED:20240624T183349Z
UID:10000202-1730178000-1730185200@meraschoolhouse.org
SUMMARY:Closed for Cleaning
DESCRIPTION:
URL:https://meraschoolhouse.org/event/closed-for-cleaning-19/
END:VEVENT
BEGIN:VEVENT
DTSTART;TZID=America/Toronto:20241028T130000
DTEND;TZID=America/Toronto:20241028T160000
DTSTAMP:20260423T202408
CREATED:20240624T183349Z
LAST-MODIFIED:20250310T201117Z
UID:10000201-1730120400-1730131200@meraschoolhouse.org
SUMMARY:Heritage Weavers
DESCRIPTION:Meeting Place: Dean Hall \nContact Person: Lise Loader \n \nThis collective has expanded significantly from a core group over the last few years\, to the point where space and equipment have become limiting factors. There are now 7 looms of various sizes and styles at MERA. Several of these looms are set up with extra-long warps which become cooperative projects that various members work on when they can.\nThe weavers gather to plan and work on projects and are available to share ideas\, advice and enthusiasm with each other and newer weavers. It’s an apprentice-like learn-as-you-go environment suited to those who have taken an introduction to weaving weekend workshop at a guild. MERA has on occasion had enough interest to hold such a workshop\, but there is none planned this fall. \nAs with all groups at the schoolhouse\, you must have a MERA membership to become a regular member of the MERA Heritage Weavers. \nView Gallery & History \nCheck out the 2018 MERA Weavers Exhibition: Still Weaving After 20 Years
URL:https://meraschoolhouse.org/event/heritage-weavers-33/
CATEGORIES:Weaving
END:VEVENT
BEGIN:VEVENT
DTSTART;TZID=America/Toronto:20241028T100000
DTEND;TZID=America/Toronto:20241028T140000
DTSTAMP:20260423T202408
CREATED:20240624T183349Z
LAST-MODIFIED:20240624T185639Z
UID:10000200-1730109600-1730124000@meraschoolhouse.org
SUMMARY:Homeschool Group
DESCRIPTION:Contact Person: Heather Vriends
URL:https://meraschoolhouse.org/event/homeschool-group-17/
CATEGORIES:Homeschool
END:VEVENT
BEGIN:VEVENT
DTSTART;TZID=America/Toronto:20241027T140000
DTEND;TZID=America/Toronto:20241027T160000
DTSTAMP:20260423T202408
CREATED:20240624T183349Z
LAST-MODIFIED:20240624T183349Z
UID:10000199-1730037600-1730044800@meraschoolhouse.org
SUMMARY:TBC: Music at MERA
DESCRIPTION:
URL:https://meraschoolhouse.org/event/tbc-music-at-mera-2/
END:VEVENT
BEGIN:VEVENT
DTSTART;TZID=America/Toronto:20241025T130000
DTEND;TZID=America/Toronto:20241025T143000
DTSTAMP:20260423T202408
CREATED:20240624T183349Z
LAST-MODIFIED:20240827T182858Z
UID:10000198-1729861200-1729866600@meraschoolhouse.org
SUMMARY:Recorder Consort
DESCRIPTION:
URL:https://meraschoolhouse.org/event/recorder-consort-16/
CATEGORIES:Recorder
END:VEVENT
BEGIN:VEVENT
DTSTART;TZID=America/Toronto:20241025T100000
DTEND;TZID=America/Toronto:20241025T120000
DTSTAMP:20260423T202408
CREATED:20240624T183349Z
LAST-MODIFIED:20240824T053657Z
UID:10000197-1729850400-1729857600@meraschoolhouse.org
SUMMARY:Art Circle
DESCRIPTION:
URL:https://meraschoolhouse.org/event/art-circle-17/
CATEGORIES:Art,Art circle
END:VEVENT
BEGIN:VEVENT
DTSTART;TZID=America/Toronto:20241024T150000
DTEND;TZID=America/Toronto:20241024T170000
DTSTAMP:20260423T202408
CREATED:20240624T183348Z
LAST-MODIFIED:20240827T162753Z
UID:10000196-1729782000-1729789200@meraschoolhouse.org
SUMMARY:Pottery Studio - Homeschoolers
DESCRIPTION:Meeting Space: Pottery Studio (basement) \nContact Person: Heather Vriends
URL:https://meraschoolhouse.org/event/pottery-studio-homeschoolers-17/
CATEGORIES:Pottery
END:VEVENT
BEGIN:VEVENT
DTSTART;TZID=America/Toronto:20241024T120000
DTEND;TZID=America/Toronto:20241024T160000
DTSTAMP:20260423T202408
CREATED:20240624T183348Z
LAST-MODIFIED:20250310T201117Z
UID:10000195-1729771200-1729785600@meraschoolhouse.org
SUMMARY:Heritage Weavers
DESCRIPTION:Meeting Place: Dean Hall \nContact Person: Lise Loader
URL:https://meraschoolhouse.org/event/heritage-weavers-32/
CATEGORIES:Weaving
END:VEVENT
END:VCALENDAR