BEGIN:VCALENDAR
VERSION:2.0
PRODID:-//MERA - ECPv6.15.11//NONSGML v1.0//EN
CALSCALE:GREGORIAN
METHOD:PUBLISH
X-WR-CALNAME:MERA
X-ORIGINAL-URL:https://meraschoolhouse.org
X-WR-CALDESC:Events for MERA
REFRESH-INTERVAL;VALUE=DURATION:PT1H
X-Robots-Tag:noindex
X-PUBLISHED-TTL:PT1H
BEGIN:VTIMEZONE
TZID:America/Toronto
BEGIN:DAYLIGHT
TZOFFSETFROM:-0500
TZOFFSETTO:-0400
TZNAME:EDT
DTSTART:20230312T070000
END:DAYLIGHT
BEGIN:STANDARD
TZOFFSETFROM:-0400
TZOFFSETTO:-0500
TZNAME:EST
DTSTART:20231105T060000
END:STANDARD
BEGIN:DAYLIGHT
TZOFFSETFROM:-0500
TZOFFSETTO:-0400
TZNAME:EDT
DTSTART:20240310T070000
END:DAYLIGHT
BEGIN:STANDARD
TZOFFSETFROM:-0400
TZOFFSETTO:-0500
TZNAME:EST
DTSTART:20241103T060000
END:STANDARD
BEGIN:DAYLIGHT
TZOFFSETFROM:-0500
TZOFFSETTO:-0400
TZNAME:EDT
DTSTART:20250309T070000
END:DAYLIGHT
BEGIN:STANDARD
TZOFFSETFROM:-0400
TZOFFSETTO:-0500
TZNAME:EST
DTSTART:20251102T060000
END:STANDARD
END:VTIMEZONE
BEGIN:VEVENT
DTSTART;TZID=America/Toronto:20240930T100000
DTEND;TZID=America/Toronto:20240930T140000
DTSTAMP:20260424T043307
CREATED:20240624T183346Z
LAST-MODIFIED:20240624T185639Z
UID:10000157-1727690400-1727704800@meraschoolhouse.org
SUMMARY:Homeschool Group
DESCRIPTION:Contact Person: Heather Vriends
URL:https://meraschoolhouse.org/event/homeschool-group-13/
CATEGORIES:Homeschool
END:VEVENT
BEGIN:VEVENT
DTSTART;TZID=America/Toronto:20240927T130000
DTEND;TZID=America/Toronto:20240927T143000
DTSTAMP:20260424T043307
CREATED:20240624T183346Z
LAST-MODIFIED:20240827T182954Z
UID:10000156-1727442000-1727447400@meraschoolhouse.org
SUMMARY:Recorder Consort
DESCRIPTION:
URL:https://meraschoolhouse.org/event/recorder-consort-12/
CATEGORIES:Recorder
END:VEVENT
BEGIN:VEVENT
DTSTART;TZID=America/Toronto:20240927T100000
DTEND;TZID=America/Toronto:20240927T120000
DTSTAMP:20260424T043307
CREATED:20240624T183346Z
LAST-MODIFIED:20240824T053657Z
UID:10000155-1727431200-1727438400@meraschoolhouse.org
SUMMARY:Art Circle
DESCRIPTION:
URL:https://meraschoolhouse.org/event/art-circle-13/
CATEGORIES:Art,Art circle
END:VEVENT
BEGIN:VEVENT
DTSTART;TZID=America/Toronto:20240926T150000
DTEND;TZID=America/Toronto:20240926T170000
DTSTAMP:20260424T043307
CREATED:20240624T183346Z
LAST-MODIFIED:20240827T162753Z
UID:10000154-1727362800-1727370000@meraschoolhouse.org
SUMMARY:Pottery Studio - Homeschoolers
DESCRIPTION:Meeting Space: Pottery Studio (basement) \nContact Person: Heather Vriends
URL:https://meraschoolhouse.org/event/pottery-studio-homeschoolers-13/
CATEGORIES:Pottery
END:VEVENT
BEGIN:VEVENT
DTSTART;TZID=America/Toronto:20240926T120000
DTEND;TZID=America/Toronto:20240926T160000
DTSTAMP:20260424T043307
CREATED:20240624T183346Z
LAST-MODIFIED:20250310T201117Z
UID:10000153-1727352000-1727366400@meraschoolhouse.org
SUMMARY:Heritage Weavers
DESCRIPTION:Meeting Place: Dean Hall \nContact Person: Lise Loader
URL:https://meraschoolhouse.org/event/heritage-weavers-24/
CATEGORIES:Weaving
END:VEVENT
BEGIN:VEVENT
DTSTART;TZID=America/Toronto:20240926T110000
DTEND;TZID=America/Toronto:20240926T140000
DTSTAMP:20260424T043307
CREATED:20240903T192948Z
LAST-MODIFIED:20240903T192948Z
UID:10000563-1727348400-1727359200@meraschoolhouse.org
SUMMARY:Fibre Arts
DESCRIPTION:If you are interested in fibre arts (knitting\, spinning\, felting\, crocheting\, etc. join us. We bring whatever we are working on\, have tea\, chat and share ideas.
URL:https://meraschoolhouse.org/event/fibre-arts-3/
CATEGORIES:Fibre arts
ORGANIZER;CN="Michele Derry":MAILTO:lanarklady1@yahoo.ca
END:VEVENT
BEGIN:VEVENT
DTSTART;TZID=America/Toronto:20240925T130000
DTEND;TZID=America/Toronto:20240925T160000
DTSTAMP:20260424T043307
CREATED:20240624T183346Z
LAST-MODIFIED:20240828T183342Z
UID:10000152-1727269200-1727280000@meraschoolhouse.org
SUMMARY:MERA's Needle Pushers
DESCRIPTION:Meeting Space: MERA Room \nContact Person: Bonnie McQuatt \nWe welcome anyone who might have new techniques or designs to shareor perhaps just has a desire to try something new. \n \nMostof the fun of quilting is being with the people we quilt with. Newcomers learnby doing. If you would like to try quilting with us we will share our supplieswith you until you figure out if quilting is your thing or not. Therequirements for quilting are minimal. Those who have a portable sewingmachine\, rotary cutter and mat will bring that equipment when we are starting aquilt and we work together cutting out the pattern and assembling the quilt.Once the hand quilting begins each person needs their own thimble\, scissors andquilting needles.
URL:https://meraschoolhouse.org/event/meras-needle-pushers-12/
CATEGORIES:Art,Quilting
END:VEVENT
BEGIN:VEVENT
DTSTART;TZID=America/Toronto:20240925T130000
DTEND;TZID=America/Toronto:20240925T150000
DTSTAMP:20260424T043307
CREATED:20240624T183346Z
LAST-MODIFIED:20240827T162725Z
UID:10000151-1727269200-1727276400@meraschoolhouse.org
SUMMARY:Pottery Studio
DESCRIPTION:Meetings Space: Pottery Studio (basement) \nContact Person: Heather Vriends
URL:https://meraschoolhouse.org/event/pottery-studio-29/
CATEGORIES:Pottery
END:VEVENT
BEGIN:VEVENT
DTSTART;TZID=America/Toronto:20240924T130000
DTEND;TZID=America/Toronto:20240924T150000
DTSTAMP:20260424T043307
CREATED:20240624T183346Z
LAST-MODIFIED:20240827T162725Z
UID:10000150-1727182800-1727190000@meraschoolhouse.org
SUMMARY:Pottery Studio
DESCRIPTION:Meeting Space: Pottery Studio (basement) \nContact Person: Jan Griffiths \nWe are a joyfulgroup of potters who share space\, tools and experience in the basement of theMERA schoolhouse. We are organized as a co-operative\, sharing responsibilityfor making our studio a fun\, open\, supportive and safe place to enjoy creatingworks in clay both on and away from the wheel. Each studio member is encouragedto participate in both individual and collective projects\, to contribute tostudio maintenance tasks\, and to teach and learn from the other potters. MERApotters also organize learning and teaching opportunities in the form ofin-house workshops and sessions led by professional potters and contribute tothe Annual MERA Christmas Fair.
URL:https://meraschoolhouse.org/event/pottery-studio-28/
CATEGORIES:Pottery
END:VEVENT
BEGIN:VEVENT
DTSTART;TZID=America/Toronto:20240924T050000
DTEND;TZID=America/Toronto:20240924T070000
DTSTAMP:20260424T043307
CREATED:20240624T183346Z
LAST-MODIFIED:20240624T183346Z
UID:10000149-1727154000-1727161200@meraschoolhouse.org
SUMMARY:Closed for Cleaning
DESCRIPTION:
URL:https://meraschoolhouse.org/event/closed-for-cleaning-14/
END:VEVENT
BEGIN:VEVENT
DTSTART;TZID=America/Toronto:20240923T130000
DTEND;TZID=America/Toronto:20240923T160000
DTSTAMP:20260424T043307
CREATED:20240624T183346Z
LAST-MODIFIED:20250310T201117Z
UID:10000148-1727096400-1727107200@meraschoolhouse.org
SUMMARY:Heritage Weavers
DESCRIPTION:Meeting Place: Dean Hall \nContact Person: Lise Loader \n \nThis collective has expanded significantly from a core group over the last few years\, to the point where space and equipment have become limiting factors. There are now 7 looms of various sizes and styles at MERA. Several of these looms are set up with extra-long warps which become cooperative projects that various members work on when they can.\nThe weavers gather to plan and work on projects and are available to share ideas\, advice and enthusiasm with each other and newer weavers. It’s an apprentice-like learn-as-you-go environment suited to those who have taken an introduction to weaving weekend workshop at a guild. MERA has on occasion had enough interest to hold such a workshop\, but there is none planned this fall. \nAs with all groups at the schoolhouse\, you must have a MERA membership to become a regular member of the MERA Heritage Weavers. \nView Gallery & History \nCheck out the 2018 MERA Weavers Exhibition: Still Weaving After 20 Years
URL:https://meraschoolhouse.org/event/heritage-weavers-23/
CATEGORIES:Weaving
END:VEVENT
BEGIN:VEVENT
DTSTART;TZID=America/Toronto:20240923T100000
DTEND;TZID=America/Toronto:20240923T140000
DTSTAMP:20260424T043307
CREATED:20240624T183346Z
LAST-MODIFIED:20240624T185639Z
UID:10000147-1727085600-1727100000@meraschoolhouse.org
SUMMARY:Homeschool Group
DESCRIPTION:Contact Person: Heather Vriends
URL:https://meraschoolhouse.org/event/homeschool-group-12/
CATEGORIES:Homeschool
END:VEVENT
BEGIN:VEVENT
DTSTART;TZID=America/Toronto:20240922T140000
DTEND;TZID=America/Toronto:20240922T160000
DTSTAMP:20260424T043307
CREATED:20240624T183346Z
LAST-MODIFIED:20240903T220131Z
UID:10000146-1727013600-1727020800@meraschoolhouse.org
SUMMARY:Music at MERA: Jocelyn Petitt and Ellen Gira
DESCRIPTION:Joining Forces in Glasgow in 2018\, Jocelyn Pettit and Ellen Gira were already two well established musicians\, who found together a kindred musical spirit. With Jocelyn on fiddle and Ellen on cello\, they push the boundaries between traditional and contemporary Celtic and folk genres to create a powerfully uplifting and soulful performance. \nFor this tour\, Jocelyn & Ellen are joined by accomplished Montreal-based guest guitarist\, Everest Witman. Together\, their instruments weave a rhythmic\, textured sound with nuanced fiddle-cello-guitar interplay. Complemented with vocal harmonies and lively stepdancing\, the dynamic trio bring life and fire into original tunes\, and high-energy repertoire from Scotland\, Ireland\, North America\, and Scandinavia. \nJocelyn and Ellen are 2024 Canadian Folk Music Award Winners for ‘Traditional Album of the Year’\, and 2024 Western Canadian Music Award Nominees for ‘Instrumental Artist of the Year’. \nFrom the West Coast of Canada\, Jocelyn Pettit is a vibrant fiddle player\, stepdancer\, and singer. As a five-time Canadian Folk Music Award Nominee (including 2023 “Solo Artist of the Year”)\, and Western Canadian Music Award Nominee\, Jocelyn has released three solo albums\, including her latest\, Wind Rose. She has toured across Canada and internationally\, appeared on CBC and BBC radio and television\, and performed with The Chieftains. \nFrom the East Coast of the USA\, Ellen Gira is establishing herself as one of the most versatile cellists in the American and Scottish Traditional music scenes. Currently based in Maryland\, she has performed throughout North America and the UK\, collaborated and recorded with numerous acclaimed traditional musicians\, and is undertaking doctoral studies in Trad Cello Pedagogy at the Royal Conservatoire of Scotland. \nWe are certain that this will be a spectacular afternoon of music and expect a capacity audience. \nFor more information and and to sample their music CLICK HERE. \nTickets are $30.00 available at TICKETS PLEASE until 11:59pm September 21\, 2024 \nDepending on availability\, tickets will be available at the door for $35.00 \nThe MERA Schoolhouse is located at 974 Dalhousie Concession 9A\, McDonald’s Corners
URL:https://meraschoolhouse.org/event/music-at-mera-jocelyn-petitt-and-ellen-gira/
CATEGORIES:Folk music,Music
ATTACH;FMTTYPE=image/jpeg:https://meraschoolhouse.org/wp-content/uploads/2024/06/JocelynEllen-Alley-Cropped-748x768-1.jpg
END:VEVENT
BEGIN:VEVENT
DTSTART;TZID=America/Toronto:20240920T130000
DTEND;TZID=America/Toronto:20240920T143000
DTSTAMP:20260424T043307
CREATED:20240624T183346Z
LAST-MODIFIED:20240827T183357Z
UID:10000145-1726837200-1726842600@meraschoolhouse.org
SUMMARY:Recorder Consort
DESCRIPTION:
URL:https://meraschoolhouse.org/event/recorder-consort-11/
CATEGORIES:Recorder
END:VEVENT
BEGIN:VEVENT
DTSTART;TZID=America/Toronto:20240920T100000
DTEND;TZID=America/Toronto:20240920T120000
DTSTAMP:20260424T043307
CREATED:20240624T183346Z
LAST-MODIFIED:20240824T053657Z
UID:10000144-1726826400-1726833600@meraschoolhouse.org
SUMMARY:Art Circle
DESCRIPTION:
URL:https://meraschoolhouse.org/event/art-circle-12/
CATEGORIES:Art,Art circle
END:VEVENT
BEGIN:VEVENT
DTSTART;TZID=America/Toronto:20240919T150000
DTEND;TZID=America/Toronto:20240919T170000
DTSTAMP:20260424T043307
CREATED:20240624T183346Z
LAST-MODIFIED:20240903T212204Z
UID:10000143-1726758000-1726765200@meraschoolhouse.org
SUMMARY:Pottery Studio - Homeschoolers
DESCRIPTION:Meeting Space: Pottery Studio (basement) \nContact Person: Heather Vriends
URL:https://meraschoolhouse.org/event/pottery-studio-homeschoolers-12/
CATEGORIES:Pottery
END:VEVENT
BEGIN:VEVENT
DTSTART;TZID=America/Toronto:20240919T120000
DTEND;TZID=America/Toronto:20240919T160000
DTSTAMP:20260424T043307
CREATED:20240624T183346Z
LAST-MODIFIED:20250310T201117Z
UID:10000142-1726747200-1726761600@meraschoolhouse.org
SUMMARY:Heritage Weavers
DESCRIPTION:Meeting Place: Dean Hall \nContact Person: Lise Loader
URL:https://meraschoolhouse.org/event/heritage-weavers-22/
CATEGORIES:Weaving
END:VEVENT
BEGIN:VEVENT
DTSTART;TZID=America/Toronto:20240919T110000
DTEND;TZID=America/Toronto:20240919T140000
DTSTAMP:20260424T043307
CREATED:20240903T192948Z
LAST-MODIFIED:20240903T192948Z
UID:10000562-1726743600-1726754400@meraschoolhouse.org
SUMMARY:Fibre Arts
DESCRIPTION:If you are interested in fibre arts (knitting\, spinning\, felting\, crocheting\, etc. join us. We bring whatever we are working on\, have tea\, chat and share ideas.
URL:https://meraschoolhouse.org/event/fibre-arts-2/
CATEGORIES:Fibre arts
ORGANIZER;CN="Michele Derry":MAILTO:lanarklady1@yahoo.ca
END:VEVENT
BEGIN:VEVENT
DTSTART;TZID=America/Toronto:20240918T130000
DTEND;TZID=America/Toronto:20240918T160000
DTSTAMP:20260424T043307
CREATED:20240624T183346Z
LAST-MODIFIED:20240828T183342Z
UID:10000141-1726664400-1726675200@meraschoolhouse.org
SUMMARY:MERA's Needle Pushers
DESCRIPTION:Meeting Space: MERA Room \nContact Person: Bonnie McQuatt \nWe welcome anyone who might have new techniques or designs to shareor perhaps just has a desire to try something new. \n \nMostof the fun of quilting is being with the people we quilt with. Newcomers learnby doing. If you would like to try quilting with us we will share our supplieswith you until you figure out if quilting is your thing or not. Therequirements for quilting are minimal. Those who have a portable sewingmachine\, rotary cutter and mat will bring that equipment when we are starting aquilt and we work together cutting out the pattern and assembling the quilt.Once the hand quilting begins each person needs their own thimble\, scissors andquilting needles.
URL:https://meraschoolhouse.org/event/meras-needle-pushers-11/
CATEGORIES:Art,Quilting
END:VEVENT
BEGIN:VEVENT
DTSTART;TZID=America/Toronto:20240918T130000
DTEND;TZID=America/Toronto:20240918T150000
DTSTAMP:20260424T043307
CREATED:20240624T183346Z
LAST-MODIFIED:20240827T162725Z
UID:10000140-1726664400-1726671600@meraschoolhouse.org
SUMMARY:Pottery Studio
DESCRIPTION:Meetings Space: Pottery Studio (basement) \nContact Person: Heather Vriends
URL:https://meraschoolhouse.org/event/pottery-studio-27/
CATEGORIES:Pottery
END:VEVENT
BEGIN:VEVENT
DTSTART;TZID=America/Toronto:20240917T190000
DTEND;TZID=America/Toronto:20240917T210000
DTSTAMP:20260424T043307
CREATED:20240624T183346Z
LAST-MODIFIED:20240822T023924Z
UID:10000139-1726599600-1726606800@meraschoolhouse.org
SUMMARY:Book Club
DESCRIPTION:Meetings are usually held the 3rd Tuesday of each month from 7pm to 9pm. We are a friendly\, respectful\, no rules book club. Each month one person will facilitate a discussion about the book chosen for that month. Discussions are always informative and lively. New members are welcome. If you see a book that peaks your interest and would like to join us for an evening’s discussion we also welcome drop-ins. You can join us by contacting Jean Dunning at 613-259-2636 or email here.    \nJan 17\, 2023: The Lincoln Highway – Amor Towles \nA story of love\, loss and friendship.
URL:https://meraschoolhouse.org/event/book-club-3/
CATEGORIES:Bookclub
END:VEVENT
BEGIN:VEVENT
DTSTART;TZID=America/Toronto:20240917T130000
DTEND;TZID=America/Toronto:20240917T150000
DTSTAMP:20260424T043307
CREATED:20240624T183345Z
LAST-MODIFIED:20240827T162725Z
UID:10000138-1726578000-1726585200@meraschoolhouse.org
SUMMARY:Pottery Studio
DESCRIPTION:Meeting Space: Pottery Studio (basement) \nContact Person: Jan Griffiths \nWe are a joyfulgroup of potters who share space\, tools and experience in the basement of theMERA schoolhouse. We are organized as a co-operative\, sharing responsibilityfor making our studio a fun\, open\, supportive and safe place to enjoy creatingworks in clay both on and away from the wheel. Each studio member is encouragedto participate in both individual and collective projects\, to contribute tostudio maintenance tasks\, and to teach and learn from the other potters. MERApotters also organize learning and teaching opportunities in the form ofin-house workshops and sessions led by professional potters and contribute tothe Annual MERA Christmas Fair.
URL:https://meraschoolhouse.org/event/pottery-studio-26/
CATEGORIES:Pottery
END:VEVENT
BEGIN:VEVENT
DTSTART;TZID=America/Toronto:20240917T050000
DTEND;TZID=America/Toronto:20240917T070000
DTSTAMP:20260424T043307
CREATED:20240624T183345Z
LAST-MODIFIED:20240624T183345Z
UID:10000137-1726549200-1726556400@meraschoolhouse.org
SUMMARY:Closed for Cleaning
DESCRIPTION:
URL:https://meraschoolhouse.org/event/closed-for-cleaning-13/
END:VEVENT
BEGIN:VEVENT
DTSTART;TZID=America/Toronto:20240916T130000
DTEND;TZID=America/Toronto:20240916T160000
DTSTAMP:20260424T043307
CREATED:20240624T183345Z
LAST-MODIFIED:20250310T201147Z
UID:10000136-1726491600-1726502400@meraschoolhouse.org
SUMMARY:Heritage Weavers
DESCRIPTION:Meeting Place: Dean Hall \nContact Person: Lise Loader \n \nThis collective has expanded significantly from a core group over the last few years\, to the point where space and equipment have become limiting factors. There are now 7 looms of various sizes and styles at MERA. Several of these looms are set up with extra-long warps which become cooperative projects that various members work on when they can.\nThe weavers gather to plan and work on projects and are available to share ideas\, advice and enthusiasm with each other and newer weavers. It’s an apprentice-like learn-as-you-go environment suited to those who have taken an introduction to weaving weekend workshop at a guild. MERA has on occasion had enough interest to hold such a workshop\, but there is none planned this fall. \nAs with all groups at the schoolhouse\, you must have a MERA membership to become a regular member of the MERA Heritage Weavers. \nView Gallery & History \nCheck out the 2018 MERA Weavers Exhibition: Still Weaving After 20 Years
URL:https://meraschoolhouse.org/event/heritage-weavers-21/
CATEGORIES:Weaving
END:VEVENT
BEGIN:VEVENT
DTSTART;TZID=America/Toronto:20240916T100000
DTEND;TZID=America/Toronto:20240916T140000
DTSTAMP:20260424T043307
CREATED:20240624T183345Z
LAST-MODIFIED:20240624T185639Z
UID:10000135-1726480800-1726495200@meraschoolhouse.org
SUMMARY:Homeschool Group
DESCRIPTION:Contact Person: Heather Vriends
URL:https://meraschoolhouse.org/event/homeschool-group-11/
CATEGORIES:Homeschool
END:VEVENT
BEGIN:VEVENT
DTSTART;TZID=America/Toronto:20240914T020000
DTEND;TZID=America/Toronto:20240914T160000
DTSTAMP:20260424T043307
CREATED:20240903T212825Z
LAST-MODIFIED:20240903T214341Z
UID:10000628-1726279200-1726329600@meraschoolhouse.org
SUMMARY:The Art of Ellen Fraser
DESCRIPTION:In September and October\, MERA welcomes art lovers to an Art Show and Meet the Artist Event Saturday September 14\, 2pm to 5pm featuring the art of Ellen Fraser. \nEllen Fraser’s life’s work has been as a jeweler. She has always loved painting\, drawing and designing jewelry. She started making jewelry as a young teenager and has been a professional jeweler since the late seventies. Her career path is well worn\, she sold her work nationally in her early years\, owned Cornerstone Gallery in Kingston for 15 years and has had occasional jewelry teaching contracts in Nunavut for 25 years. More recently\, she has been enjoying using her metalworking skills on a larger scale. She started making copper mobiles for Kiwi Gardens’ annual outdoor art event Art in the Garden. She says it is like making earrings for trees! Many locals are familiar with Ellen Fraser’s work as a jeweler as she is now represented by Riverguild in Perth. View another side of this veteran artist at MERA this September\, Ellen is showcasing some of her oil paintings – past and present\, recent drawings and copper mobiles inspired by her jewelry practice. \nI have two parallel art practices: metalwork and painting. Both share a lively interplay with each other\, and with the landscape I work or travel in. When I make jewelry\, I sometimes fuse\, stamp\, hammer and colour metal to give a strong feeling of texture. In oil painting\, I enhance the canvases with tactile qualities as well: to provide a receptive ground for oil paint that is textured\, I attach folded and sculpted cloth or bits of lace and sequins onto a canvas with glue and gesso. Similar to the way I work with a patina on textured silver to create depth\, I work with paint on the sculpted canvas in a process of applying and wiping off layers of colour. This method of embedding colour into the folds of cloth and recesses of texture gives the landscape imagery an abstract dreamlike quality.
URL:https://meraschoolhouse.org/event/the-art-of-ellen-fraser/
LOCATION:MERA Schoolhouse\,  McDonald’s Corners
CATEGORIES:Art exhibits
ATTACH;FMTTYPE=image/jpeg:https://meraschoolhouse.org/wp-content/uploads/2024/09/Fraser-Above-Kinngait-Drawing-reduced-400x387-2.jpg
END:VEVENT
BEGIN:VEVENT
DTSTART;TZID=America/Toronto:20240913T130000
DTEND;TZID=America/Toronto:20240913T143000
DTSTAMP:20260424T043307
CREATED:20240624T183345Z
LAST-MODIFIED:20240827T183459Z
UID:10000134-1726232400-1726237800@meraschoolhouse.org
SUMMARY:Recorder Consort
DESCRIPTION:
URL:https://meraschoolhouse.org/event/recorder-consort-10/
CATEGORIES:Recorder
END:VEVENT
BEGIN:VEVENT
DTSTART;TZID=America/Toronto:20240913T100000
DTEND;TZID=America/Toronto:20240913T120000
DTSTAMP:20260424T043307
CREATED:20240624T183345Z
LAST-MODIFIED:20240824T053657Z
UID:10000133-1726221600-1726228800@meraschoolhouse.org
SUMMARY:Art Circle
DESCRIPTION:
URL:https://meraschoolhouse.org/event/art-circle-11/
CATEGORIES:Art,Art circle
END:VEVENT
BEGIN:VEVENT
DTSTART;TZID=America/Toronto:20240912T150000
DTEND;TZID=America/Toronto:20240912T170000
DTSTAMP:20260424T043307
CREATED:20240624T183345Z
LAST-MODIFIED:20240827T162725Z
UID:10000132-1726153200-1726160400@meraschoolhouse.org
SUMMARY:Pottery Studio - Homeschoolers
DESCRIPTION:Meeting Space: Pottery Studio (basement) \nContact Person: Heather Vriends
URL:https://meraschoolhouse.org/event/pottery-studio-homeschoolers-11/
CATEGORIES:Pottery
END:VEVENT
BEGIN:VEVENT
DTSTART;TZID=America/Toronto:20240912T120000
DTEND;TZID=America/Toronto:20240912T160000
DTSTAMP:20260424T043307
CREATED:20240624T183345Z
LAST-MODIFIED:20250310T201147Z
UID:10000131-1726142400-1726156800@meraschoolhouse.org
SUMMARY:Heritage Weavers
DESCRIPTION:Meeting Place: Dean Hall \nContact Person: Lise Loader
URL:https://meraschoolhouse.org/event/heritage-weavers-20/
CATEGORIES:Art,Weaving
END:VEVENT
END:VCALENDAR