BEGIN:VCALENDAR
VERSION:2.0
PRODID:-//MERA - ECPv6.15.11//NONSGML v1.0//EN
CALSCALE:GREGORIAN
METHOD:PUBLISH
X-WR-CALNAME:MERA
X-ORIGINAL-URL:https://meraschoolhouse.org
X-WR-CALDESC:Events for MERA
REFRESH-INTERVAL;VALUE=DURATION:PT1H
X-Robots-Tag:noindex
X-PUBLISHED-TTL:PT1H
BEGIN:VTIMEZONE
TZID:America/Toronto
BEGIN:DAYLIGHT
TZOFFSETFROM:-0500
TZOFFSETTO:-0400
TZNAME:EDT
DTSTART:20230312T070000
END:DAYLIGHT
BEGIN:STANDARD
TZOFFSETFROM:-0400
TZOFFSETTO:-0500
TZNAME:EST
DTSTART:20231105T060000
END:STANDARD
BEGIN:DAYLIGHT
TZOFFSETFROM:-0500
TZOFFSETTO:-0400
TZNAME:EDT
DTSTART:20240310T070000
END:DAYLIGHT
BEGIN:STANDARD
TZOFFSETFROM:-0400
TZOFFSETTO:-0500
TZNAME:EST
DTSTART:20241103T060000
END:STANDARD
BEGIN:DAYLIGHT
TZOFFSETFROM:-0500
TZOFFSETTO:-0400
TZNAME:EDT
DTSTART:20250309T070000
END:DAYLIGHT
BEGIN:STANDARD
TZOFFSETFROM:-0400
TZOFFSETTO:-0500
TZNAME:EST
DTSTART:20251102T060000
END:STANDARD
END:VTIMEZONE
BEGIN:VEVENT
DTSTART;TZID=America/Toronto:20240926T110000
DTEND;TZID=America/Toronto:20240926T140000
DTSTAMP:20260421T074808
CREATED:20240903T192948Z
LAST-MODIFIED:20240903T192948Z
UID:10000563-1727348400-1727359200@meraschoolhouse.org
SUMMARY:Fibre Arts
DESCRIPTION:If you are interested in fibre arts (knitting\, spinning\, felting\, crocheting\, etc. join us. We bring whatever we are working on\, have tea\, chat and share ideas.
URL:https://meraschoolhouse.org/event/fibre-arts-3/
CATEGORIES:Fibre arts
ORGANIZER;CN="Michele Derry":MAILTO:lanarklady1@yahoo.ca
END:VEVENT
BEGIN:VEVENT
DTSTART;TZID=America/Toronto:20240919T110000
DTEND;TZID=America/Toronto:20240919T140000
DTSTAMP:20260421T074808
CREATED:20240903T192948Z
LAST-MODIFIED:20240903T192948Z
UID:10000562-1726743600-1726754400@meraschoolhouse.org
SUMMARY:Fibre Arts
DESCRIPTION:If you are interested in fibre arts (knitting\, spinning\, felting\, crocheting\, etc. join us. We bring whatever we are working on\, have tea\, chat and share ideas.
URL:https://meraschoolhouse.org/event/fibre-arts-2/
CATEGORIES:Fibre arts
ORGANIZER;CN="Michele Derry":MAILTO:lanarklady1@yahoo.ca
END:VEVENT
BEGIN:VEVENT
DTSTART;TZID=America/Toronto:20240912T110000
DTEND;TZID=America/Toronto:20240912T140000
DTSTAMP:20260421T074808
CREATED:20240903T180515Z
LAST-MODIFIED:20240903T184307Z
UID:10000561-1726138800-1726149600@meraschoolhouse.org
SUMMARY:Fibre Arts
DESCRIPTION:  \nIf you are interested in fibre arts (knitting\, spinning\, felting\, crocheting\, etc. join us. We bring whatever we are working on\, have tea\, chat and share ideas. \n 
URL:https://meraschoolhouse.org/event/7826/
CATEGORIES:Fibre arts
ORGANIZER;CN="Michele Derry":MAILTO:lanarklady1@yahoo.ca
END:VEVENT
BEGIN:VEVENT
DTSTART;TZID=America/Toronto:20240905T110000
DTEND;TZID=America/Toronto:20240905T140000
DTSTAMP:20260421T074808
CREATED:20240903T162442Z
LAST-MODIFIED:20240903T182816Z
UID:10000560-1725534000-1725544800@meraschoolhouse.org
SUMMARY:Fibre Arts
DESCRIPTION:  \nIf you are interested in fibre arts (knitting\, spinning\, felting\, crocheting\, etc. join us. We bring whatever we are working on\, have tea\, chat and share ideas. \n 
URL:https://meraschoolhouse.org/event/fibre-arts/
CATEGORIES:Fibre arts
ORGANIZER;CN="Michele Derry":MAILTO:lanarklady1@yahoo.ca
END:VEVENT
END:VCALENDAR